Workbook

Sheet AL 1.1
D2: Atividade Laboratorial
D4: AL 1.1 Queda livre: força gravítica e aceleração da gravidade
D6: Objetivo geral: Determinar a aceleração da gravidade num movimento de queda livre e verificar se depende da massa dos corpos.

Sheet Execução Laboratorial - 1
C2: Atividade Laboratorial
C4: AL 1.1 Queda livre: força gravítica e aceleração da gravidade
C6: Execução Laboratorial
H8: Aparelhos de medida
H9: Balança | L9: Craveira* | P9: Cronómetro
C11: Grandeza física | H11: massa | L11: diâmetro | P11: tempo de queda | T11: tempo de passagem
C12: Menor divisão de leitura/unidade | H12: 0,0001 g | L12: 0,02 mm | P12: 0,001 ms | T12: 0,01 ms
C13: Digital/Analógico | H13: Digital | L13: Analógico | P13: Digital | T13: Digital
C14: Incerteza absoluta de leitura/unidade | H14: 0,0001 g | L14: 0,02 mm | P14: 0,001 ms | T14: 0,01 ms
C16: Tabela 1. Caracterização de cada instrumento de medida
C18: *NOTA: A craveira analógica é uma exceção aos instrumentos analógicos; a incerteza absoluta de leitura coincide com a menor divisão do nónio.

Sheet Execução Laboratorial - 2.1
B2: Atividade Laboratorial
B4: AL 1.1 Queda livre: força gravítica e aceleração da gravidade
B6: Execução Laboratorial
B7: Grupo 1 | M7: coluna a ocultar
M8: auxiliar gráfico discussão final
B9: Medições diretas | F9: Medições indiretas
B10: massa | C10: diâmetro | D10: Tempo de passagem | E10: Tempo de queda | F10: Tempo médio de passagem | G10: Tempo médio de queda | H10: Velocidade posição B | I10: Aceleração
B11: m/g | C11: d/m | D11: Δtpassagem/ms | E11: Δtqueda/ms | H11: vpassagem/ms-1 | I11: a/ms-2
B12: 0.0001 | C12: 2e-05 | D12: 0.001 | E12: 0.01
B13: 5.1565 | C13: 0.0158 | D13: 3.143 | E13: 574.13 | F13: =IFERROR(AVERAGE(D13:D57)/1000,"Sem dados!") -> 0.0028698519 | G13: =IFERROR(AVERAGE(E13:E57)/1000,"Sem dados!") -> 0.56537333 | H13: =IF(F13="Sem dados!","-",C13/F13) -> 5.5055107 | I13: =IF(G13="Sem dados!","-",H13/G13) -> 9.7378322
D14: 2.883 | E14: 555.95
D15: 2.695 | E15: 571.28
D16: 2.965 | E16: 565.83
D17: 2.94 | E17: 563.38
D18: 2.843 | E18: 563.56
D19: 2.833 | E19: 562.15
D20: 2.859 | E20: 562.59
D21: 3.092 | E21: 564.58
D22: 2.892 | E22: 562.65
D23: 2.694 | E23: 570.34
D24: 2.795 | E24: 570.74
D25: 2.838 | E25: 568.1
... D39: 2.639 | E39: 568.03
B59: Tabela 2.1 Registo das medições diretas e indiretas que permitem determinar o módulo da componente escalar da aceleração gravítica, para corpos de diferentes massas.

Sheet Execução Laboratorial - 2.2
B2: Atividade Laboratorial
B4: AL 1.1 Queda livre: força gravítica e aceleração da gravidade
B6: Execução Laboratorial
B7: Grupo 2 | M7: coluna a ocultar
M8: auxiliar gráfico discussão final
B9: Medições diretas | F9: Medições indiretas
B10: massa | C10: diâmetro | D10: Tempo de passagem | E10: Tempo de queda | F10: Tempo médio de passagem | G10: Tempo médio de queda | H10: Velocidade posição B | I10: Aceleração
B11: m/g | C11: d/m | D11: Δtpassagem/ms | E11: Δtqueda/ms | H11: vpassagem/ms-1 | I11: a/ms-2
B12: 0.0001 | C12: 2e-05 | D12: 0.001 | E12: 0.01
B13: 4.6859 | C13: 0.0153 | D13: 2.952 | E13: 549.54 | F13: =IFERROR(AVERAGE(D13:D57)/1000,"Sem dados!") -> 0.0028932222 | G13: =IFERROR(AVERAGE(E13:E57)/1000,"Sem dados!") -> 0.54885815 | H13: =IF(F13="Sem dados!","-",C13/F13) -> 5.2882215 | I13: =IF(G13="Sem dados!","-",H13/G13) -> 9.6349513
D14: 2.947 | E14: 557.66
D15: 2.968 | E15: 568.97
D16: 2.939 | E16: 571.16
D17: 2.73 | E17: 561.82
D18: 2.879 | E18: 544.36
D19: 2.687 | E19: 538.12
D20: 2.803 | E20: 548.24
D21: 2.893 | E21: 545.16
D22: 2.845 | E22: 545.69
D23: 2.92 | E23: 540.76
D24: 2.898 | E24: 549.53
D25: 2.924 | E25: 548.33
... D32: 2.887 | E32: 537.26
D33: 2.946 | E33: 543.29 | K33: =B13 -> 4.6859
D34: 2.821 | E34: 550.19
D35: 2.948 | E35: 537.83
D36: 2.959 | E36: 553.33
D37: 2.744 | E37: 542.91
D38: 2.992 | E38: 542.5
D39: 2.879 | E39: 545.48
B59: Tabela 2.1 Registo das medições diretas e indiretas que permitem determinar o módulo da componente escalar da aceleração gravítica, para corpos de diferentes massas.

Sheet Execução Laboratorial - 2.3
B2: Atividade Laboratorial
B4: AL 1.1 Queda livre: força gravítica e aceleração da gravidade
B6: Execução Laboratorial
B7: Grupo 3 | M7: coluna a ocultar
M8: auxiliar gráfico discussão final
B9: Medições diretas | F9: Medições indiretas
B10: massa | C10: diâmetro | D10: Tempo de passagem | E10: Tempo de queda | F10: Tempo médio de passagem | G10: Tempo médio de queda | H10: Velocidade posição B | I10: Aceleração
B11: m/g | C11: d/m | D11: Δtpassagem/ms | E11: Δtqueda/ms | H11: vpassagem/ms-1 | I11: a/ms-2
F13: =IFERROR(AVERAGE(D13:D57)/1000,"Sem dados!") -> Sem dados! | G13: =IFERROR(AVERAGE(E13:E57)/1000,"Sem dados!") -> Sem dados! | H13: =IF(F13="Sem dados!","-",C13/F13) -> - | I13: =IF(G13="Sem dados!","-",H13/G13) -> -
B59: Tabela 2.1 Registo das medições diretas e indiretas que permitem determinar o módulo da componente escalar da aceleração gravítica, para corpos de diferentes massas.

Sheet Execução Laboratorial - 2.4
B2: Atividade Laboratorial
B4: AL 1.1 Queda livre: força gravítica e aceleração da gravidade
B6: Execução Laboratorial
B7: Grupo 4 | M7: coluna a ocultar
M8: auxiliar gráfico discussão final
B9: Medições diretas | F9: Medições indiretas
B10: massa | C10: diâmetro | D10: Tempo de passagem | E10: Tempo de queda | F10: Tempo médio de passagem | G10: Tempo médio de queda | H10: Velocidade posição B | I10: Aceleração
B11: m/g | C11: d/m | D11: Δtpassagem/ms | E11: Δtqueda/ms | H11: vpassagem/ms-1 | I11: a/ms-2
F13: =IFERROR(AVERAGE(D13:D57)/1000,"Sem dados!") -> Sem dados! | G13: =IFERROR(AVERAGE(E13:E57)/1000,"Sem dados!") -> Sem dados! | H13: =IF(F13="Sem dados!","-",C13/F13) -> - | I13: =IF(G13="Sem dados!","-",H13/G13) -> -
B59: Tabela 2.1 Registo das medições diretas e indiretas que permitem determinar o módulo da componente escalar da aceleração gravítica, para corpos de diferentes massas.

Sheet Análise e Discussão - Final
B2: Atividade Laboratorial
B4: AL 1.1 Queda livre: força gravítica e aceleração da gravidade
B6: Análise e discussão
B9: aceleração gravítica: g = | E9: 9.801 | F9: ms-2
B11: ='Execução Laboratorial - 2.1'!B7 -> Grupo 1
C12: m/g | D12: a/ms-2 | E12: er/%
C13: ='Execução Laboratorial - 2.1'!B13 -> 5.1565 | D13: ='Execução Laboratorial - 2.1'!I13 -> 9.7378322 | E13: =IF(D13="-","-",(ABS(E$9-D13)/E$9)*100) -> 0.64450322
B15: ='Execução Laboratorial - 2.2'!B7 -> Grupo 2
C16: m/g | D16: a/ms-2 | E16: er/%
C17: ='Execução Laboratorial - 2.2'!B13 -> 4.6859 | D17: ='Execução Laboratorial - 2.2'!I13 -> 9.6349513 | E17: =IF(D17="-","-",(ABS(E$9-D17)/E$9)*100) -> 1.6942019
B19: ='Execução Laboratorial - 2.3'!B7 -> Grupo 3
C20: m/g | D20: a/ms-2 | E20: er/%
C21: ='Execução Laboratorial - 2.3'!B13 -> 0 | D21: ='Execução Laboratorial - 2.3'!I13 -> - | E21: =IF(D21="-","-",(ABS(E$9-D21)/E$9)*100) -> -
B23: ='Execução Laboratorial - 2.4'!B7 -> Grupo 4
C24: m/g | D24: a/ms-2 | E24: er/%
C25: ='Execução Laboratorial - 2.4'!B13 -> 0 | D25: ='Execução Laboratorial - 2.4'!I13 -> - | E25: =IF(D25="-","-",(ABS(E$9-D25)/E$9)*100) -> -
