Workbook

Sheet Grelha
B1: Novo Espaço
AI2: Ok
B3: Grelha para correção de testes | AI3: X
B5: Turma: | C5: 12.º ano
B6: Data: | C6: janeiro - 2019
D8: Questões | E8: 1.1. | F8: 1.2. | G8: 2.1. | H8: 2.2. | I8: 3.1. | J8: 3.2. | K8: 4. | L8: 5. | M8: 6.1. | N8: 6.2.a) | O8: 6.2.b) | P8: 7.1. | Q8: 7.2. | R8: 8.1. | S8: 8.2. | T8: 9.
B9: N.º | C9: Aluno | D9: Cotações | E9: 12 | F9: 15 | G9: 12 | H9: 12 | I9: 12 | J9: 15 | K9: 17 | L9: 12 | M9: 12 | N9: 10 | O9: 12 | P9: 12 | Q9: 15 | R9: 10 | S9: 10 | T9: 12 | AE9: =IF(SUM(E9:AC9)=0,"",SUM(E9:AC9)) -> 200 | AG9: Classificação
B10: 1 | AE10: =IF(OR(AI10="",AE$9=""),"",SUM(E10:AC10)) | AG10: =IF(OR(AI10="",$AE$9=""),"",20*AE10/$AE$9) | AH10: =IF(C10="","",C10) | AI10: =IF(COUNTIF(E10:AC10,"<>"&"")>0,1,"")
B11: =B10+1 -> 2 | AE11: =IF(OR(AI11="",AE$9=""),"",SUM(E11:AC11)) | AG11: =IF(OR(AI11="",$AE$9=""),"",20*AE11/$AE$9) | AH11: =IF(C11="","",C11) | AI11: =IF(COUNTIF(E11:AC11,"<>"&"")>0,1,"")
B12: =B11+1 -> 3 | AE12: =IF(OR(AI12="",AE$9=""),"",SUM(E12:AC12)) | AG12: =IF(OR(AI12="",$AE$9=""),"",20*AE12/$AE$9) | AH12: =IF(C12="","",C12) | AI12: =IF(COUNTIF(E12:AC12,"<>"&"")>0,1,"")
B13: =B12+1 -> 4 | AE13: =IF(OR(AI13="",AE$9=""),"",SUM(E13:AC13)) | AG13: =IF(OR(AI13="",$AE$9=""),"",20*AE13/$AE$9) | AH13: =IF(C13="","",C13) | AI13: =IF(COUNTIF(E13:AC13,"<>"&"")>0,1,"")
B14: =B13+1 -> 5 | AE14: =IF(OR(AI14="",AE$9=""),"",SUM(E14:AC14)) | AG14: =IF(OR(AI14="",$AE$9=""),"",20*AE14/$AE$9) | AH14: =IF(C14="","",C14) | AI14: =IF(COUNTIF(E14:AC14,"<>"&"")>0,1,"")
B15: =B14+1 -> 6 | AE15: =IF(OR(AI15="",AE$9=""),"",SUM(E15:AC15)) | AG15: =IF(OR(AI15="",$AE$9=""),"",20*AE15/$AE$9) | AH15: =IF(C15="","",C15) | AI15: =IF(COUNTIF(E15:AC15,"<>"&"")>0,1,"")
B16: =B15+1 -> 7 | AE16: =IF(OR(AI16="",AE$9=""),"",SUM(E16:AC16)) | AG16: =IF(OR(AI16="",$AE$9=""),"",20*AE16/$AE$9) | AH16: =IF(C16="","",C16) | AI16: =IF(COUNTIF(E16:AC16,"<>"&"")>0,1,"")
B17: =B16+1 -> 8 | AE17: =IF(OR(AI17="",AE$9=""),"",SUM(E17:AC17)) | AG17: =IF(OR(AI17="",$AE$9=""),"",20*AE17/$AE$9) | AH17: =IF(C17="","",C17) | AI17: =IF(COUNTIF(E17:AC17,"<>"&"")>0,1,"")
B18: =B17+1 -> 9 | AE18: =IF(OR(AI18="",AE$9=""),"",SUM(E18:AC18)) | AG18: =IF(OR(AI18="",$AE$9=""),"",20*AE18/$AE$9) | AH18: =IF(C18="","",C18) | AI18: =IF(COUNTIF(E18:AC18,"<>"&"")>0,1,"")
B19: =B18+1 -> 10 | AE19: =IF(OR(AI19="",AE$9=""),"",SUM(E19:AC19)) | AG19: =IF(OR(AI19="",$AE$9=""),"",20*AE19/$AE$9) | AH19: =IF(C19="","",C19) | AI19: =IF(COUNTIF(E19:AC19,"<>"&"")>0,1,"")
B20: =B19+1 -> 11 | AE20: =IF(OR(AI20="",AE$9=""),"",SUM(E20:AC20)) | AG20: =IF(OR(AI20="",$AE$9=""),"",20*AE20/$AE$9) | AH20: =IF(C20="","",C20) | AI20: =IF(COUNTIF(E20:AC20,"<>"&"")>0,1,"")
B21: =B20+1 -> 12 | AE21: =IF(OR(AI21="",AE$9=""),"",SUM(E21:AC21)) | AG21: =IF(OR(AI21="",$AE$9=""),"",20*AE21/$AE$9) | AH21: =IF(C21="","",C21) | AI21: =IF(COUNTIF(E21:AC21,"<>"&"")>0,1,"")
B22: =B21+1 -> 13 | AE22: =IF(OR(AI22="",AE$9=""),"",SUM(E22:AC22)) | AG22: =IF(OR(AI22="",$AE$9=""),"",20*AE22/$AE$9) | AH22: =IF(C22="","",C22) | AI22: =IF(COUNTIF(E22:AC22,"<>"&"")>0,1,"")
... B49: =B48+1 -> 40 | AE49: =IF(OR(AI49="",AE$9=""),"",SUM(E49:AC49)) | AG49: =IF(OR(AI49="",$AE$9=""),"",20*AE49/$AE$9) | AH49: =IF(C49="","",C49) | AI49: =IF(COUNTIF(E49:AC49,"<>"&"")>0,1,"")
D50: quotacoes | E50: =IF(E$9="","",E$9) -> 12 | F50: =IF(F$9="","",F$9) -> 15 | G50: =IF(G$9="","",G$9) -> 12 | H50: =IF(H$9="","",H$9) -> 12 | I50: =IF(I$9="","",I$9) -> 12 | J50: =IF(J$9="","",J$9) -> 15 | K50: =IF(K$9="","",K$9) -> 17 | L50: =IF(L$9="","",L$9) -> 12 | ... N50: =IF(N$9="","",N$9) -> 10
E51: 0 | F51: 0 | G51: 0 | H51: 0 | I51: 0 | J51: 0 | K51: 0 | L51: 0 | M51: 0 | N51: 0
B52: total: | C52: =SUM($AI10:$AI50) -> 0 | D52: certas | E52: =IF(E$9>0,COUNTIF(E$10:E$49,"="&E$9),0) -> 0 | F52: =IF(F$9>0,COUNTIF(F$10:F$49,"="&F$9),0) -> 0 | G52: =IF(G$9>0,COUNTIF(G$10:G$49,"="&G$9),0) -> 0 | H52: =IF(H$9>0,COUNTIF(H$10:H$49,"="&H$9),0) -> 0 | I52: =IF(I$9>0,COUNTIF(I$10:I$49,"="&I$9),0) -> 0 | J52: =IF(J$9>0,COUNTIF(J$10:J$49,"="&J$9),0) -> 0 | K52: =IF(K$9>0,COUNTIF(K$10:K$49,"="&K$9),0) -> 0 | L52: =IF(L$9>0,COUNTIF(L$10:L$49,"="&L$9),0) -> 0 | ... AC52: =IF(AC$9>0,COUNTIF(AC$10:AC$49,"="&AC$9),0) -> 0
D53: incompletas | E53: =IF(E$9>0,$C$52-SUM(E$54,E$52),0) -> 0 | F53: =IF(F$9>0,$C$52-SUM(F$54,F$52),0) -> 0 | G53: =IF(G$9>0,$C$52-SUM(G$54,G$52),0) -> 0 | H53: =IF(H$9>0,$C$52-SUM(H$54,H$52),0) -> 0 | I53: =IF(I$9>0,$C$52-SUM(I$54,I$52),0) -> 0 | J53: =IF(J$9>0,$C$52-SUM(J$54,J$52),0) -> 0 | K53: =IF(K$9>0,$C$52-SUM(K$54,K$52),0) -> 0 | L53: =IF(L$9>0,$C$52-SUM(L$54,L$52),0) -> 0 | ... AC53: =IF(AC$9>0,$C$52-SUM(AC$54,AC$52),0) -> 0
D54: erradas | E54: =IF(E$9>0,COUNTIF(E$10:E$49,"="&0),0) -> 0 | F54: =IF(F$9>0,COUNTIF(F$10:F$49,"="&0),0) -> 0 | G54: =IF(G$9>0,COUNTIF(G$10:G$49,"="&0),0) -> 0 | H54: =IF(H$9>0,COUNTIF(H$10:H$49,"="&0),0) -> 0 | I54: =IF(I$9>0,COUNTIF(I$10:I$49,"="&0),0) -> 0 | J54: =IF(J$9>0,COUNTIF(J$10:J$49,"="&0),0) -> 0 | K54: =IF(K$9>0,COUNTIF(K$10:K$49,"="&0),0) -> 0 | L54: =IF(L$9>0,COUNTIF(L$10:L$49,"="&0),0) -> 0 | ... AC54: =IF(AC$9>0,COUNTIF(AC$10:AC$49,"="&0),0) -> 0

Sheet Resultados
B1: Novo Espaço
B19: Negativas | C19: =SUM(I20:I21) -> 0 | H19: Nível | I19: N.º | J19: %
B20: Positivas | C20: =SUM(I22:I24) -> 0 | G20: 0 | H20: =G20&" - "&G21-1 -> 0 - 4 | I20: =COUNTIF(Grelha!$AG$10:$AG$49,"<"&(G21-0.5))-COUNTIF(Grelha!$AG$10:$AG$50,"<"&(G20-0.5)) -> 0 | J20: =IF(I25>0,I20/I$25,"")
G21: 5 | H21: =G21&" - "&G22-1 -> 5 - 9 | I21: =COUNTIF(Grelha!$AG$10:$AG$49,"<"&(G22-0.5))-COUNTIF(Grelha!$AG$10:$AG$50,"<"&(G21-0.5)) -> 0 | J21: =IF(D15>0,I21/I$25,"")
G22: 10 | H22: =G22&" - "&G23-1 -> 10 - 13 | I22: =COUNTIF(Grelha!$AG$10:$AG$49,"<"&(G23-0.5))-COUNTIF(Grelha!$AG$10:$AG$50,"<"&(G22-0.5)) -> 0 | J22: =IF(D16>0,I22/I$25,"")
G23: 14 | H23: =G23&" - "&G24-1 -> 14 - 16 | I23: =COUNTIF(Grelha!$AG$10:$AG$49,"<"&(G24-0.5))-COUNTIF(Grelha!$AG$10:$AG$50,"<"&(G23-0.5)) -> 0 | J23: =IF(D17>0,I23/I$25,"")
G24: 17 | H24: =G24&" - "&G25-1 -> 17 - 20 | I24: =COUNTIF(Grelha!$AG$10:$AG$49,"<"&(G25-0.5))-COUNTIF(Grelha!$AG$10:$AG$50,"<"&(G24-0.5)) -> 0 | J24: =IF(D18>0,I24/I$25,"")
G25: 21 | H25: Total | I25: =COUNTIF(Grelha!$AG$10:$AG$49,"<"&(G26-0.5))-COUNTIF(Grelha!$AG$10:$AG$50,"<"&(G25-0.5)) -> 0 | J25: =SUM(J20:J24) -> 0

Sheet Análise
B1: Novo Espaço
B17: questoes | C17: =IF(Grelha!E8="","",Grelha!E8) -> 1.1. | D17: =IF(Grelha!F8="","",Grelha!F8) -> 1.2. | E17: =IF(Grelha!G8="","",Grelha!G8) -> 2.1. | F17: =IF(Grelha!H8="","",Grelha!H8) -> 2.2. | G17: =IF(Grelha!I8="","",Grelha!I8) -> 3.1. | H17: =IF(Grelha!J8="","",Grelha!J8) -> 3.2. | I17: =IF(Grelha!K8="","",Grelha!K8) -> 4. | J17: =IF(Grelha!L8="","",Grelha!L8) -> 5. | ... AA17: =IF(Grelha!AC8="","",Grelha!AC8) | AB17: FIM
B18: certas | C18: =IF(OR(Grelha!E52="",Grelha!E52=0),"",Grelha!E52) | D18: =IF(OR(Grelha!F52="",Grelha!F52=0),"",Grelha!F52) | E18: =IF(OR(Grelha!G52="",Grelha!G52=0),"",Grelha!G52) | F18: =IF(OR(Grelha!H52="",Grelha!H52=0),"",Grelha!H52) | G18: =IF(OR(Grelha!I52="",Grelha!I52=0),"",Grelha!I52) | H18: =IF(OR(Grelha!J52="",Grelha!J52=0),"",Grelha!J52) | I18: =IF(OR(Grelha!K52="",Grelha!K52=0),"",Grelha!K52) | J18: =IF(OR(Grelha!L52="",Grelha!L52=0),"",Grelha!L52) | ... AA18: =IF(OR(Grelha!AC52="",Grelha!AC52=0),"",Grelha!AC52) | AB18: FIM | AC18: =IF(OR(Grelha!AE52="",Grelha!AE52=0),"",Grelha!AE52) | AD18: =IF(OR(Grelha!AF52="",Grelha!AF52=0),"",Grelha!AF52) | AE18: =IF(OR(Grelha!AG52="",Grelha!AG52=0),"",Grelha!AG52) | AF18: =IF(OR(Grelha!AH52="",Grelha!AH52=0),"",Grelha!AH52) | AG18: =IF(OR(Grelha!AI52="",Grelha!AI52=0),"",Grelha!AI52) | AH18: =IF(OR(Grelha!AJ52="",Grelha!AJ52=0),"",Grelha!AJ52)
B19: incompletas | C19: =IF(OR(Grelha!E53="",Grelha!E53=0),"",Grelha!E53) | D19: =IF(OR(Grelha!F53="",Grelha!F53=0),"",Grelha!F53) | E19: =IF(OR(Grelha!G53="",Grelha!G53=0),"",Grelha!G53) | F19: =IF(OR(Grelha!H53="",Grelha!H53=0),"",Grelha!H53) | G19: =IF(OR(Grelha!I53="",Grelha!I53=0),"",Grelha!I53) | H19: =IF(OR(Grelha!J53="",Grelha!J53=0),"",Grelha!J53) | I19: =IF(OR(Grelha!K53="",Grelha!K53=0),"",Grelha!K53) | J19: =IF(OR(Grelha!L53="",Grelha!L53=0),"",Grelha!L53) | ... AA19: =IF(OR(Grelha!AC53="",Grelha!AC53=0),"",Grelha!AC53) | AB19: FIM | AC19: =IF(OR(Grelha!AE53="",Grelha!AE53=0),"",Grelha!AE53) | AD19: =IF(OR(Grelha!AF53="",Grelha!AF53=0),"",Grelha!AF53) | AE19: =IF(OR(Grelha!AG53="",Grelha!AG53=0),"",Grelha!AG53) | AF19: =IF(OR(Grelha!AH53="",Grelha!AH53=0),"",Grelha!AH53) | AG19: =IF(OR(Grelha!AI53="",Grelha!AI53=0),"",Grelha!AI53) | AH19: =IF(OR(Grelha!AJ53="",Grelha!AJ53=0),"",Grelha!AJ53)
B20: erradas | C20: =IF(OR(Grelha!E54="",Grelha!E54=0),"",Grelha!E54) | D20: =IF(OR(Grelha!F54="",Grelha!F54=0),"",Grelha!F54) | E20: =IF(OR(Grelha!G54="",Grelha!G54=0),"",Grelha!G54) | F20: =IF(OR(Grelha!H54="",Grelha!H54=0),"",Grelha!H54) | G20: =IF(OR(Grelha!I54="",Grelha!I54=0),"",Grelha!I54) | H20: =IF(OR(Grelha!J54="",Grelha!J54=0),"",Grelha!J54) | I20: =IF(OR(Grelha!K54="",Grelha!K54=0),"",Grelha!K54) | J20: =IF(OR(Grelha!L54="",Grelha!L54=0),"",Grelha!L54) | ... AA20: =IF(OR(Grelha!AC54="",Grelha!AC54=0),"",Grelha!AC54) | AB20: FIM | AC20: =IF(OR(Grelha!AE54="",Grelha!AE54=0),"",Grelha!AE54) | AD20: =IF(OR(Grelha!AF54="",Grelha!AF54=0),"",Grelha!AF54) | AE20: =IF(OR(Grelha!AG54="",Grelha!AG54=0),"",Grelha!AG54) | AF20: =IF(OR(Grelha!AH54="",Grelha!AH54=0),"",Grelha!AH54) | AG20: =IF(OR(Grelha!AI54="",Grelha!AI54=0),"",Grelha!AI54) | AH20: =IF(OR(Grelha!AJ54="",Grelha!AJ54=0),"",Grelha!AJ54)
