Workbook

Sheet Grelha Correção
B2: Disciplina: | C2: Ciências Naturais | K2: Ano/Turma: | S2: Professor:
B4: Teste nº: | C4: 2 C | Y4: Data:
C6: Objetivos avaliados no teste:
C7: Domínio: A água, o ar, as rochas e o solo — materiais terrestres Subdomínio: A importância da água para os seres vivos; A importância do ar para os seres vivos.
C9: 1.1 (I) | D9: 1.2 (II) | E9: 1.1(III) | F9: 1.2 | G9: 2.1 | H9: 2.2 | I9: 2.2 | J9: 3. | K9: 4.1 | L9: 5. | M9: 6.1 | N9: 6.2 | O9: 7.1 | P9: 7.2 | Q9: 8. | R9: 9.1(I) | S9: 9.1(II) | T9: 10. | AC9: TOTAL
A10: Nº | B10: Nome: Cotação: | C10: 6 | D10: 6 | E10: 6 | F10: 4 | G10: 6 | H10: 6 | I10: 6 | J10: 4 | K10: 6 | L10: 6 | M10: 2 | N10: 6 | O10: 6 | P10: 6 | Q10: 6 | R10: 6 | S10: 6 | T10: 6 | AC10: =SUM(C10:AB10) -> 100 | AD10: Apreciação
A11: 1 | AC11: =IF(COUNTA(B11)>0,(SUM(C11:AB11)),($AE$11)) -> - | AD11: =IF(AC11=$AE$11,"",IF(AC11<19.5,"Fraco",IF(AC11<49.5,"Não Satisfaz",IF(AC11<69.5,"Satisfaz",IF(AC11<89.5,"Satisfaz Bastante","Excelente"))))) | AE11: -
A12: 2 | AC12: =IF(COUNTA(B12)>0,(SUM(C12:AB12)),($AE$11)) -> - | AD12: =IF(AC12=$AE$11,"",IF(AC12<19.5,"Fraco",IF(AC12<49.5,"Não Satisfaz",IF(AC12<69.5,"Satisfaz",IF(AC12<89.5,"Satisfaz Bastante","Excelente")))))
A13: 3 | AC13: =IF(COUNTA(B13)>0,(SUM(C13:AB13)),($AE$11)) -> - | AD13: =IF(AC13=$AE$11,"",IF(AC13<19.5,"Fraco",IF(AC13<49.5,"Não Satisfaz",IF(AC13<69.5,"Satisfaz",IF(AC13<89.5,"Satisfaz Bastante","Excelente")))))
A14: 4 | AC14: =IF(COUNTA(B14)>0,(SUM(C14:AB14)),($AE$11)) -> - | AD14: =IF(AC14=$AE$11,"",IF(AC14<19.5,"Fraco",IF(AC14<49.5,"Não Satisfaz",IF(AC14<69.5,"Satisfaz",IF(AC14<89.5,"Satisfaz Bastante","Excelente")))))
A15: 5 | AC15: =IF(COUNTA(B15)>0,(SUM(C15:AB15)),($AE$11)) -> - | AD15: =IF(AC15=$AE$11,"",IF(AC15<19.5,"Fraco",IF(AC15<49.5,"Não Satisfaz",IF(AC15<69.5,"Satisfaz",IF(AC15<89.5,"Satisfaz Bastante","Excelente")))))
A16: 6 | AC16: =IF(COUNTA(B16)>0,(SUM(C16:AB16)),($AE$11)) -> - | AD16: =IF(AC16=$AE$11,"",IF(AC16<19.5,"Fraco",IF(AC16<49.5,"Não Satisfaz",IF(AC16<69.5,"Satisfaz",IF(AC16<89.5,"Satisfaz Bastante","Excelente")))))
A17: 7 | AC17: =IF(COUNTA(B17)>0,(SUM(C17:AB17)),($AE$11)) -> - | AD17: =IF(AC17=$AE$11,"",IF(AC17<19.5,"Fraco",IF(AC17<49.5,"Não Satisfaz",IF(AC17<69.5,"Satisfaz",IF(AC17<89.5,"Satisfaz Bastante","Excelente")))))
A18: 8 | AC18: =IF(COUNTA(B18)>0,(SUM(C18:AB18)),($AE$11)) -> - | AD18: =IF(AC18=$AE$11,"",IF(AC18<19.5,"Fraco",IF(AC18<49.5,"Não Satisfaz",IF(AC18<69.5,"Satisfaz",IF(AC18<89.5,"Satisfaz Bastante","Excelente")))))
A19: 9 | AC19: =IF(COUNTA(B19)>0,(SUM(C19:AB19)),($AE$11)) -> - | AD19: =IF(AC19=$AE$11,"",IF(AC19<19.5,"Fraco",IF(AC19<49.5,"Não Satisfaz",IF(AC19<69.5,"Satisfaz",IF(AC19<89.5,"Satisfaz Bastante","Excelente")))))
A20: 10 | AC20: =IF(COUNTA(B20)>0,(SUM(C20:AB20)),($AE$11)) -> - | AD20: =IF(AC20=$AE$11,"",IF(AC20<19.5,"Fraco",IF(AC20<49.5,"Não Satisfaz",IF(AC20<69.5,"Satisfaz",IF(AC20<89.5,"Satisfaz Bastante","Excelente")))))
A21: 11 | AC21: =IF(COUNTA(B21)>0,(SUM(C21:AB21)),($AE$11)) -> - | AD21: =IF(AC21=$AE$11,"",IF(AC21<19.5,"Fraco",IF(AC21<49.5,"Não Satisfaz",IF(AC21<69.5,"Satisfaz",IF(AC21<89.5,"Satisfaz Bastante","Excelente")))))
A22: 12 | AC22: =IF(COUNTA(B22)>0,(SUM(C22:AB22)),($AE$11)) -> - | AD22: =IF(AC22=$AE$11,"",IF(AC22<19.5,"Fraco",IF(AC22<49.5,"Não Satisfaz",IF(AC22<69.5,"Satisfaz",IF(AC22<89.5,"Satisfaz Bastante","Excelente")))))
A23: 13 | AC23: =IF(COUNTA(B23)>0,(SUM(C23:AB23)),($AE$11)) -> - | AD23: =IF(AC23=$AE$11,"",IF(AC23<19.5,"Fraco",IF(AC23<49.5,"Não Satisfaz",IF(AC23<69.5,"Satisfaz",IF(AC23<89.5,"Satisfaz Bastante","Excelente")))))
... A40: 30 | AC40: =IF(COUNTA(B40)>0,(SUM(C40:AB40)),($AE$11)) -> - | AD40: =IF(AC40=$AE$11,"",IF(AC40<19.5,"Fraco",IF(AC40<49.5,"Não Satisfaz",IF(AC40<69.5,"Satisfaz",IF(AC40<89.5,"Satisfaz Bastante","Excelente")))))
A41: Nº alunos com cotação Máxima | C41: =COUNTIF(C11:C40,C10) -> 0 | D41: =COUNTIF(D11:D40,D10) -> 0 | E41: =COUNTIF(E11:E40,E10) -> 0 | F41: =COUNTIF(F11:F40,F10) -> 0 | G41: =COUNTIF(G11:G40,G10) -> 0 | H41: =COUNTIF(H11:H40,H10) -> 0 | I41: =COUNTIF(I11:I40,I10) -> 0 | J41: =COUNTIF(J11:J40,J10) -> 0 | ... AB41: =COUNTIF(AB11:AB40,AB10) -> 0 | AC41: =MIN(C41:AB41) -> 0
A42: Nº alunos que Não Sabe/Não responde | C42: =COUNTIF(C11:C40,0) -> 0 | D42: =COUNTIF(D11:D40,0) -> 0 | E42: =COUNTIF(E11:E40,0) -> 0 | F42: =COUNTIF(F11:F40,0) -> 0 | G42: =COUNTIF(G11:G40,0) -> 0 | H42: =COUNTIF(H11:H40,0) -> 0 | I42: =COUNTIF(I11:I40,0) -> 0 | J42: =COUNTIF(J11:J40,0) -> 0 | ... AB42: =COUNTIF(AB11:AB40,0) -> 0

Sheet Estatística
B2: Disciplina: | C2: ='Grelha Correção'!C2:I2 -> Ciências Naturais | F2: Professor: | G2: ='Grelha Correção'!W$2 -> 0
B4: Ano /Turma: | C4: ='Grelha Correção'!O$2 -> 0 | F4: Data: | G4: ='Grelha Correção'!AA$4 -> 0
B6: Teste nº: | C6: ='Grelha Correção'!C4:D4 -> 2 C
A8: Nº | B8: Nome | C8: Classificação | D8: Apreciação
A9: ='Grelha Correção'!A11 -> 1 | B9: ='Grelha Correção'!B11 -> 0 | C9: ='Grelha Correção'!AC11 -> - | D9: ='Grelha Correção'!AD11 | F9: Nº alunos da turma | I9: =COUNTA('Grelha Correção'!B11:B40) -> 0
A10: ='Grelha Correção'!A12 -> 2 | B10: ='Grelha Correção'!B12 -> 0 | C10: ='Grelha Correção'!AC12 -> - | D10: ='Grelha Correção'!AD12 | F10: Nº alunos que realizaram teste | I10: =COUNTIF('Grelha Correção'!AC11:AC40,">0") -> 0
A11: ='Grelha Correção'!A13 -> 3 | B11: ='Grelha Correção'!B13 -> 0 | C11: ='Grelha Correção'!AC13 -> - | D11: ='Grelha Correção'!AD13 | F11: Média das notas | I11: =AVERAGE(C9:C38) -> #DIV/0!
A12: ='Grelha Correção'!A14 -> 4 | B12: ='Grelha Correção'!B14 -> 0 | C12: ='Grelha Correção'!AC14 -> - | D12: ='Grelha Correção'!AD14 | F12: Classificação mais alta | I12: =MAX(C9:C38) -> 0
A13: ='Grelha Correção'!A15 -> 5 | B13: ='Grelha Correção'!B15 -> 0 | C13: ='Grelha Correção'!AC15 -> - | D13: ='Grelha Correção'!AD15 | F13: Classificação mais baixa | I13: =MIN(C9:C38) -> 0
A14: ='Grelha Correção'!A16 -> 6 | B14: ='Grelha Correção'!B16 -> 0 | C14: ='Grelha Correção'!AC16 -> - | D14: ='Grelha Correção'!AD16
A15: ='Grelha Correção'!A17 -> 7 | B15: ='Grelha Correção'!B17 -> 0 | C15: ='Grelha Correção'!AC17 -> - | D15: ='Grelha Correção'!AD17 | I15: %
A16: ='Grelha Correção'!A18 -> 8 | B16: ='Grelha Correção'!B18 -> 0 | C16: ='Grelha Correção'!AC18 -> - | D16: ='Grelha Correção'!AD18 | F16: Negativas | H16: =COUNTIF(C9:C38,"<49,45") -> 0 | I16: =(H16*100)/I9 -> #DIV/0!
A17: ='Grelha Correção'!A19 -> 9 | B17: ='Grelha Correção'!B19 -> 0 | C17: ='Grelha Correção'!AC19 -> - | D17: ='Grelha Correção'!AD19 | F17: Positivas | H17: =COUNTIF(C9:C38,">49,44") -> 0 | I17: =(H17*100)/I9 -> #DIV/0!
A18: ='Grelha Correção'!A20 -> 10 | B18: ='Grelha Correção'!B20 -> 0 | C18: ='Grelha Correção'!AC20 -> - | D18: ='Grelha Correção'!AD20
A19: ='Grelha Correção'!A21 -> 11 | B19: ='Grelha Correção'!B21 -> 0 | C19: ='Grelha Correção'!AC21 -> - | D19: ='Grelha Correção'!AD21
A20: ='Grelha Correção'!A22 -> 12 | B20: ='Grelha Correção'!B22 -> 0 | C20: ='Grelha Correção'!AC22 -> - | D20: ='Grelha Correção'!AD22
A21: ='Grelha Correção'!A23 -> 13 | B21: ='Grelha Correção'!B23 -> 0 | C21: ='Grelha Correção'!AC23 -> - | D21: ='Grelha Correção'!AD23
A22: ='Grelha Correção'!A24 -> 14 | B22: ='Grelha Correção'!B24 -> 0 | C22: ='Grelha Correção'!AC24 -> - | D22: ='Grelha Correção'!AD24
A23: ='Grelha Correção'!A25 -> 15 | B23: ='Grelha Correção'!B25 -> 0 | C23: ='Grelha Correção'!AC25 -> - | D23: ='Grelha Correção'!AD25
A24: ='Grelha Correção'!A26 -> 16 | B24: ='Grelha Correção'!B26 -> 0 | C24: ='Grelha Correção'!AC26 -> - | D24: ='Grelha Correção'!AD26
A25: ='Grelha Correção'!A27 -> 17 | B25: ='Grelha Correção'!B27 -> 0 | C25: ='Grelha Correção'!AC27 -> - | D25: ='Grelha Correção'!AD27
A26: ='Grelha Correção'!A28 -> 18 | B26: ='Grelha Correção'!B28 -> 0 | C26: ='Grelha Correção'!AC28 -> - | D26: ='Grelha Correção'!AD28
A27: ='Grelha Correção'!A29 -> 19 | B27: ='Grelha Correção'!B29 -> 0 | C27: ='Grelha Correção'!AC29 -> - | D27: ='Grelha Correção'!AD29
A28: ='Grelha Correção'!A30 -> 20 | B28: ='Grelha Correção'!B30 -> 0 | C28: ='Grelha Correção'!AC30 -> - | D28: ='Grelha Correção'!AD30
A29: ='Grelha Correção'!A31 -> 21 | B29: ='Grelha Correção'!B31 -> 0 | C29: ='Grelha Correção'!AC31 -> - | D29: ='Grelha Correção'!AD31
... A38: ='Grelha Correção'!A40 -> 30 | B38: ='Grelha Correção'!B40 -> 0 | C38: ='Grelha Correção'!AC40 -> - | D38: ='Grelha Correção'!AD40
B40: Excelente | C40: =COUNTIF('Grelha Correção'!AD11:AD40,"Excelente") -> 0
B41: Satisfaz Bastante | C41: =COUNTIF('Grelha Correção'!AD11:AD40,"Satisfaz Bastante") -> 0
B42: Satisfaz | C42: =COUNTIF('Grelha Correção'!AD11:AD40,"Satisfaz") -> 0
B43: Não Satisfaz | C43: =COUNTIF('Grelha Correção'!AD11:AD40,"Não Satisfaz") -> 0
B44: Fraco | C44: =COUNTIF('Grelha Correção'!AD11:AD40,"Fraco") -> 0
