Workbook

Sheet Grelha Correção
B1: Disciplina: | C1: Ciências Naturais | K1: Ano/Turma: | S1: Professor:
B3: Teste nº: | C3: Diagnóstico | Y3: Data:
C5: Objetivos avaliados no teste:
C6: Conhecimentos adquiridos no 1.º Ciclo EB, realtivamente aos Domínios: A ÁGUA, O AR, AS ROCHAS E O SOLO – MATERIAIS TERRESTRES; DIVERSIDADE DE SERES VIVOS E SUAS INTERAÇÕES COM O MEIO; UNIDADE NA DIVERSIDADE DE SERES VIVOS
C8: 1.1 | D8: 1.2 | E8: 1.3 | F8: 2 | G8: 3 | H8: 4.1 | I8: 4.2 | J8: 5 | K8: 6 | L8: 7 | M8: 7.1 | N8: 7.2 | AC8: TOTAL
A9: N.o | B9: Nome: Cotação: | C9: 2 | D9: 5 | E9: 10 | F9: 12 | G9: 6 | H9: 13 | I9: 22 | J9: 8 | K9: 3 | L9: 5 | M9: 6 | N9: 8 | AC9: =SUM(C9:AB9) -> 100 | AD9: Apreciação
A10: 1 | AC10: =IF(COUNTA(B10)>0,(SUM(C10:AB10)),($AE$10)) -> - | AD10: =IF(AC10=$AE$10,"",IF(AC10<19.5,"Fraco",IF(AC10<49.5,"Insuficiente",IF(AC10<69.5,"Satisfaz",IF(AC10<89.5,"Sat Bastante","Excelente"))))) | AE10: -
A11: 2 | AC11: =IF(COUNTA(B11)>0,(SUM(C11:AB11)),($AE$10)) -> - | AD11: =IF(AC11=$AE$10,"",IF(AC11<19.5,"Fraco",IF(AC11<49.5,"Insuficiente",IF(AC11<69.5,"Satisfaz",IF(AC11<89.5,"Sat Bastante","Excelente")))))
A12: 3 | AC12: =IF(COUNTA(B12)>0,(SUM(C12:AB12)),($AE$10)) -> - | AD12: =IF(AC12=$AE$10,"",IF(AC12<19.5,"Fraco",IF(AC12<49.5,"Insuficiente",IF(AC12<69.5,"Satisfaz",IF(AC12<89.5,"Sat Bastante","Excelente")))))
A13: 4 | AC13: =IF(COUNTA(B13)>0,(SUM(C13:AB13)),($AE$10)) -> - | AD13: =IF(AC13=$AE$10,"",IF(AC13<19.5,"Fraco",IF(AC13<49.5,"Insuficiente",IF(AC13<69.5,"Satisfaz",IF(AC13<89.5,"Sat Bastante","Excelente")))))
A14: 5 | AC14: =IF(COUNTA(B14)>0,(SUM(C14:AB14)),($AE$10)) -> - | AD14: =IF(AC14=$AE$10,"",IF(AC14<19.5,"Fraco",IF(AC14<49.5,"Insuficiente",IF(AC14<69.5,"Satisfaz",IF(AC14<89.5,"Sat Bastante","Excelente")))))
A15: 6 | AC15: =IF(COUNTA(B15)>0,(SUM(C15:AB15)),($AE$10)) -> - | AD15: =IF(AC15=$AE$10,"",IF(AC15<19.5,"Fraco",IF(AC15<49.5,"Insuficiente",IF(AC15<69.5,"Satisfaz",IF(AC15<89.5,"Sat Bastante","Excelente")))))
A16: 7 | AC16: =IF(COUNTA(B16)>0,(SUM(C16:AB16)),($AE$10)) -> - | AD16: =IF(AC16=$AE$10,"",IF(AC16<19.5,"Fraco",IF(AC16<49.5,"Insuficiente",IF(AC16<69.5,"Satisfaz",IF(AC16<89.5,"Sat Bastante","Excelente")))))
A17: 8 | AC17: =IF(COUNTA(B17)>0,(SUM(C17:AB17)),($AE$10)) -> - | AD17: =IF(AC17=$AE$10,"",IF(AC17<19.5,"Fraco",IF(AC17<49.5,"Insuficiente",IF(AC17<69.5,"Satisfaz",IF(AC17<89.5,"Sat Bastante","Excelente")))))
A18: 9 | AC18: =IF(COUNTA(B18)>0,(SUM(C18:AB18)),($AE$10)) -> - | AD18: =IF(AC18=$AE$10,"",IF(AC18<19.5,"Fraco",IF(AC18<49.5,"Insuficiente",IF(AC18<69.5,"Satisfaz",IF(AC18<89.5,"Sat Bastante","Excelente")))))
A19: 10 | AC19: =IF(COUNTA(B19)>0,(SUM(C19:AB19)),($AE$10)) -> - | AD19: =IF(AC19=$AE$10,"",IF(AC19<19.5,"Fraco",IF(AC19<49.5,"Insuficiente",IF(AC19<69.5,"Satisfaz",IF(AC19<89.5,"Sat Bastante","Excelente")))))
A20: 11 | AC20: =IF(COUNTA(B20)>0,(SUM(C20:AB20)),($AE$10)) -> - | AD20: =IF(AC20=$AE$10,"",IF(AC20<19.5,"Fraco",IF(AC20<49.5,"Insuficiente",IF(AC20<69.5,"Satisfaz",IF(AC20<89.5,"Sat Bastante","Excelente")))))
A21: 12 | AC21: =IF(COUNTA(B21)>0,(SUM(C21:AB21)),($AE$10)) -> - | AD21: =IF(AC21=$AE$10,"",IF(AC21<19.5,"Fraco",IF(AC21<49.5,"Insuficiente",IF(AC21<69.5,"Satisfaz",IF(AC21<89.5,"Sat Bastante","Excelente")))))
A22: 13 | AC22: =IF(COUNTA(B22)>0,(SUM(C22:AB22)),($AE$10)) -> - | AD22: =IF(AC22=$AE$10,"",IF(AC22<19.5,"Fraco",IF(AC22<49.5,"Insuficiente",IF(AC22<69.5,"Satisfaz",IF(AC22<89.5,"Sat Bastante","Excelente")))))
... A39: 30 | AC39: =IF(COUNTA(B39)>0,(SUM(C39:AB39)),($AE$10)) -> - | AD39: =IF(AC39=$AE$10,"",IF(AC39<19.5,"Fraco",IF(AC39<49.5,"Insuficiente",IF(AC39<69.5,"Satisfaz",IF(AC39<89.5,"Sat Bastante","Excelente")))))
A40: Nº alunos com cotação Máxima | C40: =COUNTIF(C10:C39,C9) -> 0 | D40: =COUNTIF(D10:D39,D9) -> 0 | E40: =COUNTIF(E10:E39,E9) -> 0 | F40: =COUNTIF(F10:F39,F9) -> 0 | G40: =COUNTIF(G10:G39,G9) -> 0 | H40: =COUNTIF(H10:H39,H9) -> 0 | I40: =COUNTIF(I10:I39,I9) -> 0 | J40: =COUNTIF(J10:J39,J9) -> 0 | ... AB40: =COUNTIF(AB10:AB39,AB9) -> 0 | AC40: =MIN(C40:AB40) -> 0
A41: Nº alunos que Não Sabe/Não responde | C41: =COUNTIF(C10:C39,0) -> 0 | D41: =COUNTIF(D10:D39,0) -> 0 | E41: =COUNTIF(E10:E39,0) -> 0 | F41: =COUNTIF(F10:F39,0) -> 0 | G41: =COUNTIF(G10:G39,0) -> 0 | H41: =COUNTIF(H10:H39,0) -> 0 | I41: =COUNTIF(I10:I39,0) -> 0 | J41: =COUNTIF(J10:J39,0) -> 0 | ... AB41: =COUNTIF(AB10:AB39,0) -> 0

Sheet Estatística
B3: Disciplina: | C3: ='Grelha Correção'!C1:I1 -> Ciências Naturais | F3: Professor: | G3: ='Grelha Correção'!W$1 -> 0
B5: Ano /Turma: | C5: ='Grelha Correção'!O$1 -> 0 | F5: Data: | G5: ='Grelha Correção'!AA$3 -> 0
B7: Teste nº: | C7: ='Grelha Correção'!C3:D3 -> Diagnóstico
A9: Nº | B9: Nome | C9: Classificação | D9: Apreciação
A10: ='Grelha Correção'!A10 -> 1 | B10: ='Grelha Correção'!B10 -> 0 | C10: ='Grelha Correção'!AC10 -> - | D10: ='Grelha Correção'!AD10 | F10: Nº alunos da turma | I10: =COUNTA('Grelha Correção'!B10:B39) -> 0
A11: ='Grelha Correção'!A11 -> 2 | B11: ='Grelha Correção'!B11 -> 0 | C11: ='Grelha Correção'!AC11 -> - | D11: ='Grelha Correção'!AD11 | F11: Nº alunos que realizaram teste | I11: =SUM(C41:C45) -> 0
A12: ='Grelha Correção'!A12 -> 3 | B12: ='Grelha Correção'!B12 -> 0 | C12: ='Grelha Correção'!AC12 -> - | D12: ='Grelha Correção'!AD12 | F12: Média das notas | I12: =AVERAGE(C10:C39) -> #DIV/0!
A13: ='Grelha Correção'!A13 -> 4 | B13: ='Grelha Correção'!B13 -> 0 | C13: ='Grelha Correção'!AC13 -> - | D13: ='Grelha Correção'!AD13 | F13: Classificação mais alta | I13: =MAX(C10:C39) -> 0
A14: ='Grelha Correção'!A14 -> 5 | B14: ='Grelha Correção'!B14 -> 0 | C14: ='Grelha Correção'!AC14 -> - | D14: ='Grelha Correção'!AD14 | F14: Classificação mais baixa | I14: =MIN(C10:C39) -> 0
A15: ='Grelha Correção'!A15 -> 6 | B15: ='Grelha Correção'!B15 -> 0 | C15: ='Grelha Correção'!AC15 -> - | D15: ='Grelha Correção'!AD15
A16: ='Grelha Correção'!A16 -> 7 | B16: ='Grelha Correção'!B16 -> 0 | C16: ='Grelha Correção'!AC16 -> - | D16: ='Grelha Correção'!AD16 | I16: %
A17: ='Grelha Correção'!A17 -> 8 | B17: ='Grelha Correção'!B17 -> 0 | C17: ='Grelha Correção'!AC17 -> - | D17: ='Grelha Correção'!AD17 | F17: Negativas | H17: =COUNTIF(C10:C39,"<49,45") -> 0 | I17: =(H17*100)/I11 -> #DIV/0!
A18: ='Grelha Correção'!A18 -> 9 | B18: ='Grelha Correção'!B18 -> 0 | C18: ='Grelha Correção'!AC18 -> - | D18: ='Grelha Correção'!AD18 | F18: Positivas | H18: =COUNTIF(C10:C39,">49,44") -> 0 | I18: =(H18*100)/I11 -> #DIV/0!
A19: ='Grelha Correção'!A19 -> 10 | B19: ='Grelha Correção'!B19 -> 0 | C19: ='Grelha Correção'!AC19 -> - | D19: ='Grelha Correção'!AD19
A20: ='Grelha Correção'!A20 -> 11 | B20: ='Grelha Correção'!B20 -> 0 | C20: ='Grelha Correção'!AC20 -> - | D20: ='Grelha Correção'!AD20
A21: ='Grelha Correção'!A21 -> 12 | B21: ='Grelha Correção'!B21 -> 0 | C21: ='Grelha Correção'!AC21 -> - | D21: ='Grelha Correção'!AD21
A22: ='Grelha Correção'!A22 -> 13 | B22: ='Grelha Correção'!B22 -> 0 | C22: ='Grelha Correção'!AC22 -> - | D22: ='Grelha Correção'!AD22
A23: ='Grelha Correção'!A23 -> 14 | B23: ='Grelha Correção'!B23 -> 0 | C23: ='Grelha Correção'!AC23 -> - | D23: ='Grelha Correção'!AD23
A24: ='Grelha Correção'!A24 -> 15 | B24: ='Grelha Correção'!B24 -> 0 | C24: ='Grelha Correção'!AC24 -> - | D24: ='Grelha Correção'!AD24
A25: ='Grelha Correção'!A25 -> 16 | B25: ='Grelha Correção'!B25 -> 0 | C25: ='Grelha Correção'!AC25 -> - | D25: ='Grelha Correção'!AD25
A26: ='Grelha Correção'!A26 -> 17 | B26: ='Grelha Correção'!B26 -> 0 | C26: ='Grelha Correção'!AC26 -> - | D26: ='Grelha Correção'!AD26
A27: ='Grelha Correção'!A27 -> 18 | B27: ='Grelha Correção'!B27 -> 0 | C27: ='Grelha Correção'!AC27 -> - | D27: ='Grelha Correção'!AD27
A28: ='Grelha Correção'!A28 -> 19 | B28: ='Grelha Correção'!B28 -> 0 | C28: ='Grelha Correção'!AC28 -> - | D28: ='Grelha Correção'!AD28
A29: ='Grelha Correção'!A29 -> 20 | B29: ='Grelha Correção'!B29 -> 0 | C29: ='Grelha Correção'!AC29 -> - | D29: ='Grelha Correção'!AD29
A30: ='Grelha Correção'!A30 -> 21 | B30: ='Grelha Correção'!B30 -> 0 | C30: ='Grelha Correção'!AC30 -> - | D30: ='Grelha Correção'!AD30
... A39: ='Grelha Correção'!A39 -> 30 | B39: ='Grelha Correção'!B39 -> 0 | C39: ='Grelha Correção'!AC39 -> - | D39: ='Grelha Correção'!AD39
B41: Excelente | C41: =COUNTIF('Grelha Correção'!AD10:AD39,"Excelente") -> 0
B42: Satisfaz Bastante | C42: =COUNTIF('Grelha Correção'!AD10:AD39,"Sat Bastante") -> 0
B43: Satisfaz | C43: =COUNTIF('Grelha Correção'!AD10:AD39,"Satisfaz") -> 0
B44: Insuficiente | C44: =COUNTIF('Grelha Correção'!AD10:AD39,"Insuficiente") -> 0
B45: Fraco | C45: =COUNTIF('Grelha Correção'!AD10:AD39,"Fraco") -> 0
