Workbook

Sheet Grelha
B1: Espaço 6
AN2: Ok
B3: Grelha para correção de testes | AN3: X
B5: Turma:
B6: Data:
D8: Questões
B9: N.º | C9: Aluno | D9: Cotações | AH9: =IF(SUM(E9:AF9)=0,"",SUM(E9:AF9)) | AJ9: % | AL9: Nível
B10: 1 | AH10: =IF(OR(AN10="",AH$9=""),"",SUM(E10:AF10)) | AJ10: =IF(OR($AN10="",$AH$9=""),"",100*$AH10/$AH$9) | AL10: =IF(OR($AN10="",$AH$9=""),"",IF($AJ10<20,1,IF($AJ10<50,2,IF($AJ10<70,3,IF($AJ10<90,4,5))))) | AM10: =IF(C10="","",C10) | AN10: =IF(COUNTIF(E10:AF10,"<>"&"")>0,1,"")
B11: =B10+1 -> 2 | AH11: =IF(OR(AN11="",AH$9=""),"",SUM(E11:AF11)) | AJ11: =IF(OR($AN11="",$AH$9=""),"",100*$AH11/$AH$9) | AL11: =IF(OR($AN11="",$AH$9=""),"",IF($AJ11<20,1,IF($AJ11<50,2,IF($AJ11<70,3,IF($AJ11<90,4,5))))) | AM11: =IF(C11="","",C11) | AN11: =IF(COUNTIF(E11:AF11,"<>"&"")>0,1,"")
B12: =B11+1 -> 3 | AH12: =IF(OR(AN12="",AH$9=""),"",SUM(E12:AF12)) | AJ12: =IF(OR($AN12="",$AH$9=""),"",100*$AH12/$AH$9) | AL12: =IF(OR($AN12="",$AH$9=""),"",IF($AJ12<20,1,IF($AJ12<50,2,IF($AJ12<70,3,IF($AJ12<90,4,5))))) | AM12: =IF(C12="","",C12) | AN12: =IF(COUNTIF(E12:AF12,"<>"&"")>0,1,"")
B13: =B12+1 -> 4 | AH13: =IF(OR(AN13="",AH$9=""),"",SUM(E13:AF13)) | AJ13: =IF(OR($AN13="",$AH$9=""),"",100*$AH13/$AH$9) | AL13: =IF(OR($AN13="",$AH$9=""),"",IF($AJ13<20,1,IF($AJ13<50,2,IF($AJ13<70,3,IF($AJ13<90,4,5))))) | AM13: =IF(C13="","",C13) | AN13: =IF(COUNTIF(E13:AF13,"<>"&"")>0,1,"")
B14: =B13+1 -> 5 | AH14: =IF(OR(AN14="",AH$9=""),"",SUM(E14:AF14)) | AJ14: =IF(OR($AN14="",$AH$9=""),"",100*$AH14/$AH$9) | AL14: =IF(OR($AN14="",$AH$9=""),"",IF($AJ14<20,1,IF($AJ14<50,2,IF($AJ14<70,3,IF($AJ14<90,4,5))))) | AM14: =IF(C14="","",C14) | AN14: =IF(COUNTIF(E14:AF14,"<>"&"")>0,1,"")
B15: =B14+1 -> 6 | AH15: =IF(OR(AN15="",AH$9=""),"",SUM(E15:AF15)) | AJ15: =IF(OR($AN15="",$AH$9=""),"",100*$AH15/$AH$9) | AL15: =IF(OR($AN15="",$AH$9=""),"",IF($AJ15<20,1,IF($AJ15<50,2,IF($AJ15<70,3,IF($AJ15<90,4,5))))) | AM15: =IF(C15="","",C15) | AN15: =IF(COUNTIF(E15:AF15,"<>"&"")>0,1,"")
B16: =B15+1 -> 7 | AH16: =IF(OR(AN16="",AH$9=""),"",SUM(E16:AF16)) | AJ16: =IF(OR($AN16="",$AH$9=""),"",100*$AH16/$AH$9) | AL16: =IF(OR($AN16="",$AH$9=""),"",IF($AJ16<20,1,IF($AJ16<50,2,IF($AJ16<70,3,IF($AJ16<90,4,5))))) | AM16: =IF(C16="","",C16) | AN16: =IF(COUNTIF(E16:AF16,"<>"&"")>0,1,"")
B17: =B16+1 -> 8 | AH17: =IF(OR(AN17="",AH$9=""),"",SUM(E17:AF17)) | AJ17: =IF(OR($AN17="",$AH$9=""),"",100*$AH17/$AH$9) | AL17: =IF(OR($AN17="",$AH$9=""),"",IF($AJ17<20,1,IF($AJ17<50,2,IF($AJ17<70,3,IF($AJ17<90,4,5))))) | AM17: =IF(C17="","",C17) | AN17: =IF(COUNTIF(E17:AF17,"<>"&"")>0,1,"")
B18: =B17+1 -> 9 | AH18: =IF(OR(AN18="",AH$9=""),"",SUM(E18:AF18)) | AJ18: =IF(OR($AN18="",$AH$9=""),"",100*$AH18/$AH$9) | AL18: =IF(OR($AN18="",$AH$9=""),"",IF($AJ18<20,1,IF($AJ18<50,2,IF($AJ18<70,3,IF($AJ18<90,4,5))))) | AM18: =IF(C18="","",C18) | AN18: =IF(COUNTIF(E18:AF18,"<>"&"")>0,1,"")
B19: =B18+1 -> 10 | AH19: =IF(OR(AN19="",AH$9=""),"",SUM(E19:AF19)) | AJ19: =IF(OR($AN19="",$AH$9=""),"",100*$AH19/$AH$9) | AL19: =IF(OR($AN19="",$AH$9=""),"",IF($AJ19<20,1,IF($AJ19<50,2,IF($AJ19<70,3,IF($AJ19<90,4,5))))) | AM19: =IF(C19="","",C19) | AN19: =IF(COUNTIF(E19:AF19,"<>"&"")>0,1,"")
B20: =B19+1 -> 11 | AH20: =IF(OR(AN20="",AH$9=""),"",SUM(E20:AF20)) | AJ20: =IF(OR($AN20="",$AH$9=""),"",100*$AH20/$AH$9) | AL20: =IF(OR($AN20="",$AH$9=""),"",IF($AJ20<20,1,IF($AJ20<50,2,IF($AJ20<70,3,IF($AJ20<90,4,5))))) | AM20: =IF(C20="","",C20) | AN20: =IF(COUNTIF(E20:AF20,"<>"&"")>0,1,"")
B21: =B20+1 -> 12 | AH21: =IF(OR(AN21="",AH$9=""),"",SUM(E21:AF21)) | AJ21: =IF(OR($AN21="",$AH$9=""),"",100*$AH21/$AH$9) | AL21: =IF(OR($AN21="",$AH$9=""),"",IF($AJ21<20,1,IF($AJ21<50,2,IF($AJ21<70,3,IF($AJ21<90,4,5))))) | AM21: =IF(C21="","",C21) | AN21: =IF(COUNTIF(E21:AF21,"<>"&"")>0,1,"")
B22: =B21+1 -> 13 | AH22: =IF(OR(AN22="",AH$9=""),"",SUM(E22:AF22)) | AJ22: =IF(OR($AN22="",$AH$9=""),"",100*$AH22/$AH$9) | AL22: =IF(OR($AN22="",$AH$9=""),"",IF($AJ22<20,1,IF($AJ22<50,2,IF($AJ22<70,3,IF($AJ22<90,4,5))))) | AM22: =IF(C22="","",C22) | AN22: =IF(COUNTIF(E22:AF22,"<>"&"")>0,1,"")
... B49: =B48+1 -> 40 | AH49: =IF(OR(AN49="",AH$9=""),"",SUM(E49:AF49)) | AJ49: =IF(OR($AN49="",$AH$9=""),"",100*$AH49/$AH$9) | AL49: =IF(OR($AN49="",$AH$9=""),"",IF($AJ49<20,1,IF($AJ49<50,2,IF($AJ49<70,3,IF($AJ49<90,4,5))))) | AM49: =IF(C49="","",C49) | AN49: =IF(COUNTIF(E49:AF49,"<>"&"")>0,1,"")
D50: quotacoes
B52: total: | C52: =SUM($AN10:$AN50) -> 0 | D52: certas | E52: =IF(E$9>0,COUNTIF(E$10:E$49,"="&E$9),0) -> 0 | F52: =IF(F$9>0,COUNTIF(F$10:F$49,"="&F$9),0) -> 0 | G52: =IF(G$9>0,COUNTIF(G$10:G$49,"="&G$9),0) -> 0 | H52: =IF(H$9>0,COUNTIF(H$10:H$49,"="&H$9),0) -> 0 | I52: =IF(I$9>0,COUNTIF(I$10:I$49,"="&I$9),0) -> 0 | J52: =IF(J$9>0,COUNTIF(J$10:J$49,"="&J$9),0) -> 0 | K52: =IF(K$9>0,COUNTIF(K$10:K$49,"="&K$9),0) -> 0 | L52: =IF(L$9>0,COUNTIF(L$10:L$49,"="&L$9),0) -> 0 | ... AF52: =IF(AF$9>0,COUNTIF(AF$10:AF$49,"="&AF$9),0) -> 0
D53: incompletas | E53: =IF(E$9>0,$C$52-SUM(E$54,E$52),0) -> 0 | F53: =IF(F$9>0,$C$52-SUM(F$54,F$52),0) -> 0 | G53: =IF(G$9>0,$C$52-SUM(G$54,G$52),0) -> 0 | H53: =IF(H$9>0,$C$52-SUM(H$54,H$52),0) -> 0 | I53: =IF(I$9>0,$C$52-SUM(I$54,I$52),0) -> 0 | J53: =IF(J$9>0,$C$52-SUM(J$54,J$52),0) -> 0 | K53: =IF(K$9>0,$C$52-SUM(K$54,K$52),0) -> 0 | L53: =IF(L$9>0,$C$52-SUM(L$54,L$52),0) -> 0 | ... AF53: =IF(AF$9>0,$C$52-SUM(AF$54,AF$52),0) -> 0
D54: erradas | E54: =IF(E$9>0,COUNTIF(E$10:E$49,"="&0),0) -> 0 | F54: =IF(F$9>0,COUNTIF(F$10:F$49,"="&0),0) -> 0 | G54: =IF(G$9>0,COUNTIF(G$10:G$49,"="&0),0) -> 0 | H54: =IF(H$9>0,COUNTIF(H$10:H$49,"="&0),0) -> 0 | I54: =IF(I$9>0,COUNTIF(I$10:I$49,"="&0),0) -> 0 | J54: =IF(J$9>0,COUNTIF(J$10:J$49,"="&0),0) -> 0 | K54: =IF(K$9>0,COUNTIF(K$10:K$49,"="&0),0) -> 0 | L54: =IF(L$9>0,COUNTIF(L$10:L$49,"="&0),0) -> 0 | ... AF54: =IF(AF$9>0,COUNTIF(AF$10:AF$49,"="&0),0) -> 0

Sheet Resultados
B1: Novo Espaço
B19: Negativas | C19: =SUM(I20:I22) -> 0 | H19: Nível | I19: N.º | J19: %
B20: Positivas | C20: =SUM(I23:I25) -> 0 | G20: 0 | H20: 0 | I20: =COUNTIF(Grelha!$AL$10:$AL$49,"<"&G21)-COUNTIF(Grelha!$AL$10:$AL$49,"<"&G20) -> 0 | J20: =IF(I$26>0,I20/I$26,"")
G21: 0.5 | H21: 1 | I21: =COUNTIF(Grelha!$AL$10:$AL$49,"<"&G22)-COUNTIF(Grelha!$AL$10:$AL$49,"<"&G21) -> 0 | J21: =IF(I$26>0,I21/I$26,"")
G22: 1.5 | H22: 2 | I22: =COUNTIF(Grelha!$AL$10:$AL$49,"<"&G23)-COUNTIF(Grelha!$AL$10:$AL$49,"<"&G22) -> 0 | J22: =IF(I$26>0,I22/I$26,"")
G23: 2.5 | H23: 3 | I23: =COUNTIF(Grelha!$AL$10:$AL$49,"<"&G24)-COUNTIF(Grelha!$AL$10:$AL$49,"<"&G23) -> 0 | J23: =IF(I$26>0,I23/I$26,"")
G24: 3.5 | H24: 4 | I24: =COUNTIF(Grelha!$AL$10:$AL$49,"<"&G25)-COUNTIF(Grelha!$AL$10:$AL$49,"<"&G24) -> 0 | J24: =IF(I$26>0,I24/I$26,"")
G25: 4.5 | H25: 5 | I25: =COUNTIF(Grelha!$AL$10:$AL$49,"<"&G26)-COUNTIF(Grelha!$AL$10:$AL$49,"<"&G25) -> 0 | J25: =IF(I$26>0,I25/I$26,"")
G26: 5.5 | H26: Total | I26: =SUM(I20:I25) -> 0 | J26: =SUM(J21:J25) -> 0

Sheet Análise
B1: Novo Espaço
B17: questoes | C17: =IF(Grelha!E8="","",Grelha!E8) | D17: =IF(Grelha!F8="","",Grelha!F8) | E17: =IF(Grelha!G8="","",Grelha!G8) | F17: =IF(Grelha!H8="","",Grelha!H8) | G17: =IF(Grelha!I8="","",Grelha!I8) | H17: =IF(Grelha!J8="","",Grelha!J8) | I17: =IF(Grelha!K8="","",Grelha!K8) | J17: =IF(Grelha!L8="","",Grelha!L8) | ... AD17: =IF(Grelha!AF8="","",Grelha!AF8) | AE17: Fim | AF17: =IF(Grelha!AJ8="","",Grelha!AJ8)
B18: certas | C18: =IF(OR(Grelha!E52="",Grelha!E52=0),"",Grelha!E52) | D18: =IF(OR(Grelha!F52="",Grelha!F52=0),"",Grelha!F52) | E18: =IF(OR(Grelha!G52="",Grelha!G52=0),"",Grelha!G52) | F18: =IF(OR(Grelha!H52="",Grelha!H52=0),"",Grelha!H52) | G18: =IF(OR(Grelha!I52="",Grelha!I52=0),"",Grelha!I52) | H18: =IF(OR(Grelha!J52="",Grelha!J52=0),"",Grelha!J52) | I18: =IF(OR(Grelha!K52="",Grelha!K52=0),"",Grelha!K52) | J18: =IF(OR(Grelha!L52="",Grelha!L52=0),"",Grelha!L52) | ... AD18: =IF(OR(Grelha!AF52="",Grelha!AF52=0),"",Grelha!AF52) | AE18: Fim | AF18: =IF(OR(Grelha!AJ52="",Grelha!AJ52=0),"",Grelha!AJ52) | AG18: =IF(OR(Grelha!AN52="",Grelha!AN52=0),"",Grelha!AN52) | AH18: =IF(OR(Grelha!AO52="",Grelha!AO52=0),"",Grelha!AO52)
B19: incompletas | C19: =IF(OR(Grelha!E53="",Grelha!E53=0),"",Grelha!E53) | D19: =IF(OR(Grelha!F53="",Grelha!F53=0),"",Grelha!F53) | E19: =IF(OR(Grelha!G53="",Grelha!G53=0),"",Grelha!G53) | F19: =IF(OR(Grelha!H53="",Grelha!H53=0),"",Grelha!H53) | G19: =IF(OR(Grelha!I53="",Grelha!I53=0),"",Grelha!I53) | H19: =IF(OR(Grelha!J53="",Grelha!J53=0),"",Grelha!J53) | I19: =IF(OR(Grelha!K53="",Grelha!K53=0),"",Grelha!K53) | J19: =IF(OR(Grelha!L53="",Grelha!L53=0),"",Grelha!L53) | ... AD19: =IF(OR(Grelha!AF53="",Grelha!AF53=0),"",Grelha!AF53) | AE19: Fim | AF19: =IF(OR(Grelha!AJ53="",Grelha!AJ53=0),"",Grelha!AJ53) | AG19: =IF(OR(Grelha!AN53="",Grelha!AN53=0),"",Grelha!AN53) | AH19: =IF(OR(Grelha!AO53="",Grelha!AO53=0),"",Grelha!AO53)
B20: erradas | C20: =IF(OR(Grelha!E54="",Grelha!E54=0),"",Grelha!E54) | D20: =IF(OR(Grelha!F54="",Grelha!F54=0),"",Grelha!F54) | E20: =IF(OR(Grelha!G54="",Grelha!G54=0),"",Grelha!G54) | F20: =IF(OR(Grelha!H54="",Grelha!H54=0),"",Grelha!H54) | G20: =IF(OR(Grelha!I54="",Grelha!I54=0),"",Grelha!I54) | H20: =IF(OR(Grelha!J54="",Grelha!J54=0),"",Grelha!J54) | I20: =IF(OR(Grelha!K54="",Grelha!K54=0),"",Grelha!K54) | J20: =IF(OR(Grelha!L54="",Grelha!L54=0),"",Grelha!L54) | ... AD20: =IF(OR(Grelha!AF54="",Grelha!AF54=0),"",Grelha!AF54) | AE20: Fim | AF20: =IF(OR(Grelha!AJ54="",Grelha!AJ54=0),"",Grelha!AJ54) | AG20: =IF(OR(Grelha!AN54="",Grelha!AN54=0),"",Grelha!AN54) | AH20: =IF(OR(Grelha!AO54="",Grelha!AO54=0),"",Grelha!AO54)
