Workbook

Sheet Pontuações das Avaliações
B2: ANO LETIVO :
B3: DISCIPLINA :
B4: ANO :
B5: TURMA :
E6: 1º PERÍODO | J6: 2º PERÍODO | O6: 3º PERÍODO | T6: Total
B7: NOME | D7: N.º | E7: P1 | F7: P2 | G7: P3 | H7: P4 | I7: Média | J7: P1 | K7: P2 | L7: P3 | M7: P4 | N7: Média | O7: P1 | P7: P2 | Q7: P3 | R7: P4 | S7: Média | T7: Final
B8: Aluno 1 | D8: 1 | E8: 40 | F8: 71 | G8: 89 | H8: 77 | I8: =IF(ISERROR(AVERAGE(E8:H8))=TRUE,"",AVERAGE(E8:H8)) -> 69.25 | J8: 40 | K8: 71 | L8: 89 | M8: 77 | N8: =IF(ISERROR(AVERAGE(J8:M8))=TRUE,"",AVERAGE(J8:M8)) -> 69.25 | O8: 40 | P8: 71 | Q8: 89 | R8: 77 | S8: =IF(ISERROR(AVERAGE(O8:R8))=TRUE,"",AVERAGE(O8:R8)) -> 69.25 | T8: =SUM(E8:H8,J8:M8,O8:R8) -> 831 | AA8: =B8 -> Aluno 1 | AB8: =T8 -> 831 | AC8: =IF(AB8>=AB9,AA8,AA9) -> Aluno 2 | AD8: =VLOOKUP(AC8,$AA$8:$AB$37,2,FALSE) -> 834 | AE8: =IF(AD8>=AD10,AC8,AC10) -> Aluno 3 | AF8: =VLOOKUP(AE8,$AA$8:$AB$37,2,FALSE) -> 837 | AG8: =IF(AF8>=AF11,AE8,AE11) -> Aluno 4 | AH8: =VLOOKUP(AG8,$AA$8:$AB$37,2,FALSE) -> 840 | AI8: =IF(AH8>=AH12,AG8,AG12) -> Aluno 5 | AJ8: =VLOOKUP(AI8,$AA$8:$AB$37,2,FALSE) -> 843 | AK8: =IF(AJ8>=AJ13,AI8,AI13) -> Aluno 6 | AL8: =VLOOKUP(AK8,$AA$8:$AB$37,2,FALSE) -> 846 | AM8: =IF(AL8>=AL14,AK8,AK14) -> Aluno 7 | AN8: =VLOOKUP(AM8,$AA$8:$AB$37,2,FALSE) -> 849 | AO8: =IF(AN8>=AN15,AM8,AM15) -> Aluno 8 | AP8: =VLOOKUP(AO8,$AA$8:$AB$37,2,FALSE) -> 852 | AQ8: =IF(AP8>=AP16,AO8,AO16) -> Aluno 9 | AR8: =VLOOKUP(AQ8,$AA$8:$AB$37,2,FALSE) -> 855 | AS8: =IF(AR8>=AR17,AQ8,AQ17) -> Aluno 10 | AT8: =VLOOKUP(AS8,$AA$8:$AB$37,2,FALSE) -> 858 | AU8: =IF(AT8>=AT18,AS8,AS18) -> Aluno 11 | AV8: =VLOOKUP(AU8,$AA$8:$AB$37,2,FALSE) -> 861 | AW8: =IF(AV8>=AV19,AU8,AU19) -> Aluno 12 | AX8: =VLOOKUP(AW8,$AA$8:$AB$37,2,FALSE) -> 864 | AY8: =IF(AX8>=AX20,AW8,AW20) -> Aluno 13 | AZ8: =VLOOKUP(AY8,$AA$8:$AB$37,2,FALSE) -> 867 | BA8: =IF(AZ8>=AZ21,AY8,AY21) -> Aluno 14 | BB8: =VLOOKUP(BA8,$AA$8:$AB$37,2,FALSE) -> 870 | BC8: =IF(BB8>=BB22,BA8,BA22) -> Aluno 15 | BD8: =VLOOKUP(BC8,$AA$8:$AB$37,2,FALSE) -> 873 | BE8: =IF(BD8>=BD23,BC8,BC23) -> Aluno 16 | BF8: =VLOOKUP(BE8,$AA$8:$AB$37,2,FALSE) -> 876 | BG8: =IF(BF8>=BF24,BE8,BE24) -> Aluno 17 | BH8: =VLOOKUP(BG8,$AA$8:$AB$37,2,FALSE) -> 879 | BI8: =IF(BH8>=BH25,BG8,BG25) -> Aluno 18 | BJ8: =VLOOKUP(BI8,$AA$8:$AB$37,2,FALSE) -> 882 | BK8: =IF(BJ8>=BJ26,BI8,BI26) -> Aluno 19 | BL8: =VLOOKUP(BK8,$AA$8:$AB$37,2,FALSE) -> 885 | BM8: =IF(BL8>=BL27,BK8,BK27) -> Aluno 20 | BN8: =VLOOKUP(BM8,$AA$8:$AB$37,2,FALSE) -> 888 | BO8: =IF(BN8>=BN28,BM8,BM28) -> Aluno 21 | BP8: =VLOOKUP(BO8,$AA$8:$AB$37,2,FALSE) -> 891 | BQ8: =IF(BP8>=BP29,BO8,BO29) -> Aluno 22 | BR8: =VLOOKUP(BQ8,$AA$8:$AB$37,2,FALSE) -> 894 | BS8: =IF(BR8>=BR30,BQ8,BQ30) -> Aluno 23 | BT8: =VLOOKUP(BS8,$AA$8:$AB$37,2,FALSE) -> 897 | BU8: =IF(BT8>=BT31,BS8,BS31) -> Aluno 24 | BV8: =VLOOKUP(BU8,$AA$8:$AB$37,2,FALSE) -> 900 | BW8: =IF(BV8>=BV32,BU8,BU32) -> Aluno 25 | BX8: =VLOOKUP(BW8,$AA$8:$AB$37,2,FALSE) -> 903 | BY8: =IF(BX8>=BX33,BW8,BW33) -> Aluno 26 | BZ8: =VLOOKUP(BY8,$AA$8:$AB$37,2,FALSE) -> 906 | CA8: =IF(BZ8>=BZ34,BY8,BY34) -> Aluno 27 | CB8: =VLOOKUP(CA8,$AA$8:$AB$37,2,FALSE) -> 909 | CC8: =IF(CB8>=CB35,CA8,CA35) -> Aluno 28 | CD8: =VLOOKUP(CC8,$AA$8:$AB$37,2,FALSE) -> 912 | CE8: =IF(CD8>=CD36,CC8,CC36) -> Aluno 29 | CF8: =VLOOKUP(CE8,$AA$8:$AB$37,2,FALSE) -> 915 | CG8: =IF(CF8>=CF37,CE8,CE37) -> Aluno 30 | CH8: =VLOOKUP(CG8,$AA$8:$AB$37,2,FALSE) -> 918
B9: Aluno 2 | D9: 2 | E9: 42 | F9: 72 | G9: 88 | H9: 76 | I9: =IF(ISERROR(AVERAGE(E9:H9))=TRUE,"",AVERAGE(E9:H9)) -> 69.5 | J9: 42 | K9: 72 | L9: 88 | M9: 76 | N9: =IF(ISERROR(AVERAGE(J9:M9))=TRUE,"",AVERAGE(J9:M9)) -> 69.5 | O9: 42 | P9: 72 | Q9: 88 | R9: 76 | S9: =IF(ISERROR(AVERAGE(O9:R9))=TRUE,"",AVERAGE(O9:R9)) -> 69.5 | T9: =SUM(E9:H9,J9:M9,O9:R9) -> 834 | AA9: =B9 -> Aluno 2 | AB9: =T9 -> 834 | AC9: =IF(AB9<=AB8,AA9,AA8) -> Aluno 1 | AD9: =VLOOKUP(AC9,$AA$8:$AB$37,2,FALSE) -> 831 | AE9: =AC9 -> Aluno 1 | AF9: =VLOOKUP(AE9,$AA$8:$AB$37,2,FALSE) -> 831 | AG9: =AE9 -> Aluno 1 | AH9: =VLOOKUP(AG9,$AA$8:$AB$37,2,FALSE) -> 831 | AI9: =AG9 -> Aluno 1 | AJ9: =VLOOKUP(AI9,$AA$8:$AB$37,2,FALSE) -> 831 | AK9: =AI9 -> Aluno 1 | AL9: =VLOOKUP(AK9,$AA$8:$AB$37,2,FALSE) -> 831 | AM9: =AK9 -> Aluno 1 | AN9: =VLOOKUP(AM9,$AA$8:$AB$37,2,FALSE) -> 831 | AO9: =AM9 -> Aluno 1 | AP9: =VLOOKUP(AO9,$AA$8:$AB$37,2,FALSE) -> 831 | AQ9: =AO9 -> Aluno 1 | AR9: =VLOOKUP(AQ9,$AA$8:$AB$37,2,FALSE) -> 831 | AS9: =AQ9 -> Aluno 1 | AT9: =VLOOKUP(AS9,$AA$8:$AB$37,2,FALSE) -> 831 | AU9: =AS9 -> Aluno 1 | AV9: =VLOOKUP(AU9,$AA$8:$AB$37,2,FALSE) -> 831 | AW9: =AU9 -> Aluno 1 | AX9: =VLOOKUP(AW9,$AA$8:$AB$37,2,FALSE) -> 831 | AY9: =AW9 -> Aluno 1 | AZ9: =VLOOKUP(AY9,$AA$8:$AB$37,2,FALSE) -> 831 | BA9: =AY9 -> Aluno 1 | BB9: =VLOOKUP(BA9,$AA$8:$AB$37,2,FALSE) -> 831 | BC9: =BA9 -> Aluno 1 | BD9: =VLOOKUP(BC9,$AA$8:$AB$37,2,FALSE) -> 831 | BE9: =BC9 -> Aluno 1 | BF9: =VLOOKUP(BE9,$AA$8:$AB$37,2,FALSE) -> 831 | BG9: =BE9 -> Aluno 1 | BH9: =VLOOKUP(BG9,$AA$8:$AB$37,2,FALSE) -> 831 | BI9: =BG9 -> Aluno 1 | BJ9: =VLOOKUP(BI9,$AA$8:$AB$37,2,FALSE) -> 831 | BK9: =BI9 -> Aluno 1 | BL9: =VLOOKUP(BK9,$AA$8:$AB$37,2,FALSE) -> 831 | BM9: =BK9 -> Aluno 1 | BN9: =VLOOKUP(BM9,$AA$8:$AB$37,2,FALSE) -> 831 | BO9: =BM9 -> Aluno 1 | BP9: =VLOOKUP(BO9,$AA$8:$AB$37,2,FALSE) -> 831 | BQ9: =BO9 -> Aluno 1 | BR9: =VLOOKUP(BQ9,$AA$8:$AB$37,2,FALSE) -> 831 | BS9: =BQ9 -> Aluno 1 | BT9: =VLOOKUP(BS9,$AA$8:$AB$37,2,FALSE) -> 831 | BU9: =BS9 -> Aluno 1 | BV9: =VLOOKUP(BU9,$AA$8:$AB$37,2,FALSE) -> 831 | BW9: =BU9 -> Aluno 1 | BX9: =VLOOKUP(BW9,$AA$8:$AB$37,2,FALSE) -> 831 | BY9: =BW9 -> Aluno 1 | BZ9: =VLOOKUP(BY9,$AA$8:$AB$37,2,FALSE) -> 831 | CA9: =BY9 -> Aluno 1 | CB9: =VLOOKUP(CA9,$AA$8:$AB$37,2,FALSE) -> 831 | CC9: =CA9 -> Aluno 1 | CD9: =VLOOKUP(CC9,$AA$8:$AB$37,2,FALSE) -> 831 | CE9: =CC9 -> Aluno 1 | CF9: =VLOOKUP(CE9,$AA$8:$AB$37,2,FALSE) -> 831 | CG9: =CE9 -> Aluno 1 | CH9: =VLOOKUP(CG9,$AA$8:$AB$37,2,FALSE) -> 831
B10: Aluno 3 | D10: 3 | E10: 44 | F10: 73 | G10: 87 | H10: 75 | I10: =IF(ISERROR(AVERAGE(E10:H10))=TRUE,"",AVERAGE(E10:H10)) -> 69.75 | J10: 44 | K10: 73 | L10: 87 | M10: 75 | N10: =IF(ISERROR(AVERAGE(J10:M10))=TRUE,"",AVERAGE(J10:M10)) -> 69.75 | O10: 44 | P10: 73 | Q10: 87 | R10: 75 | S10: =IF(ISERROR(AVERAGE(O10:R10))=TRUE,"",AVERAGE(O10:R10)) -> 69.75 | T10: =SUM(E10:H10,J10:M10,O10:R10) -> 837 | AA10: =B10 -> Aluno 3 | AB10: =T10 -> 837 | AC10: =AA10 -> Aluno 3 | AD10: =VLOOKUP(AC10,$AA$8:$AB$37,2,FALSE) -> 837 | AE10: =IF(AD10<=AD8,AC10,AC8) -> Aluno 2 | AF10: =VLOOKUP(AE10,$AA$8:$AB$37,2,FALSE) -> 834 | AG10: =AE10 -> Aluno 2 | AH10: =VLOOKUP(AG10,$AA$8:$AB$37,2,FALSE) -> 834 | AI10: =AG10 -> Aluno 2 | AJ10: =VLOOKUP(AI10,$AA$8:$AB$37,2,FALSE) -> 834 | AK10: =AI10 -> Aluno 2 | AL10: =VLOOKUP(AK10,$AA$8:$AB$37,2,FALSE) -> 834 | AM10: =AK10 -> Aluno 2 | AN10: =VLOOKUP(AM10,$AA$8:$AB$37,2,FALSE) -> 834 | AO10: =AM10 -> Aluno 2 | AP10: =VLOOKUP(AO10,$AA$8:$AB$37,2,FALSE) -> 834 | AQ10: =AO10 -> Aluno 2 | AR10: =VLOOKUP(AQ10,$AA$8:$AB$37,2,FALSE) -> 834 | AS10: =AQ10 -> Aluno 2 | AT10: =VLOOKUP(AS10,$AA$8:$AB$37,2,FALSE) -> 834 | AU10: =AS10 -> Aluno 2 | AV10: =VLOOKUP(AU10,$AA$8:$AB$37,2,FALSE) -> 834 | AW10: =AU10 -> Aluno 2 | AX10: =VLOOKUP(AW10,$AA$8:$AB$37,2,FALSE) -> 834 | AY10: =AW10 -> Aluno 2 | AZ10: =VLOOKUP(AY10,$AA$8:$AB$37,2,FALSE) -> 834 | BA10: =AY10 -> Aluno 2 | BB10: =VLOOKUP(BA10,$AA$8:$AB$37,2,FALSE) -> 834 | BC10: =BA10 -> Aluno 2 | BD10: =VLOOKUP(BC10,$AA$8:$AB$37,2,FALSE) -> 834 | BE10: =BC10 -> Aluno 2 | BF10: =VLOOKUP(BE10,$AA$8:$AB$37,2,FALSE) -> 834 | BG10: =BE10 -> Aluno 2 | BH10: =VLOOKUP(BG10,$AA$8:$AB$37,2,FALSE) -> 834 | BI10: =BG10 -> Aluno 2 | BJ10: =VLOOKUP(BI10,$AA$8:$AB$37,2,FALSE) -> 834 | BK10: =BI10 -> Aluno 2 | BL10: =VLOOKUP(BK10,$AA$8:$AB$37,2,FALSE) -> 834 | BM10: =BK10 -> Aluno 2 | BN10: =VLOOKUP(BM10,$AA$8:$AB$37,2,FALSE) -> 834 | BO10: =BM10 -> Aluno 2 | BP10: =VLOOKUP(BO10,$AA$8:$AB$37,2,FALSE) -> 834 | BQ10: =BO10 -> Aluno 2 | BR10: =VLOOKUP(BQ10,$AA$8:$AB$37,2,FALSE) -> 834 | BS10: =BQ10 -> Aluno 2 | BT10: =VLOOKUP(BS10,$AA$8:$AB$37,2,FALSE) -> 834 | BU10: =BS10 -> Aluno 2 | BV10: =VLOOKUP(BU10,$AA$8:$AB$37,2,FALSE) -> 834 | BW10: =BU10 -> Aluno 2 | BX10: =VLOOKUP(BW10,$AA$8:$AB$37,2,FALSE) -> 834 | BY10: =BW10 -> Aluno 2 | BZ10: =VLOOKUP(BY10,$AA$8:$AB$37,2,FALSE) -> 834 | CA10: =BY10 -> Aluno 2 | CB10: =VLOOKUP(CA10,$AA$8:$AB$37,2,FALSE) -> 834 | CC10: =CA10 -> Aluno 2 | CD10: =VLOOKUP(CC10,$AA$8:$AB$37,2,FALSE) -> 834 | CE10: =CC10 -> Aluno 2 | CF10: =VLOOKUP(CE10,$AA$8:$AB$37,2,FALSE) -> 834 | CG10: =CE10 -> Aluno 2 | CH10: =VLOOKUP(CG10,$AA$8:$AB$37,2,FALSE) -> 834
B11: Aluno 4 | D11: 4 | E11: 46 | F11: 74 | G11: 86 | H11: 74 | I11: =IF(ISERROR(AVERAGE(E11:H11))=TRUE,"",AVERAGE(E11:H11)) -> 70 | J11: 46 | K11: 74 | L11: 86 | M11: 74 | N11: =IF(ISERROR(AVERAGE(J11:M11))=TRUE,"",AVERAGE(J11:M11)) -> 70 | O11: 46 | P11: 74 | Q11: 86 | R11: 74 | S11: =IF(ISERROR(AVERAGE(O11:R11))=TRUE,"",AVERAGE(O11:R11)) -> 70 | T11: =SUM(E11:H11,J11:M11,O11:R11) -> 840 | AA11: =B11 -> Aluno 4 | AB11: =T11 -> 840 | AC11: =AA11 -> Aluno 4 | AD11: =VLOOKUP(AC11,$AA$8:$AB$37,2,FALSE) -> 840 | AE11: =AC11 -> Aluno 4 | AF11: =VLOOKUP(AE11,$AA$8:$AB$37,2,FALSE) -> 840 | AG11: =IF(AF11<=AF8,AE11,AE8) -> Aluno 3 | AH11: =VLOOKUP(AG11,$AA$8:$AB$37,2,FALSE) -> 837 | AI11: =AG11 -> Aluno 3 | AJ11: =VLOOKUP(AI11,$AA$8:$AB$37,2,FALSE) -> 837 | AK11: =AI11 -> Aluno 3 | AL11: =VLOOKUP(AK11,$AA$8:$AB$37,2,FALSE) -> 837 | AM11: =AK11 -> Aluno 3 | AN11: =VLOOKUP(AM11,$AA$8:$AB$37,2,FALSE) -> 837 | AO11: =AM11 -> Aluno 3 | AP11: =VLOOKUP(AO11,$AA$8:$AB$37,2,FALSE) -> 837 | AQ11: =AO11 -> Aluno 3 | AR11: =VLOOKUP(AQ11,$AA$8:$AB$37,2,FALSE) -> 837 | AS11: =AQ11 -> Aluno 3 | AT11: =VLOOKUP(AS11,$AA$8:$AB$37,2,FALSE) -> 837 | AU11: =AS11 -> Aluno 3 | AV11: =VLOOKUP(AU11,$AA$8:$AB$37,2,FALSE) -> 837 | AW11: =AU11 -> Aluno 3 | AX11: =VLOOKUP(AW11,$AA$8:$AB$37,2,FALSE) -> 837 | AY11: =AW11 -> Aluno 3 | AZ11: =VLOOKUP(AY11,$AA$8:$AB$37,2,FALSE) -> 837 | BA11: =AY11 -> Aluno 3 | BB11: =VLOOKUP(BA11,$AA$8:$AB$37,2,FALSE) -> 837 | BC11: =BA11 -> Aluno 3 | BD11: =VLOOKUP(BC11,$AA$8:$AB$37,2,FALSE) -> 837 | BE11: =BC11 -> Aluno 3 | BF11: =VLOOKUP(BE11,$AA$8:$AB$37,2,FALSE) -> 837 | BG11: =BE11 -> Aluno 3 | BH11: =VLOOKUP(BG11,$AA$8:$AB$37,2,FALSE) -> 837 | BI11: =BG11 -> Aluno 3 | BJ11: =VLOOKUP(BI11,$AA$8:$AB$37,2,FALSE) -> 837 | BK11: =BI11 -> Aluno 3 | BL11: =VLOOKUP(BK11,$AA$8:$AB$37,2,FALSE) -> 837 | BM11: =BK11 -> Aluno 3 | BN11: =VLOOKUP(BM11,$AA$8:$AB$37,2,FALSE) -> 837 | BO11: =BM11 -> Aluno 3 | BP11: =VLOOKUP(BO11,$AA$8:$AB$37,2,FALSE) -> 837 | BQ11: =BO11 -> Aluno 3 | BR11: =VLOOKUP(BQ11,$AA$8:$AB$37,2,FALSE) -> 837 | BS11: =BQ11 -> Aluno 3 | BT11: =VLOOKUP(BS11,$AA$8:$AB$37,2,FALSE) -> 837 | BU11: =BS11 -> Aluno 3 | BV11: =VLOOKUP(BU11,$AA$8:$AB$37,2,FALSE) -> 837 | BW11: =BU11 -> Aluno 3 | BX11: =VLOOKUP(BW11,$AA$8:$AB$37,2,FALSE) -> 837 | BY11: =BW11 -> Aluno 3 | BZ11: =VLOOKUP(BY11,$AA$8:$AB$37,2,FALSE) -> 837 | CA11: =BY11 -> Aluno 3 | CB11: =VLOOKUP(CA11,$AA$8:$AB$37,2,FALSE) -> 837 | CC11: =CA11 -> Aluno 3 | CD11: =VLOOKUP(CC11,$AA$8:$AB$37,2,FALSE) -> 837 | CE11: =CC11 -> Aluno 3 | CF11: =VLOOKUP(CE11,$AA$8:$AB$37,2,FALSE) -> 837 | CG11: =CE11 -> Aluno 3 | CH11: =VLOOKUP(CG11,$AA$8:$AB$37,2,FALSE) -> 837
B12: Aluno 5 | D12: 5 | E12: 48 | F12: 75 | G12: 85 | H12: 73 | I12: =IF(ISERROR(AVERAGE(E12:H12))=TRUE,"",AVERAGE(E12:H12)) -> 70.25 | J12: 48 | K12: 75 | L12: 85 | M12: 73 | N12: =IF(ISERROR(AVERAGE(J12:M12))=TRUE,"",AVERAGE(J12:M12)) -> 70.25 | O12: 48 | P12: 75 | Q12: 85 | R12: 73 | S12: =IF(ISERROR(AVERAGE(O12:R12))=TRUE,"",AVERAGE(O12:R12)) -> 70.25 | T12: =SUM(E12:H12,J12:M12,O12:R12) -> 843 | AA12: =B12 -> Aluno 5 | AB12: =T12 -> 843 | AC12: =AA12 -> Aluno 5 | AD12: =VLOOKUP(AC12,$AA$8:$AB$37,2,FALSE) -> 843 | AE12: =AC12 -> Aluno 5 | AF12: =VLOOKUP(AE12,$AA$8:$AB$37,2,FALSE) -> 843 | AG12: =AE12 -> Aluno 5 | AH12: =VLOOKUP(AG12,$AA$8:$AB$37,2,FALSE) -> 843 | AI12: =IF(AH12<=AH8,AG12,AG8) -> Aluno 4 | AJ12: =VLOOKUP(AI12,$AA$8:$AB$37,2,FALSE) -> 840 | AK12: =AI12 -> Aluno 4 | AL12: =VLOOKUP(AK12,$AA$8:$AB$37,2,FALSE) -> 840 | AM12: =AK12 -> Aluno 4 | AN12: =VLOOKUP(AM12,$AA$8:$AB$37,2,FALSE) -> 840 | AO12: =AM12 -> Aluno 4 | AP12: =VLOOKUP(AO12,$AA$8:$AB$37,2,FALSE) -> 840 | AQ12: =AO12 -> Aluno 4 | AR12: =VLOOKUP(AQ12,$AA$8:$AB$37,2,FALSE) -> 840 | AS12: =AQ12 -> Aluno 4 | AT12: =VLOOKUP(AS12,$AA$8:$AB$37,2,FALSE) -> 840 | AU12: =AS12 -> Aluno 4 | AV12: =VLOOKUP(AU12,$AA$8:$AB$37,2,FALSE) -> 840 | AW12: =AU12 -> Aluno 4 | AX12: =VLOOKUP(AW12,$AA$8:$AB$37,2,FALSE) -> 840 | AY12: =AW12 -> Aluno 4 | AZ12: =VLOOKUP(AY12,$AA$8:$AB$37,2,FALSE) -> 840 | BA12: =AY12 -> Aluno 4 | BB12: =VLOOKUP(BA12,$AA$8:$AB$37,2,FALSE) -> 840 | BC12: =BA12 -> Aluno 4 | BD12: =VLOOKUP(BC12,$AA$8:$AB$37,2,FALSE) -> 840 | BE12: =BC12 -> Aluno 4 | BF12: =VLOOKUP(BE12,$AA$8:$AB$37,2,FALSE) -> 840 | BG12: =BE12 -> Aluno 4 | BH12: =VLOOKUP(BG12,$AA$8:$AB$37,2,FALSE) -> 840 | BI12: =BG12 -> Aluno 4 | BJ12: =VLOOKUP(BI12,$AA$8:$AB$37,2,FALSE) -> 840 | BK12: =BI12 -> Aluno 4 | BL12: =VLOOKUP(BK12,$AA$8:$AB$37,2,FALSE) -> 840 | BM12: =BK12 -> Aluno 4 | BN12: =VLOOKUP(BM12,$AA$8:$AB$37,2,FALSE) -> 840 | BO12: =BM12 -> Aluno 4 | BP12: =VLOOKUP(BO12,$AA$8:$AB$37,2,FALSE) -> 840 | BQ12: =BO12 -> Aluno 4 | BR12: =VLOOKUP(BQ12,$AA$8:$AB$37,2,FALSE) -> 840 | BS12: =BQ12 -> Aluno 4 | BT12: =VLOOKUP(BS12,$AA$8:$AB$37,2,FALSE) -> 840 | BU12: =BS12 -> Aluno 4 | BV12: =VLOOKUP(BU12,$AA$8:$AB$37,2,FALSE) -> 840 | BW12: =BU12 -> Aluno 4 | BX12: =VLOOKUP(BW12,$AA$8:$AB$37,2,FALSE) -> 840 | BY12: =BW12 -> Aluno 4 | BZ12: =VLOOKUP(BY12,$AA$8:$AB$37,2,FALSE) -> 840 | CA12: =BY12 -> Aluno 4 | CB12: =VLOOKUP(CA12,$AA$8:$AB$37,2,FALSE) -> 840 | CC12: =CA12 -> Aluno 4 | CD12: =VLOOKUP(CC12,$AA$8:$AB$37,2,FALSE) -> 840 | CE12: =CC12 -> Aluno 4 | CF12: =VLOOKUP(CE12,$AA$8:$AB$37,2,FALSE) -> 840 | CG12: =CE12 -> Aluno 4 | CH12: =VLOOKUP(CG12,$AA$8:$AB$37,2,FALSE) -> 840
B13: Aluno 6 | D13: 6 | E13: 50 | F13: 76 | G13: 84 | H13: 72 | I13: =IF(ISERROR(AVERAGE(E13:H13))=TRUE,"",AVERAGE(E13:H13)) -> 70.5 | J13: 50 | K13: 76 | L13: 84 | M13: 72 | N13: =IF(ISERROR(AVERAGE(J13:M13))=TRUE,"",AVERAGE(J13:M13)) -> 70.5 | O13: 50 | P13: 76 | Q13: 84 | R13: 72 | S13: =IF(ISERROR(AVERAGE(O13:R13))=TRUE,"",AVERAGE(O13:R13)) -> 70.5 | T13: =SUM(E13:H13,J13:M13,O13:R13) -> 846 | AA13: =B13 -> Aluno 6 | AB13: =T13 -> 846 | AC13: =AA13 -> Aluno 6 | AD13: =VLOOKUP(AC13,$AA$8:$AB$37,2,FALSE) -> 846 | AE13: =AC13 -> Aluno 6 | AF13: =VLOOKUP(AE13,$AA$8:$AB$37,2,FALSE) -> 846 | AG13: =AE13 -> Aluno 6 | AH13: =VLOOKUP(AG13,$AA$8:$AB$37,2,FALSE) -> 846 | AI13: =AG13 -> Aluno 6 | AJ13: =VLOOKUP(AI13,$AA$8:$AB$37,2,FALSE) -> 846 | AK13: =IF(AJ13<=AJ8,AI13,AI8) -> Aluno 5 | AL13: =VLOOKUP(AK13,$AA$8:$AB$37,2,FALSE) -> 843 | AM13: =AK13 -> Aluno 5 | AN13: =VLOOKUP(AM13,$AA$8:$AB$37,2,FALSE) -> 843 | AO13: =AM13 -> Aluno 5 | AP13: =VLOOKUP(AO13,$AA$8:$AB$37,2,FALSE) -> 843 | AQ13: =AO13 -> Aluno 5 | AR13: =VLOOKUP(AQ13,$AA$8:$AB$37,2,FALSE) -> 843 | AS13: =AQ13 -> Aluno 5 | AT13: =VLOOKUP(AS13,$AA$8:$AB$37,2,FALSE) -> 843 | AU13: =AS13 -> Aluno 5 | AV13: =VLOOKUP(AU13,$AA$8:$AB$37,2,FALSE) -> 843 | AW13: =AU13 -> Aluno 5 | AX13: =VLOOKUP(AW13,$AA$8:$AB$37,2,FALSE) -> 843 | AY13: =AW13 -> Aluno 5 | AZ13: =VLOOKUP(AY13,$AA$8:$AB$37,2,FALSE) -> 843 | BA13: =AY13 -> Aluno 5 | BB13: =VLOOKUP(BA13,$AA$8:$AB$37,2,FALSE) -> 843 | BC13: =BA13 -> Aluno 5 | BD13: =VLOOKUP(BC13,$AA$8:$AB$37,2,FALSE) -> 843 | BE13: =BC13 -> Aluno 5 | BF13: =VLOOKUP(BE13,$AA$8:$AB$37,2,FALSE) -> 843 | BG13: =BE13 -> Aluno 5 | BH13: =VLOOKUP(BG13,$AA$8:$AB$37,2,FALSE) -> 843 | BI13: =BG13 -> Aluno 5 | BJ13: =VLOOKUP(BI13,$AA$8:$AB$37,2,FALSE) -> 843 | BK13: =BI13 -> Aluno 5 | BL13: =VLOOKUP(BK13,$AA$8:$AB$37,2,FALSE) -> 843 | BM13: =BK13 -> Aluno 5 | BN13: =VLOOKUP(BM13,$AA$8:$AB$37,2,FALSE) -> 843 | BO13: =BM13 -> Aluno 5 | BP13: =VLOOKUP(BO13,$AA$8:$AB$37,2,FALSE) -> 843 | BQ13: =BO13 -> Aluno 5 | BR13: =VLOOKUP(BQ13,$AA$8:$AB$37,2,FALSE) -> 843 | BS13: =BQ13 -> Aluno 5 | BT13: =VLOOKUP(BS13,$AA$8:$AB$37,2,FALSE) -> 843 | BU13: =BS13 -> Aluno 5 | BV13: =VLOOKUP(BU13,$AA$8:$AB$37,2,FALSE) -> 843 | BW13: =BU13 -> Aluno 5 | BX13: =VLOOKUP(BW13,$AA$8:$AB$37,2,FALSE) -> 843 | BY13: =BW13 -> Aluno 5 | BZ13: =VLOOKUP(BY13,$AA$8:$AB$37,2,FALSE) -> 843 | CA13: =BY13 -> Aluno 5 | CB13: =VLOOKUP(CA13,$AA$8:$AB$37,2,FALSE) -> 843 | CC13: =CA13 -> Aluno 5 | CD13: =VLOOKUP(CC13,$AA$8:$AB$37,2,FALSE) -> 843 | CE13: =CC13 -> Aluno 5 | CF13: =VLOOKUP(CE13,$AA$8:$AB$37,2,FALSE) -> 843 | CG13: =CE13 -> Aluno 5 | CH13: =VLOOKUP(CG13,$AA$8:$AB$37,2,FALSE) -> 843
B14: Aluno 7 | D14: 7 | E14: 52 | F14: 77 | G14: 83 | H14: 71 | I14: =IF(ISERROR(AVERAGE(E14:H14))=TRUE,"",AVERAGE(E14:H14)) -> 70.75 | J14: 52 | K14: 77 | L14: 83 | M14: 71 | N14: =IF(ISERROR(AVERAGE(J14:M14))=TRUE,"",AVERAGE(J14:M14)) -> 70.75 | O14: 52 | P14: 77 | Q14: 83 | R14: 71 | S14: =IF(ISERROR(AVERAGE(O14:R14))=TRUE,"",AVERAGE(O14:R14)) -> 70.75 | T14: =SUM(E14:H14,J14:M14,O14:R14) -> 849 | AA14: =B14 -> Aluno 7 | AB14: =T14 -> 849 | AC14: =AA14 -> Aluno 7 | AD14: =VLOOKUP(AC14,$AA$8:$AB$37,2,FALSE) -> 849 | AE14: =AC14 -> Aluno 7 | AF14: =VLOOKUP(AE14,$AA$8:$AB$37,2,FALSE) -> 849 | AG14: =AE14 -> Aluno 7 | AH14: =VLOOKUP(AG14,$AA$8:$AB$37,2,FALSE) -> 849 | AI14: =AG14 -> Aluno 7 | AJ14: =VLOOKUP(AI14,$AA$8:$AB$37,2,FALSE) -> 849 | AK14: =AI14 -> Aluno 7 | AL14: =VLOOKUP(AK14,$AA$8:$AB$37,2,FALSE) -> 849 | AM14: =IF(AL14<=AL8,AK14,AK8) -> Aluno 6 | AN14: =VLOOKUP(AM14,$AA$8:$AB$37,2,FALSE) -> 846 | AO14: =AM14 -> Aluno 6 | AP14: =VLOOKUP(AO14,$AA$8:$AB$37,2,FALSE) -> 846 | AQ14: =AO14 -> Aluno 6 | AR14: =VLOOKUP(AQ14,$AA$8:$AB$37,2,FALSE) -> 846 | AS14: =AQ14 -> Aluno 6 | AT14: =VLOOKUP(AS14,$AA$8:$AB$37,2,FALSE) -> 846 | AU14: =AS14 -> Aluno 6 | AV14: =VLOOKUP(AU14,$AA$8:$AB$37,2,FALSE) -> 846 | AW14: =AU14 -> Aluno 6 | AX14: =VLOOKUP(AW14,$AA$8:$AB$37,2,FALSE) -> 846 | AY14: =AW14 -> Aluno 6 | AZ14: =VLOOKUP(AY14,$AA$8:$AB$37,2,FALSE) -> 846 | BA14: =AY14 -> Aluno 6 | BB14: =VLOOKUP(BA14,$AA$8:$AB$37,2,FALSE) -> 846 | BC14: =BA14 -> Aluno 6 | BD14: =VLOOKUP(BC14,$AA$8:$AB$37,2,FALSE) -> 846 | BE14: =BC14 -> Aluno 6 | BF14: =VLOOKUP(BE14,$AA$8:$AB$37,2,FALSE) -> 846 | BG14: =BE14 -> Aluno 6 | BH14: =VLOOKUP(BG14,$AA$8:$AB$37,2,FALSE) -> 846 | BI14: =BG14 -> Aluno 6 | BJ14: =VLOOKUP(BI14,$AA$8:$AB$37,2,FALSE) -> 846 | BK14: =BI14 -> Aluno 6 | BL14: =VLOOKUP(BK14,$AA$8:$AB$37,2,FALSE) -> 846 | BM14: =BK14 -> Aluno 6 | BN14: =VLOOKUP(BM14,$AA$8:$AB$37,2,FALSE) -> 846 | BO14: =BM14 -> Aluno 6 | BP14: =VLOOKUP(BO14,$AA$8:$AB$37,2,FALSE) -> 846 | BQ14: =BO14 -> Aluno 6 | BR14: =VLOOKUP(BQ14,$AA$8:$AB$37,2,FALSE) -> 846 | BS14: =BQ14 -> Aluno 6 | BT14: =VLOOKUP(BS14,$AA$8:$AB$37,2,FALSE) -> 846 | BU14: =BS14 -> Aluno 6 | BV14: =VLOOKUP(BU14,$AA$8:$AB$37,2,FALSE) -> 846 | BW14: =BU14 -> Aluno 6 | BX14: =VLOOKUP(BW14,$AA$8:$AB$37,2,FALSE) -> 846 | BY14: =BW14 -> Aluno 6 | BZ14: =VLOOKUP(BY14,$AA$8:$AB$37,2,FALSE) -> 846 | CA14: =BY14 -> Aluno 6 | CB14: =VLOOKUP(CA14,$AA$8:$AB$37,2,FALSE) -> 846 | CC14: =CA14 -> Aluno 6 | CD14: =VLOOKUP(CC14,$AA$8:$AB$37,2,FALSE) -> 846 | CE14: =CC14 -> Aluno 6 | CF14: =VLOOKUP(CE14,$AA$8:$AB$37,2,FALSE) -> 846 | CG14: =CE14 -> Aluno 6 | CH14: =VLOOKUP(CG14,$AA$8:$AB$37,2,FALSE) -> 846
B15: Aluno 8 | D15: 8 | E15: 54 | F15: 78 | G15: 82 | H15: 70 | I15: =IF(ISERROR(AVERAGE(E15:H15))=TRUE,"",AVERAGE(E15:H15)) -> 71 | J15: 54 | K15: 78 | L15: 82 | M15: 70 | N15: =IF(ISERROR(AVERAGE(J15:M15))=TRUE,"",AVERAGE(J15:M15)) -> 71 | O15: 54 | P15: 78 | Q15: 82 | R15: 70 | S15: =IF(ISERROR(AVERAGE(O15:R15))=TRUE,"",AVERAGE(O15:R15)) -> 71 | T15: =SUM(E15:H15,J15:M15,O15:R15) -> 852 | AA15: =B15 -> Aluno 8 | AB15: =T15 -> 852 | AC15: =AA15 -> Aluno 8 | AD15: =VLOOKUP(AC15,$AA$8:$AB$37,2,FALSE) -> 852 | AE15: =AC15 -> Aluno 8 | AF15: =VLOOKUP(AE15,$AA$8:$AB$37,2,FALSE) -> 852 | AG15: =AE15 -> Aluno 8 | AH15: =VLOOKUP(AG15,$AA$8:$AB$37,2,FALSE) -> 852 | AI15: =AG15 -> Aluno 8 | AJ15: =VLOOKUP(AI15,$AA$8:$AB$37,2,FALSE) -> 852 | AK15: =AI15 -> Aluno 8 | AL15: =VLOOKUP(AK15,$AA$8:$AB$37,2,FALSE) -> 852 | AM15: =AK15 -> Aluno 8 | AN15: =VLOOKUP(AM15,$AA$8:$AB$37,2,FALSE) -> 852 | AO15: =IF(AN15<=AN8,AM15,AM8) -> Aluno 7 | AP15: =VLOOKUP(AO15,$AA$8:$AB$37,2,FALSE) -> 849 | AQ15: =AO15 -> Aluno 7 | AR15: =VLOOKUP(AQ15,$AA$8:$AB$37,2,FALSE) -> 849 | AS15: =AQ15 -> Aluno 7 | AT15: =VLOOKUP(AS15,$AA$8:$AB$37,2,FALSE) -> 849 | AU15: =AS15 -> Aluno 7 | AV15: =VLOOKUP(AU15,$AA$8:$AB$37,2,FALSE) -> 849 | AW15: =AU15 -> Aluno 7 | AX15: =VLOOKUP(AW15,$AA$8:$AB$37,2,FALSE) -> 849 | AY15: =AW15 -> Aluno 7 | AZ15: =VLOOKUP(AY15,$AA$8:$AB$37,2,FALSE) -> 849 | BA15: =AY15 -> Aluno 7 | BB15: =VLOOKUP(BA15,$AA$8:$AB$37,2,FALSE) -> 849 | BC15: =BA15 -> Aluno 7 | BD15: =VLOOKUP(BC15,$AA$8:$AB$37,2,FALSE) -> 849 | BE15: =BC15 -> Aluno 7 | BF15: =VLOOKUP(BE15,$AA$8:$AB$37,2,FALSE) -> 849 | BG15: =BE15 -> Aluno 7 | BH15: =VLOOKUP(BG15,$AA$8:$AB$37,2,FALSE) -> 849 | BI15: =BG15 -> Aluno 7 | BJ15: =VLOOKUP(BI15,$AA$8:$AB$37,2,FALSE) -> 849 | BK15: =BI15 -> Aluno 7 | BL15: =VLOOKUP(BK15,$AA$8:$AB$37,2,FALSE) -> 849 | BM15: =BK15 -> Aluno 7 | BN15: =VLOOKUP(BM15,$AA$8:$AB$37,2,FALSE) -> 849 | BO15: =BM15 -> Aluno 7 | BP15: =VLOOKUP(BO15,$AA$8:$AB$37,2,FALSE) -> 849 | BQ15: =BO15 -> Aluno 7 | BR15: =VLOOKUP(BQ15,$AA$8:$AB$37,2,FALSE) -> 849 | BS15: =BQ15 -> Aluno 7 | BT15: =VLOOKUP(BS15,$AA$8:$AB$37,2,FALSE) -> 849 | BU15: =BS15 -> Aluno 7 | BV15: =VLOOKUP(BU15,$AA$8:$AB$37,2,FALSE) -> 849 | BW15: =BU15 -> Aluno 7 | BX15: =VLOOKUP(BW15,$AA$8:$AB$37,2,FALSE) -> 849 | BY15: =BW15 -> Aluno 7 | BZ15: =VLOOKUP(BY15,$AA$8:$AB$37,2,FALSE) -> 849 | CA15: =BY15 -> Aluno 7 | CB15: =VLOOKUP(CA15,$AA$8:$AB$37,2,FALSE) -> 849 | CC15: =CA15 -> Aluno 7 | CD15: =VLOOKUP(CC15,$AA$8:$AB$37,2,FALSE) -> 849 | CE15: =CC15 -> Aluno 7 | CF15: =VLOOKUP(CE15,$AA$8:$AB$37,2,FALSE) -> 849 | CG15: =CE15 -> Aluno 7 | CH15: =VLOOKUP(CG15,$AA$8:$AB$37,2,FALSE) -> 849
B16: Aluno 9 | D16: 9 | E16: 56 | F16: 79 | G16: 81 | H16: 69 | I16: =IF(ISERROR(AVERAGE(E16:H16))=TRUE,"",AVERAGE(E16:H16)) -> 71.25 | J16: 56 | K16: 79 | L16: 81 | M16: 69 | N16: =IF(ISERROR(AVERAGE(J16:M16))=TRUE,"",AVERAGE(J16:M16)) -> 71.25 | O16: 56 | P16: 79 | Q16: 81 | R16: 69 | S16: =IF(ISERROR(AVERAGE(O16:R16))=TRUE,"",AVERAGE(O16:R16)) -> 71.25 | T16: =SUM(E16:H16,J16:M16,O16:R16) -> 855 | AA16: =B16 -> Aluno 9 | AB16: =T16 -> 855 | AC16: =AA16 -> Aluno 9 | AD16: =VLOOKUP(AC16,$AA$8:$AB$37,2,FALSE) -> 855 | AE16: =AC16 -> Aluno 9 | AF16: =VLOOKUP(AE16,$AA$8:$AB$37,2,FALSE) -> 855 | AG16: =AE16 -> Aluno 9 | AH16: =VLOOKUP(AG16,$AA$8:$AB$37,2,FALSE) -> 855 | AI16: =AG16 -> Aluno 9 | AJ16: =VLOOKUP(AI16,$AA$8:$AB$37,2,FALSE) -> 855 | AK16: =AI16 -> Aluno 9 | AL16: =VLOOKUP(AK16,$AA$8:$AB$37,2,FALSE) -> 855 | AM16: =AK16 -> Aluno 9 | AN16: =VLOOKUP(AM16,$AA$8:$AB$37,2,FALSE) -> 855 | AO16: =AM16 -> Aluno 9 | AP16: =VLOOKUP(AO16,$AA$8:$AB$37,2,FALSE) -> 855 | AQ16: =IF(AP16<=AP8,AO16,AO8) -> Aluno 8 | AR16: =VLOOKUP(AQ16,$AA$8:$AB$37,2,FALSE) -> 852 | AS16: =AQ16 -> Aluno 8 | AT16: =VLOOKUP(AS16,$AA$8:$AB$37,2,FALSE) -> 852 | AU16: =AS16 -> Aluno 8 | AV16: =VLOOKUP(AU16,$AA$8:$AB$37,2,FALSE) -> 852 | AW16: =AU16 -> Aluno 8 | AX16: =VLOOKUP(AW16,$AA$8:$AB$37,2,FALSE) -> 852 | AY16: =AW16 -> Aluno 8 | AZ16: =VLOOKUP(AY16,$AA$8:$AB$37,2,FALSE) -> 852 | BA16: =AY16 -> Aluno 8 | BB16: =VLOOKUP(BA16,$AA$8:$AB$37,2,FALSE) -> 852 | BC16: =BA16 -> Aluno 8 | BD16: =VLOOKUP(BC16,$AA$8:$AB$37,2,FALSE) -> 852 | BE16: =BC16 -> Aluno 8 | BF16: =VLOOKUP(BE16,$AA$8:$AB$37,2,FALSE) -> 852 | BG16: =BE16 -> Aluno 8 | BH16: =VLOOKUP(BG16,$AA$8:$AB$37,2,FALSE) -> 852 | BI16: =BG16 -> Aluno 8 | BJ16: =VLOOKUP(BI16,$AA$8:$AB$37,2,FALSE) -> 852 | BK16: =BI16 -> Aluno 8 | BL16: =VLOOKUP(BK16,$AA$8:$AB$37,2,FALSE) -> 852 | BM16: =BK16 -> Aluno 8 | BN16: =VLOOKUP(BM16,$AA$8:$AB$37,2,FALSE) -> 852 | BO16: =BM16 -> Aluno 8 | BP16: =VLOOKUP(BO16,$AA$8:$AB$37,2,FALSE) -> 852 | BQ16: =BO16 -> Aluno 8 | BR16: =VLOOKUP(BQ16,$AA$8:$AB$37,2,FALSE) -> 852 | BS16: =BQ16 -> Aluno 8 | BT16: =VLOOKUP(BS16,$AA$8:$AB$37,2,FALSE) -> 852 | BU16: =BS16 -> Aluno 8 | BV16: =VLOOKUP(BU16,$AA$8:$AB$37,2,FALSE) -> 852 | BW16: =BU16 -> Aluno 8 | BX16: =VLOOKUP(BW16,$AA$8:$AB$37,2,FALSE) -> 852 | BY16: =BW16 -> Aluno 8 | BZ16: =VLOOKUP(BY16,$AA$8:$AB$37,2,FALSE) -> 852 | CA16: =BY16 -> Aluno 8 | CB16: =VLOOKUP(CA16,$AA$8:$AB$37,2,FALSE) -> 852 | CC16: =CA16 -> Aluno 8 | CD16: =VLOOKUP(CC16,$AA$8:$AB$37,2,FALSE) -> 852 | CE16: =CC16 -> Aluno 8 | CF16: =VLOOKUP(CE16,$AA$8:$AB$37,2,FALSE) -> 852 | CG16: =CE16 -> Aluno 8 | CH16: =VLOOKUP(CG16,$AA$8:$AB$37,2,FALSE) -> 852
B17: Aluno 10 | D17: 10 | E17: 58 | F17: 80 | G17: 80 | H17: 68 | I17: =IF(ISERROR(AVERAGE(E17:H17))=TRUE,"",AVERAGE(E17:H17)) -> 71.5 | J17: 58 | K17: 80 | L17: 80 | M17: 68 | N17: =IF(ISERROR(AVERAGE(J17:M17))=TRUE,"",AVERAGE(J17:M17)) -> 71.5 | O17: 58 | P17: 80 | Q17: 80 | R17: 68 | S17: =IF(ISERROR(AVERAGE(O17:R17))=TRUE,"",AVERAGE(O17:R17)) -> 71.5 | T17: =SUM(E17:H17,J17:M17,O17:R17) -> 858 | AA17: =B17 -> Aluno 10 | AB17: =T17 -> 858 | AC17: =AA17 -> Aluno 10 | AD17: =VLOOKUP(AC17,$AA$8:$AB$37,2,FALSE) -> 858 | AE17: =AC17 -> Aluno 10 | AF17: =VLOOKUP(AE17,$AA$8:$AB$37,2,FALSE) -> 858 | AG17: =AE17 -> Aluno 10 | AH17: =VLOOKUP(AG17,$AA$8:$AB$37,2,FALSE) -> 858 | AI17: =AG17 -> Aluno 10 | AJ17: =VLOOKUP(AI17,$AA$8:$AB$37,2,FALSE) -> 858 | AK17: =AI17 -> Aluno 10 | AL17: =VLOOKUP(AK17,$AA$8:$AB$37,2,FALSE) -> 858 | AM17: =AK17 -> Aluno 10 | AN17: =VLOOKUP(AM17,$AA$8:$AB$37,2,FALSE) -> 858 | AO17: =AM17 -> Aluno 10 | AP17: =VLOOKUP(AO17,$AA$8:$AB$37,2,FALSE) -> 858 | AQ17: =AO17 -> Aluno 10 | AR17: =VLOOKUP(AQ17,$AA$8:$AB$37,2,FALSE) -> 858 | AS17: =IF(AR17<=AR8,AQ17,AQ8) -> Aluno 9 | AT17: =VLOOKUP(AS17,$AA$8:$AB$37,2,FALSE) -> 855 | AU17: =AS17 -> Aluno 9 | AV17: =VLOOKUP(AU17,$AA$8:$AB$37,2,FALSE) -> 855 | AW17: =AU17 -> Aluno 9 | AX17: =VLOOKUP(AW17,$AA$8:$AB$37,2,FALSE) -> 855 | AY17: =AW17 -> Aluno 9 | AZ17: =VLOOKUP(AY17,$AA$8:$AB$37,2,FALSE) -> 855 | BA17: =AY17 -> Aluno 9 | BB17: =VLOOKUP(BA17,$AA$8:$AB$37,2,FALSE) -> 855 | BC17: =BA17 -> Aluno 9 | BD17: =VLOOKUP(BC17,$AA$8:$AB$37,2,FALSE) -> 855 | BE17: =BC17 -> Aluno 9 | BF17: =VLOOKUP(BE17,$AA$8:$AB$37,2,FALSE) -> 855 | BG17: =BE17 -> Aluno 9 | BH17: =VLOOKUP(BG17,$AA$8:$AB$37,2,FALSE) -> 855 | BI17: =BG17 -> Aluno 9 | BJ17: =VLOOKUP(BI17,$AA$8:$AB$37,2,FALSE) -> 855 | BK17: =BI17 -> Aluno 9 | BL17: =VLOOKUP(BK17,$AA$8:$AB$37,2,FALSE) -> 855 | BM17: =BK17 -> Aluno 9 | BN17: =VLOOKUP(BM17,$AA$8:$AB$37,2,FALSE) -> 855 | BO17: =BM17 -> Aluno 9 | BP17: =VLOOKUP(BO17,$AA$8:$AB$37,2,FALSE) -> 855 | BQ17: =BO17 -> Aluno 9 | BR17: =VLOOKUP(BQ17,$AA$8:$AB$37,2,FALSE) -> 855 | BS17: =BQ17 -> Aluno 9 | BT17: =VLOOKUP(BS17,$AA$8:$AB$37,2,FALSE) -> 855 | BU17: =BS17 -> Aluno 9 | BV17: =VLOOKUP(BU17,$AA$8:$AB$37,2,FALSE) -> 855 | BW17: =BU17 -> Aluno 9 | BX17: =VLOOKUP(BW17,$AA$8:$AB$37,2,FALSE) -> 855 | BY17: =BW17 -> Aluno 9 | BZ17: =VLOOKUP(BY17,$AA$8:$AB$37,2,FALSE) -> 855 | CA17: =BY17 -> Aluno 9 | CB17: =VLOOKUP(CA17,$AA$8:$AB$37,2,FALSE) -> 855 | CC17: =CA17 -> Aluno 9 | CD17: =VLOOKUP(CC17,$AA$8:$AB$37,2,FALSE) -> 855 | CE17: =CC17 -> Aluno 9 | CF17: =VLOOKUP(CE17,$AA$8:$AB$37,2,FALSE) -> 855 | CG17: =CE17 -> Aluno 9 | CH17: =VLOOKUP(CG17,$AA$8:$AB$37,2,FALSE) -> 855
B18: Aluno 11 | D18: 11 | E18: 60 | F18: 81 | G18: 79 | H18: 67 | I18: =IF(ISERROR(AVERAGE(E18:H18))=TRUE,"",AVERAGE(E18:H18)) -> 71.75 | J18: 60 | K18: 81 | L18: 79 | M18: 67 | N18: =IF(ISERROR(AVERAGE(J18:M18))=TRUE,"",AVERAGE(J18:M18)) -> 71.75 | O18: 60 | P18: 81 | Q18: 79 | R18: 67 | S18: =IF(ISERROR(AVERAGE(O18:R18))=TRUE,"",AVERAGE(O18:R18)) -> 71.75 | T18: =SUM(E18:H18,J18:M18,O18:R18) -> 861 | AA18: =B18 -> Aluno 11 | AB18: =T18 -> 861 | AC18: =AA18 -> Aluno 11 | AD18: =VLOOKUP(AC18,$AA$8:$AB$37,2,FALSE) -> 861 | AE18: =AC18 -> Aluno 11 | AF18: =VLOOKUP(AE18,$AA$8:$AB$37,2,FALSE) -> 861 | AG18: =AE18 -> Aluno 11 | AH18: =VLOOKUP(AG18,$AA$8:$AB$37,2,FALSE) -> 861 | AI18: =AG18 -> Aluno 11 | AJ18: =VLOOKUP(AI18,$AA$8:$AB$37,2,FALSE) -> 861 | AK18: =AI18 -> Aluno 11 | AL18: =VLOOKUP(AK18,$AA$8:$AB$37,2,FALSE) -> 861 | AM18: =AK18 -> Aluno 11 | AN18: =VLOOKUP(AM18,$AA$8:$AB$37,2,FALSE) -> 861 | AO18: =AM18 -> Aluno 11 | AP18: =VLOOKUP(AO18,$AA$8:$AB$37,2,FALSE) -> 861 | AQ18: =AO18 -> Aluno 11 | AR18: =VLOOKUP(AQ18,$AA$8:$AB$37,2,FALSE) -> 861 | AS18: =AQ18 -> Aluno 11 | AT18: =VLOOKUP(AS18,$AA$8:$AB$37,2,FALSE) -> 861 | AU18: =IF(AT18<=AT8,AS18,AS8) -> Aluno 10 | AV18: =VLOOKUP(AU18,$AA$8:$AB$37,2,FALSE) -> 858 | AW18: =AU18 -> Aluno 10 | AX18: =VLOOKUP(AW18,$AA$8:$AB$37,2,FALSE) -> 858 | AY18: =AW18 -> Aluno 10 | AZ18: =VLOOKUP(AY18,$AA$8:$AB$37,2,FALSE) -> 858 | BA18: =AY18 -> Aluno 10 | BB18: =VLOOKUP(BA18,$AA$8:$AB$37,2,FALSE) -> 858 | BC18: =BA18 -> Aluno 10 | BD18: =VLOOKUP(BC18,$AA$8:$AB$37,2,FALSE) -> 858 | BE18: =BC18 -> Aluno 10 | BF18: =VLOOKUP(BE18,$AA$8:$AB$37,2,FALSE) -> 858 | BG18: =BE18 -> Aluno 10 | BH18: =VLOOKUP(BG18,$AA$8:$AB$37,2,FALSE) -> 858 | BI18: =BG18 -> Aluno 10 | BJ18: =VLOOKUP(BI18,$AA$8:$AB$37,2,FALSE) -> 858 | BK18: =BI18 -> Aluno 10 | BL18: =VLOOKUP(BK18,$AA$8:$AB$37,2,FALSE) -> 858 | BM18: =BK18 -> Aluno 10 | BN18: =VLOOKUP(BM18,$AA$8:$AB$37,2,FALSE) -> 858 | BO18: =BM18 -> Aluno 10 | BP18: =VLOOKUP(BO18,$AA$8:$AB$37,2,FALSE) -> 858 | BQ18: =BO18 -> Aluno 10 | BR18: =VLOOKUP(BQ18,$AA$8:$AB$37,2,FALSE) -> 858 | BS18: =BQ18 -> Aluno 10 | BT18: =VLOOKUP(BS18,$AA$8:$AB$37,2,FALSE) -> 858 | BU18: =BS18 -> Aluno 10 | BV18: =VLOOKUP(BU18,$AA$8:$AB$37,2,FALSE) -> 858 | BW18: =BU18 -> Aluno 10 | BX18: =VLOOKUP(BW18,$AA$8:$AB$37,2,FALSE) -> 858 | BY18: =BW18 -> Aluno 10 | BZ18: =VLOOKUP(BY18,$AA$8:$AB$37,2,FALSE) -> 858 | CA18: =BY18 -> Aluno 10 | CB18: =VLOOKUP(CA18,$AA$8:$AB$37,2,FALSE) -> 858 | CC18: =CA18 -> Aluno 10 | CD18: =VLOOKUP(CC18,$AA$8:$AB$37,2,FALSE) -> 858 | CE18: =CC18 -> Aluno 10 | CF18: =VLOOKUP(CE18,$AA$8:$AB$37,2,FALSE) -> 858 | CG18: =CE18 -> Aluno 10 | CH18: =VLOOKUP(CG18,$AA$8:$AB$37,2,FALSE) -> 858
B19: Aluno 12 | D19: 12 | E19: 62 | F19: 82 | G19: 78 | H19: 66 | I19: =IF(ISERROR(AVERAGE(E19:H19))=TRUE,"",AVERAGE(E19:H19)) -> 72 | J19: 62 | K19: 82 | L19: 78 | M19: 66 | N19: =IF(ISERROR(AVERAGE(J19:M19))=TRUE,"",AVERAGE(J19:M19)) -> 72 | O19: 62 | P19: 82 | Q19: 78 | R19: 66 | S19: =IF(ISERROR(AVERAGE(O19:R19))=TRUE,"",AVERAGE(O19:R19)) -> 72 | T19: =SUM(E19:H19,J19:M19,O19:R19) -> 864 | AA19: =B19 -> Aluno 12 | AB19: =T19 -> 864 | AC19: =AA19 -> Aluno 12 | AD19: =VLOOKUP(AC19,$AA$8:$AB$37,2,FALSE) -> 864 | AE19: =AC19 -> Aluno 12 | AF19: =VLOOKUP(AE19,$AA$8:$AB$37,2,FALSE) -> 864 | AG19: =AE19 -> Aluno 12 | AH19: =VLOOKUP(AG19,$AA$8:$AB$37,2,FALSE) -> 864 | AI19: =AG19 -> Aluno 12 | AJ19: =VLOOKUP(AI19,$AA$8:$AB$37,2,FALSE) -> 864 | AK19: =AI19 -> Aluno 12 | AL19: =VLOOKUP(AK19,$AA$8:$AB$37,2,FALSE) -> 864 | AM19: =AK19 -> Aluno 12 | AN19: =VLOOKUP(AM19,$AA$8:$AB$37,2,FALSE) -> 864 | AO19: =AM19 -> Aluno 12 | AP19: =VLOOKUP(AO19,$AA$8:$AB$37,2,FALSE) -> 864 | AQ19: =AO19 -> Aluno 12 | AR19: =VLOOKUP(AQ19,$AA$8:$AB$37,2,FALSE) -> 864 | AS19: =AQ19 -> Aluno 12 | AT19: =VLOOKUP(AS19,$AA$8:$AB$37,2,FALSE) -> 864 | AU19: =AS19 -> Aluno 12 | AV19: =VLOOKUP(AU19,$AA$8:$AB$37,2,FALSE) -> 864 | AW19: =IF(AV19<=AV8,AU19,AU8) -> Aluno 11 | AX19: =VLOOKUP(AW19,$AA$8:$AB$37,2,FALSE) -> 861 | AY19: =AW19 -> Aluno 11 | AZ19: =VLOOKUP(AY19,$AA$8:$AB$37,2,FALSE) -> 861 | BA19: =AY19 -> Aluno 11 | BB19: =VLOOKUP(BA19,$AA$8:$AB$37,2,FALSE) -> 861 | BC19: =BA19 -> Aluno 11 | BD19: =VLOOKUP(BC19,$AA$8:$AB$37,2,FALSE) -> 861 | BE19: =BC19 -> Aluno 11 | BF19: =VLOOKUP(BE19,$AA$8:$AB$37,2,FALSE) -> 861 | BG19: =BE19 -> Aluno 11 | BH19: =VLOOKUP(BG19,$AA$8:$AB$37,2,FALSE) -> 861 | BI19: =BG19 -> Aluno 11 | BJ19: =VLOOKUP(BI19,$AA$8:$AB$37,2,FALSE) -> 861 | BK19: =BI19 -> Aluno 11 | BL19: =VLOOKUP(BK19,$AA$8:$AB$37,2,FALSE) -> 861 | BM19: =BK19 -> Aluno 11 | BN19: =VLOOKUP(BM19,$AA$8:$AB$37,2,FALSE) -> 861 | BO19: =BM19 -> Aluno 11 | BP19: =VLOOKUP(BO19,$AA$8:$AB$37,2,FALSE) -> 861 | BQ19: =BO19 -> Aluno 11 | BR19: =VLOOKUP(BQ19,$AA$8:$AB$37,2,FALSE) -> 861 | BS19: =BQ19 -> Aluno 11 | BT19: =VLOOKUP(BS19,$AA$8:$AB$37,2,FALSE) -> 861 | BU19: =BS19 -> Aluno 11 | BV19: =VLOOKUP(BU19,$AA$8:$AB$37,2,FALSE) -> 861 | BW19: =BU19 -> Aluno 11 | BX19: =VLOOKUP(BW19,$AA$8:$AB$37,2,FALSE) -> 861 | BY19: =BW19 -> Aluno 11 | BZ19: =VLOOKUP(BY19,$AA$8:$AB$37,2,FALSE) -> 861 | CA19: =BY19 -> Aluno 11 | CB19: =VLOOKUP(CA19,$AA$8:$AB$37,2,FALSE) -> 861 | CC19: =CA19 -> Aluno 11 | CD19: =VLOOKUP(CC19,$AA$8:$AB$37,2,FALSE) -> 861 | CE19: =CC19 -> Aluno 11 | CF19: =VLOOKUP(CE19,$AA$8:$AB$37,2,FALSE) -> 861 | CG19: =CE19 -> Aluno 11 | CH19: =VLOOKUP(CG19,$AA$8:$AB$37,2,FALSE) -> 861
B20: Aluno 13 | D20: 13 | E20: 64 | F20: 83 | G20: 77 | H20: 65 | I20: =IF(ISERROR(AVERAGE(E20:H20))=TRUE,"",AVERAGE(E20:H20)) -> 72.25 | J20: 64 | K20: 83 | L20: 77 | M20: 65 | N20: =IF(ISERROR(AVERAGE(J20:M20))=TRUE,"",AVERAGE(J20:M20)) -> 72.25 | O20: 64 | P20: 83 | Q20: 77 | R20: 65 | S20: =IF(ISERROR(AVERAGE(O20:R20))=TRUE,"",AVERAGE(O20:R20)) -> 72.25 | T20: =SUM(E20:H20,J20:M20,O20:R20) -> 867 | AA20: =B20 -> Aluno 13 | AB20: =T20 -> 867 | AC20: =AA20 -> Aluno 13 | AD20: =VLOOKUP(AC20,$AA$8:$AB$37,2,FALSE) -> 867 | AE20: =AC20 -> Aluno 13 | AF20: =VLOOKUP(AE20,$AA$8:$AB$37,2,FALSE) -> 867 | AG20: =AE20 -> Aluno 13 | AH20: =VLOOKUP(AG20,$AA$8:$AB$37,2,FALSE) -> 867 | AI20: =AG20 -> Aluno 13 | AJ20: =VLOOKUP(AI20,$AA$8:$AB$37,2,FALSE) -> 867 | AK20: =AI20 -> Aluno 13 | AL20: =VLOOKUP(AK20,$AA$8:$AB$37,2,FALSE) -> 867 | AM20: =AK20 -> Aluno 13 | AN20: =VLOOKUP(AM20,$AA$8:$AB$37,2,FALSE) -> 867 | AO20: =AM20 -> Aluno 13 | AP20: =VLOOKUP(AO20,$AA$8:$AB$37,2,FALSE) -> 867 | AQ20: =AO20 -> Aluno 13 | AR20: =VLOOKUP(AQ20,$AA$8:$AB$37,2,FALSE) -> 867 | AS20: =AQ20 -> Aluno 13 | AT20: =VLOOKUP(AS20,$AA$8:$AB$37,2,FALSE) -> 867 | AU20: =AS20 -> Aluno 13 | AV20: =VLOOKUP(AU20,$AA$8:$AB$37,2,FALSE) -> 867 | AW20: =AU20 -> Aluno 13 | AX20: =VLOOKUP(AW20,$AA$8:$AB$37,2,FALSE) -> 867 | AY20: =IF(AX20<=AX8,AW20,AW8) -> Aluno 12 | AZ20: =VLOOKUP(AY20,$AA$8:$AB$37,2,FALSE) -> 864 | BA20: =AY20 -> Aluno 12 | BB20: =VLOOKUP(BA20,$AA$8:$AB$37,2,FALSE) -> 864 | BC20: =BA20 -> Aluno 12 | BD20: =VLOOKUP(BC20,$AA$8:$AB$37,2,FALSE) -> 864 | BE20: =BC20 -> Aluno 12 | BF20: =VLOOKUP(BE20,$AA$8:$AB$37,2,FALSE) -> 864 | BG20: =BE20 -> Aluno 12 | BH20: =VLOOKUP(BG20,$AA$8:$AB$37,2,FALSE) -> 864 | BI20: =BG20 -> Aluno 12 | BJ20: =VLOOKUP(BI20,$AA$8:$AB$37,2,FALSE) -> 864 | BK20: =BI20 -> Aluno 12 | BL20: =VLOOKUP(BK20,$AA$8:$AB$37,2,FALSE) -> 864 | BM20: =BK20 -> Aluno 12 | BN20: =VLOOKUP(BM20,$AA$8:$AB$37,2,FALSE) -> 864 | BO20: =BM20 -> Aluno 12 | BP20: =VLOOKUP(BO20,$AA$8:$AB$37,2,FALSE) -> 864 | BQ20: =BO20 -> Aluno 12 | BR20: =VLOOKUP(BQ20,$AA$8:$AB$37,2,FALSE) -> 864 | BS20: =BQ20 -> Aluno 12 | BT20: =VLOOKUP(BS20,$AA$8:$AB$37,2,FALSE) -> 864 | BU20: =BS20 -> Aluno 12 | BV20: =VLOOKUP(BU20,$AA$8:$AB$37,2,FALSE) -> 864 | BW20: =BU20 -> Aluno 12 | BX20: =VLOOKUP(BW20,$AA$8:$AB$37,2,FALSE) -> 864 | BY20: =BW20 -> Aluno 12 | BZ20: =VLOOKUP(BY20,$AA$8:$AB$37,2,FALSE) -> 864 | CA20: =BY20 -> Aluno 12 | CB20: =VLOOKUP(CA20,$AA$8:$AB$37,2,FALSE) -> 864 | CC20: =CA20 -> Aluno 12 | CD20: =VLOOKUP(CC20,$AA$8:$AB$37,2,FALSE) -> 864 | CE20: =CC20 -> Aluno 12 | CF20: =VLOOKUP(CE20,$AA$8:$AB$37,2,FALSE) -> 864 | CG20: =CE20 -> Aluno 12 | CH20: =VLOOKUP(CG20,$AA$8:$AB$37,2,FALSE) -> 864
B21: Aluno 14 | D21: 14 | E21: 66 | F21: 84 | G21: 76 | H21: 64 | I21: =IF(ISERROR(AVERAGE(E21:H21))=TRUE,"",AVERAGE(E21:H21)) -> 72.5 | J21: 66 | K21: 84 | L21: 76 | M21: 64 | N21: =IF(ISERROR(AVERAGE(J21:M21))=TRUE,"",AVERAGE(J21:M21)) -> 72.5 | O21: 66 | P21: 84 | Q21: 76 | R21: 64 | S21: =IF(ISERROR(AVERAGE(O21:R21))=TRUE,"",AVERAGE(O21:R21)) -> 72.5 | T21: =SUM(E21:H21,J21:M21,O21:R21) -> 870 | AA21: =B21 -> Aluno 14 | AB21: =T21 -> 870 | AC21: =AA21 -> Aluno 14 | AD21: =VLOOKUP(AC21,$AA$8:$AB$37,2,FALSE) -> 870 | AE21: =AC21 -> Aluno 14 | AF21: =VLOOKUP(AE21,$AA$8:$AB$37,2,FALSE) -> 870 | AG21: =AE21 -> Aluno 14 | AH21: =VLOOKUP(AG21,$AA$8:$AB$37,2,FALSE) -> 870 | AI21: =AG21 -> Aluno 14 | AJ21: =VLOOKUP(AI21,$AA$8:$AB$37,2,FALSE) -> 870 | AK21: =AI21 -> Aluno 14 | AL21: =VLOOKUP(AK21,$AA$8:$AB$37,2,FALSE) -> 870 | AM21: =AK21 -> Aluno 14 | AN21: =VLOOKUP(AM21,$AA$8:$AB$37,2,FALSE) -> 870 | AO21: =AM21 -> Aluno 14 | AP21: =VLOOKUP(AO21,$AA$8:$AB$37,2,FALSE) -> 870 | AQ21: =AO21 -> Aluno 14 | AR21: =VLOOKUP(AQ21,$AA$8:$AB$37,2,FALSE) -> 870 | AS21: =AQ21 -> Aluno 14 | AT21: =VLOOKUP(AS21,$AA$8:$AB$37,2,FALSE) -> 870 | AU21: =AS21 -> Aluno 14 | AV21: =VLOOKUP(AU21,$AA$8:$AB$37,2,FALSE) -> 870 | AW21: =AU21 -> Aluno 14 | AX21: =VLOOKUP(AW21,$AA$8:$AB$37,2,FALSE) -> 870 | AY21: =AW21 -> Aluno 14 | AZ21: =VLOOKUP(AY21,$AA$8:$AB$37,2,FALSE) -> 870 | BA21: =IF(AZ21<=AZ8,AY21,AY8) -> Aluno 13 | BB21: =VLOOKUP(BA21,$AA$8:$AB$37,2,FALSE) -> 867 | BC21: =BA21 -> Aluno 13 | BD21: =VLOOKUP(BC21,$AA$8:$AB$37,2,FALSE) -> 867 | BE21: =BC21 -> Aluno 13 | BF21: =VLOOKUP(BE21,$AA$8:$AB$37,2,FALSE) -> 867 | BG21: =BE21 -> Aluno 13 | BH21: =VLOOKUP(BG21,$AA$8:$AB$37,2,FALSE) -> 867 | BI21: =BG21 -> Aluno 13 | BJ21: =VLOOKUP(BI21,$AA$8:$AB$37,2,FALSE) -> 867 | BK21: =BI21 -> Aluno 13 | BL21: =VLOOKUP(BK21,$AA$8:$AB$37,2,FALSE) -> 867 | BM21: =BK21 -> Aluno 13 | BN21: =VLOOKUP(BM21,$AA$8:$AB$37,2,FALSE) -> 867 | BO21: =BM21 -> Aluno 13 | BP21: =VLOOKUP(BO21,$AA$8:$AB$37,2,FALSE) -> 867 | BQ21: =BO21 -> Aluno 13 | BR21: =VLOOKUP(BQ21,$AA$8:$AB$37,2,FALSE) -> 867 | BS21: =BQ21 -> Aluno 13 | BT21: =VLOOKUP(BS21,$AA$8:$AB$37,2,FALSE) -> 867 | BU21: =BS21 -> Aluno 13 | BV21: =VLOOKUP(BU21,$AA$8:$AB$37,2,FALSE) -> 867 | BW21: =BU21 -> Aluno 13 | BX21: =VLOOKUP(BW21,$AA$8:$AB$37,2,FALSE) -> 867 | BY21: =BW21 -> Aluno 13 | BZ21: =VLOOKUP(BY21,$AA$8:$AB$37,2,FALSE) -> 867 | CA21: =BY21 -> Aluno 13 | CB21: =VLOOKUP(CA21,$AA$8:$AB$37,2,FALSE) -> 867 | CC21: =CA21 -> Aluno 13 | CD21: =VLOOKUP(CC21,$AA$8:$AB$37,2,FALSE) -> 867 | CE21: =CC21 -> Aluno 13 | CF21: =VLOOKUP(CE21,$AA$8:$AB$37,2,FALSE) -> 867 | CG21: =CE21 -> Aluno 13 | CH21: =VLOOKUP(CG21,$AA$8:$AB$37,2,FALSE) -> 867
B22: Aluno 15 | D22: 15 | E22: 68 | F22: 85 | G22: 75 | H22: 63 | I22: =IF(ISERROR(AVERAGE(E22:H22))=TRUE,"",AVERAGE(E22:H22)) -> 72.75 | J22: 68 | K22: 85 | L22: 75 | M22: 63 | N22: =IF(ISERROR(AVERAGE(J22:M22))=TRUE,"",AVERAGE(J22:M22)) -> 72.75 | O22: 68 | P22: 85 | Q22: 75 | R22: 63 | S22: =IF(ISERROR(AVERAGE(O22:R22))=TRUE,"",AVERAGE(O22:R22)) -> 72.75 | T22: =SUM(E22:H22,J22:M22,O22:R22) -> 873 | AA22: =B22 -> Aluno 15 | AB22: =T22 -> 873 | AC22: =AA22 -> Aluno 15 | AD22: =VLOOKUP(AC22,$AA$8:$AB$37,2,FALSE) -> 873 | AE22: =AC22 -> Aluno 15 | AF22: =VLOOKUP(AE22,$AA$8:$AB$37,2,FALSE) -> 873 | AG22: =AE22 -> Aluno 15 | AH22: =VLOOKUP(AG22,$AA$8:$AB$37,2,FALSE) -> 873 | AI22: =AG22 -> Aluno 15 | AJ22: =VLOOKUP(AI22,$AA$8:$AB$37,2,FALSE) -> 873 | AK22: =AI22 -> Aluno 15 | AL22: =VLOOKUP(AK22,$AA$8:$AB$37,2,FALSE) -> 873 | AM22: =AK22 -> Aluno 15 | AN22: =VLOOKUP(AM22,$AA$8:$AB$37,2,FALSE) -> 873 | AO22: =AM22 -> Aluno 15 | AP22: =VLOOKUP(AO22,$AA$8:$AB$37,2,FALSE) -> 873 | AQ22: =AO22 -> Aluno 15 | AR22: =VLOOKUP(AQ22,$AA$8:$AB$37,2,FALSE) -> 873 | AS22: =AQ22 -> Aluno 15 | AT22: =VLOOKUP(AS22,$AA$8:$AB$37,2,FALSE) -> 873 | AU22: =AS22 -> Aluno 15 | AV22: =VLOOKUP(AU22,$AA$8:$AB$37,2,FALSE) -> 873 | AW22: =AU22 -> Aluno 15 | AX22: =VLOOKUP(AW22,$AA$8:$AB$37,2,FALSE) -> 873 | AY22: =AW22 -> Aluno 15 | AZ22: =VLOOKUP(AY22,$AA$8:$AB$37,2,FALSE) -> 873 | BA22: =AY22 -> Aluno 15 | BB22: =VLOOKUP(BA22,$AA$8:$AB$37,2,FALSE) -> 873 | BC22: =IF(BB22<=BB8,BA22,BA8) -> Aluno 14 | BD22: =VLOOKUP(BC22,$AA$8:$AB$37,2,FALSE) -> 870 | BE22: =BC22 -> Aluno 14 | BF22: =VLOOKUP(BE22,$AA$8:$AB$37,2,FALSE) -> 870 | BG22: =BE22 -> Aluno 14 | BH22: =VLOOKUP(BG22,$AA$8:$AB$37,2,FALSE) -> 870 | BI22: =BG22 -> Aluno 14 | BJ22: =VLOOKUP(BI22,$AA$8:$AB$37,2,FALSE) -> 870 | BK22: =BI22 -> Aluno 14 | BL22: =VLOOKUP(BK22,$AA$8:$AB$37,2,FALSE) -> 870 | BM22: =BK22 -> Aluno 14 | BN22: =VLOOKUP(BM22,$AA$8:$AB$37,2,FALSE) -> 870 | BO22: =BM22 -> Aluno 14 | BP22: =VLOOKUP(BO22,$AA$8:$AB$37,2,FALSE) -> 870 | BQ22: =BO22 -> Aluno 14 | BR22: =VLOOKUP(BQ22,$AA$8:$AB$37,2,FALSE) -> 870 | BS22: =BQ22 -> Aluno 14 | BT22: =VLOOKUP(BS22,$AA$8:$AB$37,2,FALSE) -> 870 | BU22: =BS22 -> Aluno 14 | BV22: =VLOOKUP(BU22,$AA$8:$AB$37,2,FALSE) -> 870 | BW22: =BU22 -> Aluno 14 | BX22: =VLOOKUP(BW22,$AA$8:$AB$37,2,FALSE) -> 870 | BY22: =BW22 -> Aluno 14 | BZ22: =VLOOKUP(BY22,$AA$8:$AB$37,2,FALSE) -> 870 | CA22: =BY22 -> Aluno 14 | CB22: =VLOOKUP(CA22,$AA$8:$AB$37,2,FALSE) -> 870 | CC22: =CA22 -> Aluno 14 | CD22: =VLOOKUP(CC22,$AA$8:$AB$37,2,FALSE) -> 870 | CE22: =CC22 -> Aluno 14 | CF22: =VLOOKUP(CE22,$AA$8:$AB$37,2,FALSE) -> 870 | CG22: =CE22 -> Aluno 14 | CH22: =VLOOKUP(CG22,$AA$8:$AB$37,2,FALSE) -> 870
B23: Aluno 16 | D23: 16 | E23: 70 | F23: 86 | G23: 74 | H23: 62 | I23: =IF(ISERROR(AVERAGE(E23:H23))=TRUE,"",AVERAGE(E23:H23)) -> 73 | J23: 70 | K23: 86 | L23: 74 | M23: 62 | N23: =IF(ISERROR(AVERAGE(J23:M23))=TRUE,"",AVERAGE(J23:M23)) -> 73 | O23: 70 | P23: 86 | Q23: 74 | R23: 62 | S23: =IF(ISERROR(AVERAGE(O23:R23))=TRUE,"",AVERAGE(O23:R23)) -> 73 | T23: =SUM(E23:H23,J23:M23,O23:R23) -> 876 | AA23: =B23 -> Aluno 16 | AB23: =T23 -> 876 | AC23: =AA23 -> Aluno 16 | AD23: =VLOOKUP(AC23,$AA$8:$AB$37,2,FALSE) -> 876 | AE23: =AC23 -> Aluno 16 | AF23: =VLOOKUP(AE23,$AA$8:$AB$37,2,FALSE) -> 876 | AG23: =AE23 -> Aluno 16 | AH23: =VLOOKUP(AG23,$AA$8:$AB$37,2,FALSE) -> 876 | AI23: =AG23 -> Aluno 16 | AJ23: =VLOOKUP(AI23,$AA$8:$AB$37,2,FALSE) -> 876 | AK23: =AI23 -> Aluno 16 | AL23: =VLOOKUP(AK23,$AA$8:$AB$37,2,FALSE) -> 876 | AM23: =AK23 -> Aluno 16 | AN23: =VLOOKUP(AM23,$AA$8:$AB$37,2,FALSE) -> 876 | AO23: =AM23 -> Aluno 16 | AP23: =VLOOKUP(AO23,$AA$8:$AB$37,2,FALSE) -> 876 | AQ23: =AO23 -> Aluno 16 | AR23: =VLOOKUP(AQ23,$AA$8:$AB$37,2,FALSE) -> 876 | AS23: =AQ23 -> Aluno 16 | AT23: =VLOOKUP(AS23,$AA$8:$AB$37,2,FALSE) -> 876 | AU23: =AS23 -> Aluno 16 | AV23: =VLOOKUP(AU23,$AA$8:$AB$37,2,FALSE) -> 876 | AW23: =AU23 -> Aluno 16 | AX23: =VLOOKUP(AW23,$AA$8:$AB$37,2,FALSE) -> 876 | AY23: =AW23 -> Aluno 16 | AZ23: =VLOOKUP(AY23,$AA$8:$AB$37,2,FALSE) -> 876 | BA23: =AY23 -> Aluno 16 | BB23: =VLOOKUP(BA23,$AA$8:$AB$37,2,FALSE) -> 876 | BC23: =BA23 -> Aluno 16 | BD23: =VLOOKUP(BC23,$AA$8:$AB$37,2,FALSE) -> 876 | BE23: =IF(BD23<=BD8,BC23,BC8) -> Aluno 15 | BF23: =VLOOKUP(BE23,$AA$8:$AB$37,2,FALSE) -> 873 | BG23: =BE23 -> Aluno 15 | BH23: =VLOOKUP(BG23,$AA$8:$AB$37,2,FALSE) -> 873 | BI23: =BG23 -> Aluno 15 | BJ23: =VLOOKUP(BI23,$AA$8:$AB$37,2,FALSE) -> 873 | BK23: =BI23 -> Aluno 15 | BL23: =VLOOKUP(BK23,$AA$8:$AB$37,2,FALSE) -> 873 | BM23: =BK23 -> Aluno 15 | BN23: =VLOOKUP(BM23,$AA$8:$AB$37,2,FALSE) -> 873 | BO23: =BM23 -> Aluno 15 | BP23: =VLOOKUP(BO23,$AA$8:$AB$37,2,FALSE) -> 873 | BQ23: =BO23 -> Aluno 15 | BR23: =VLOOKUP(BQ23,$AA$8:$AB$37,2,FALSE) -> 873 | BS23: =BQ23 -> Aluno 15 | BT23: =VLOOKUP(BS23,$AA$8:$AB$37,2,FALSE) -> 873 | BU23: =BS23 -> Aluno 15 | BV23: =VLOOKUP(BU23,$AA$8:$AB$37,2,FALSE) -> 873 | BW23: =BU23 -> Aluno 15 | BX23: =VLOOKUP(BW23,$AA$8:$AB$37,2,FALSE) -> 873 | BY23: =BW23 -> Aluno 15 | BZ23: =VLOOKUP(BY23,$AA$8:$AB$37,2,FALSE) -> 873 | CA23: =BY23 -> Aluno 15 | CB23: =VLOOKUP(CA23,$AA$8:$AB$37,2,FALSE) -> 873 | CC23: =CA23 -> Aluno 15 | CD23: =VLOOKUP(CC23,$AA$8:$AB$37,2,FALSE) -> 873 | CE23: =CC23 -> Aluno 15 | CF23: =VLOOKUP(CE23,$AA$8:$AB$37,2,FALSE) -> 873 | CG23: =CE23 -> Aluno 15 | CH23: =VLOOKUP(CG23,$AA$8:$AB$37,2,FALSE) -> 873
B24: Aluno 17 | D24: 17 | E24: 72 | F24: 87 | G24: 73 | H24: 61 | I24: =IF(ISERROR(AVERAGE(E24:H24))=TRUE,"",AVERAGE(E24:H24)) -> 73.25 | J24: 72 | K24: 87 | L24: 73 | M24: 61 | N24: =IF(ISERROR(AVERAGE(J24:M24))=TRUE,"",AVERAGE(J24:M24)) -> 73.25 | O24: 72 | P24: 87 | Q24: 73 | R24: 61 | S24: =IF(ISERROR(AVERAGE(O24:R24))=TRUE,"",AVERAGE(O24:R24)) -> 73.25 | T24: =SUM(E24:H24,J24:M24,O24:R24) -> 879 | AA24: =B24 -> Aluno 17 | AB24: =T24 -> 879 | AC24: =AA24 -> Aluno 17 | AD24: =VLOOKUP(AC24,$AA$8:$AB$37,2,FALSE) -> 879 | AE24: =AC24 -> Aluno 17 | AF24: =VLOOKUP(AE24,$AA$8:$AB$37,2,FALSE) -> 879 | AG24: =AE24 -> Aluno 17 | AH24: =VLOOKUP(AG24,$AA$8:$AB$37,2,FALSE) -> 879 | AI24: =AG24 -> Aluno 17 | AJ24: =VLOOKUP(AI24,$AA$8:$AB$37,2,FALSE) -> 879 | AK24: =AI24 -> Aluno 17 | AL24: =VLOOKUP(AK24,$AA$8:$AB$37,2,FALSE) -> 879 | AM24: =AK24 -> Aluno 17 | AN24: =VLOOKUP(AM24,$AA$8:$AB$37,2,FALSE) -> 879 | AO24: =AM24 -> Aluno 17 | AP24: =VLOOKUP(AO24,$AA$8:$AB$37,2,FALSE) -> 879 | AQ24: =AO24 -> Aluno 17 | AR24: =VLOOKUP(AQ24,$AA$8:$AB$37,2,FALSE) -> 879 | AS24: =AQ24 -> Aluno 17 | AT24: =VLOOKUP(AS24,$AA$8:$AB$37,2,FALSE) -> 879 | AU24: =AS24 -> Aluno 17 | AV24: =VLOOKUP(AU24,$AA$8:$AB$37,2,FALSE) -> 879 | AW24: =AU24 -> Aluno 17 | AX24: =VLOOKUP(AW24,$AA$8:$AB$37,2,FALSE) -> 879 | AY24: =AW24 -> Aluno 17 | AZ24: =VLOOKUP(AY24,$AA$8:$AB$37,2,FALSE) -> 879 | BA24: =AY24 -> Aluno 17 | BB24: =VLOOKUP(BA24,$AA$8:$AB$37,2,FALSE) -> 879 | BC24: =BA24 -> Aluno 17 | BD24: =VLOOKUP(BC24,$AA$8:$AB$37,2,FALSE) -> 879 | BE24: =BC24 -> Aluno 17 | BF24: =VLOOKUP(BE24,$AA$8:$AB$37,2,FALSE) -> 879 | BG24: =IF(BF24<=BF8,BE24,BE8) -> Aluno 16 | BH24: =VLOOKUP(BG24,$AA$8:$AB$37,2,FALSE) -> 876 | BI24: =BG24 -> Aluno 16 | BJ24: =VLOOKUP(BI24,$AA$8:$AB$37,2,FALSE) -> 876 | BK24: =BI24 -> Aluno 16 | BL24: =VLOOKUP(BK24,$AA$8:$AB$37,2,FALSE) -> 876 | BM24: =BK24 -> Aluno 16 | BN24: =VLOOKUP(BM24,$AA$8:$AB$37,2,FALSE) -> 876 | BO24: =BM24 -> Aluno 16 | BP24: =VLOOKUP(BO24,$AA$8:$AB$37,2,FALSE) -> 876 | BQ24: =BO24 -> Aluno 16 | BR24: =VLOOKUP(BQ24,$AA$8:$AB$37,2,FALSE) -> 876 | BS24: =BQ24 -> Aluno 16 | BT24: =VLOOKUP(BS24,$AA$8:$AB$37,2,FALSE) -> 876 | BU24: =BS24 -> Aluno 16 | BV24: =VLOOKUP(BU24,$AA$8:$AB$37,2,FALSE) -> 876 | BW24: =BU24 -> Aluno 16 | BX24: =VLOOKUP(BW24,$AA$8:$AB$37,2,FALSE) -> 876 | BY24: =BW24 -> Aluno 16 | BZ24: =VLOOKUP(BY24,$AA$8:$AB$37,2,FALSE) -> 876 | CA24: =BY24 -> Aluno 16 | CB24: =VLOOKUP(CA24,$AA$8:$AB$37,2,FALSE) -> 876 | CC24: =CA24 -> Aluno 16 | CD24: =VLOOKUP(CC24,$AA$8:$AB$37,2,FALSE) -> 876 | CE24: =CC24 -> Aluno 16 | CF24: =VLOOKUP(CE24,$AA$8:$AB$37,2,FALSE) -> 876 | CG24: =CE24 -> Aluno 16 | CH24: =VLOOKUP(CG24,$AA$8:$AB$37,2,FALSE) -> 876
B25: Aluno 18 | D25: 18 | E25: 74 | F25: 88 | G25: 72 | H25: 60 | I25: =IF(ISERROR(AVERAGE(E25:H25))=TRUE,"",AVERAGE(E25:H25)) -> 73.5 | J25: 74 | K25: 88 | L25: 72 | M25: 60 | N25: =IF(ISERROR(AVERAGE(J25:M25))=TRUE,"",AVERAGE(J25:M25)) -> 73.5 | O25: 74 | P25: 88 | Q25: 72 | R25: 60 | S25: =IF(ISERROR(AVERAGE(O25:R25))=TRUE,"",AVERAGE(O25:R25)) -> 73.5 | T25: =SUM(E25:H25,J25:M25,O25:R25) -> 882 | AA25: =B25 -> Aluno 18 | AB25: =T25 -> 882 | AC25: =AA25 -> Aluno 18 | AD25: =VLOOKUP(AC25,$AA$8:$AB$37,2,FALSE) -> 882 | AE25: =AC25 -> Aluno 18 | AF25: =VLOOKUP(AE25,$AA$8:$AB$37,2,FALSE) -> 882 | AG25: =AE25 -> Aluno 18 | AH25: =VLOOKUP(AG25,$AA$8:$AB$37,2,FALSE) -> 882 | AI25: =AG25 -> Aluno 18 | AJ25: =VLOOKUP(AI25,$AA$8:$AB$37,2,FALSE) -> 882 | AK25: =AI25 -> Aluno 18 | AL25: =VLOOKUP(AK25,$AA$8:$AB$37,2,FALSE) -> 882 | AM25: =AK25 -> Aluno 18 | AN25: =VLOOKUP(AM25,$AA$8:$AB$37,2,FALSE) -> 882 | AO25: =AM25 -> Aluno 18 | AP25: =VLOOKUP(AO25,$AA$8:$AB$37,2,FALSE) -> 882 | AQ25: =AO25 -> Aluno 18 | AR25: =VLOOKUP(AQ25,$AA$8:$AB$37,2,FALSE) -> 882 | AS25: =AQ25 -> Aluno 18 | AT25: =VLOOKUP(AS25,$AA$8:$AB$37,2,FALSE) -> 882 | AU25: =AS25 -> Aluno 18 | AV25: =VLOOKUP(AU25,$AA$8:$AB$37,2,FALSE) -> 882 | AW25: =AU25 -> Aluno 18 | AX25: =VLOOKUP(AW25,$AA$8:$AB$37,2,FALSE) -> 882 | AY25: =AW25 -> Aluno 18 | AZ25: =VLOOKUP(AY25,$AA$8:$AB$37,2,FALSE) -> 882 | BA25: =AY25 -> Aluno 18 | BB25: =VLOOKUP(BA25,$AA$8:$AB$37,2,FALSE) -> 882 | BC25: =BA25 -> Aluno 18 | BD25: =VLOOKUP(BC25,$AA$8:$AB$37,2,FALSE) -> 882 | BE25: =BC25 -> Aluno 18 | BF25: =VLOOKUP(BE25,$AA$8:$AB$37,2,FALSE) -> 882 | BG25: =BE25 -> Aluno 18 | BH25: =VLOOKUP(BG25,$AA$8:$AB$37,2,FALSE) -> 882 | BI25: =IF(BH25<=BH8,BG25,BG8) -> Aluno 17 | BJ25: =VLOOKUP(BI25,$AA$8:$AB$37,2,FALSE) -> 879 | BK25: =BI25 -> Aluno 17 | BL25: =VLOOKUP(BK25,$AA$8:$AB$37,2,FALSE) -> 879 | BM25: =BK25 -> Aluno 17 | BN25: =VLOOKUP(BM25,$AA$8:$AB$37,2,FALSE) -> 879 | BO25: =BM25 -> Aluno 17 | BP25: =VLOOKUP(BO25,$AA$8:$AB$37,2,FALSE) -> 879 | BQ25: =BO25 -> Aluno 17 | BR25: =VLOOKUP(BQ25,$AA$8:$AB$37,2,FALSE) -> 879 | BS25: =BQ25 -> Aluno 17 | BT25: =VLOOKUP(BS25,$AA$8:$AB$37,2,FALSE) -> 879 | BU25: =BS25 -> Aluno 17 | BV25: =VLOOKUP(BU25,$AA$8:$AB$37,2,FALSE) -> 879 | BW25: =BU25 -> Aluno 17 | BX25: =VLOOKUP(BW25,$AA$8:$AB$37,2,FALSE) -> 879 | BY25: =BW25 -> Aluno 17 | BZ25: =VLOOKUP(BY25,$AA$8:$AB$37,2,FALSE) -> 879 | CA25: =BY25 -> Aluno 17 | CB25: =VLOOKUP(CA25,$AA$8:$AB$37,2,FALSE) -> 879 | CC25: =CA25 -> Aluno 17 | CD25: =VLOOKUP(CC25,$AA$8:$AB$37,2,FALSE) -> 879 | CE25: =CC25 -> Aluno 17 | CF25: =VLOOKUP(CE25,$AA$8:$AB$37,2,FALSE) -> 879 | CG25: =CE25 -> Aluno 17 | CH25: =VLOOKUP(CG25,$AA$8:$AB$37,2,FALSE) -> 879
B26: Aluno 19 | D26: 19 | E26: 76 | F26: 89 | G26: 71 | H26: 59 | I26: =IF(ISERROR(AVERAGE(E26:H26))=TRUE,"",AVERAGE(E26:H26)) -> 73.75 | J26: 76 | K26: 89 | L26: 71 | M26: 59 | N26: =IF(ISERROR(AVERAGE(J26:M26))=TRUE,"",AVERAGE(J26:M26)) -> 73.75 | O26: 76 | P26: 89 | Q26: 71 | R26: 59 | S26: =IF(ISERROR(AVERAGE(O26:R26))=TRUE,"",AVERAGE(O26:R26)) -> 73.75 | T26: =SUM(E26:H26,J26:M26,O26:R26) -> 885 | AA26: =B26 -> Aluno 19 | AB26: =T26 -> 885 | AC26: =AA26 -> Aluno 19 | AD26: =VLOOKUP(AC26,$AA$8:$AB$37,2,FALSE) -> 885 | AE26: =AC26 -> Aluno 19 | AF26: =VLOOKUP(AE26,$AA$8:$AB$37,2,FALSE) -> 885 | AG26: =AE26 -> Aluno 19 | AH26: =VLOOKUP(AG26,$AA$8:$AB$37,2,FALSE) -> 885 | AI26: =AG26 -> Aluno 19 | AJ26: =VLOOKUP(AI26,$AA$8:$AB$37,2,FALSE) -> 885 | AK26: =AI26 -> Aluno 19 | AL26: =VLOOKUP(AK26,$AA$8:$AB$37,2,FALSE) -> 885 | AM26: =AK26 -> Aluno 19 | AN26: =VLOOKUP(AM26,$AA$8:$AB$37,2,FALSE) -> 885 | AO26: =AM26 -> Aluno 19 | AP26: =VLOOKUP(AO26,$AA$8:$AB$37,2,FALSE) -> 885 | AQ26: =AO26 -> Aluno 19 | AR26: =VLOOKUP(AQ26,$AA$8:$AB$37,2,FALSE) -> 885 | AS26: =AQ26 -> Aluno 19 | AT26: =VLOOKUP(AS26,$AA$8:$AB$37,2,FALSE) -> 885 | AU26: =AS26 -> Aluno 19 | AV26: =VLOOKUP(AU26,$AA$8:$AB$37,2,FALSE) -> 885 | AW26: =AU26 -> Aluno 19 | AX26: =VLOOKUP(AW26,$AA$8:$AB$37,2,FALSE) -> 885 | AY26: =AW26 -> Aluno 19 | AZ26: =VLOOKUP(AY26,$AA$8:$AB$37,2,FALSE) -> 885 | BA26: =AY26 -> Aluno 19 | BB26: =VLOOKUP(BA26,$AA$8:$AB$37,2,FALSE) -> 885 | BC26: =BA26 -> Aluno 19 | BD26: =VLOOKUP(BC26,$AA$8:$AB$37,2,FALSE) -> 885 | BE26: =BC26 -> Aluno 19 | BF26: =VLOOKUP(BE26,$AA$8:$AB$37,2,FALSE) -> 885 | BG26: =BE26 -> Aluno 19 | BH26: =VLOOKUP(BG26,$AA$8:$AB$37,2,FALSE) -> 885 | BI26: =BG26 -> Aluno 19 | BJ26: =VLOOKUP(BI26,$AA$8:$AB$37,2,FALSE) -> 885 | BK26: =IF(BJ26<=BJ8,BI26,BI8) -> Aluno 18 | BL26: =VLOOKUP(BK26,$AA$8:$AB$37,2,FALSE) -> 882 | BM26: =BK26 -> Aluno 18 | BN26: =VLOOKUP(BM26,$AA$8:$AB$37,2,FALSE) -> 882 | BO26: =BM26 -> Aluno 18 | BP26: =VLOOKUP(BO26,$AA$8:$AB$37,2,FALSE) -> 882 | BQ26: =BO26 -> Aluno 18 | BR26: =VLOOKUP(BQ26,$AA$8:$AB$37,2,FALSE) -> 882 | BS26: =BQ26 -> Aluno 18 | BT26: =VLOOKUP(BS26,$AA$8:$AB$37,2,FALSE) -> 882 | BU26: =BS26 -> Aluno 18 | BV26: =VLOOKUP(BU26,$AA$8:$AB$37,2,FALSE) -> 882 | BW26: =BU26 -> Aluno 18 | BX26: =VLOOKUP(BW26,$AA$8:$AB$37,2,FALSE) -> 882 | BY26: =BW26 -> Aluno 18 | BZ26: =VLOOKUP(BY26,$AA$8:$AB$37,2,FALSE) -> 882 | CA26: =BY26 -> Aluno 18 | CB26: =VLOOKUP(CA26,$AA$8:$AB$37,2,FALSE) -> 882 | CC26: =CA26 -> Aluno 18 | CD26: =VLOOKUP(CC26,$AA$8:$AB$37,2,FALSE) -> 882 | CE26: =CC26 -> Aluno 18 | CF26: =VLOOKUP(CE26,$AA$8:$AB$37,2,FALSE) -> 882 | CG26: =CE26 -> Aluno 18 | CH26: =VLOOKUP(CG26,$AA$8:$AB$37,2,FALSE) -> 882
B27: Aluno 20 | D27: 20 | E27: 78 | F27: 90 | G27: 70 | H27: 58 | I27: =IF(ISERROR(AVERAGE(E27:H27))=TRUE,"",AVERAGE(E27:H27)) -> 74 | J27: 78 | K27: 90 | L27: 70 | M27: 58 | N27: =IF(ISERROR(AVERAGE(J27:M27))=TRUE,"",AVERAGE(J27:M27)) -> 74 | O27: 78 | P27: 90 | Q27: 70 | R27: 58 | S27: =IF(ISERROR(AVERAGE(O27:R27))=TRUE,"",AVERAGE(O27:R27)) -> 74 | T27: =SUM(E27:H27,J27:M27,O27:R27) -> 888 | AA27: =B27 -> Aluno 20 | AB27: =T27 -> 888 | AC27: =AA27 -> Aluno 20 | AD27: =VLOOKUP(AC27,$AA$8:$AB$37,2,FALSE) -> 888 | AE27: =AC27 -> Aluno 20 | AF27: =VLOOKUP(AE27,$AA$8:$AB$37,2,FALSE) -> 888 | AG27: =AE27 -> Aluno 20 | AH27: =VLOOKUP(AG27,$AA$8:$AB$37,2,FALSE) -> 888 | AI27: =AG27 -> Aluno 20 | AJ27: =VLOOKUP(AI27,$AA$8:$AB$37,2,FALSE) -> 888 | AK27: =AI27 -> Aluno 20 | AL27: =VLOOKUP(AK27,$AA$8:$AB$37,2,FALSE) -> 888 | AM27: =AK27 -> Aluno 20 | AN27: =VLOOKUP(AM27,$AA$8:$AB$37,2,FALSE) -> 888 | AO27: =AM27 -> Aluno 20 | AP27: =VLOOKUP(AO27,$AA$8:$AB$37,2,FALSE) -> 888 | AQ27: =AO27 -> Aluno 20 | AR27: =VLOOKUP(AQ27,$AA$8:$AB$37,2,FALSE) -> 888 | AS27: =AQ27 -> Aluno 20 | AT27: =VLOOKUP(AS27,$AA$8:$AB$37,2,FALSE) -> 888 | AU27: =AS27 -> Aluno 20 | AV27: =VLOOKUP(AU27,$AA$8:$AB$37,2,FALSE) -> 888 | AW27: =AU27 -> Aluno 20 | AX27: =VLOOKUP(AW27,$AA$8:$AB$37,2,FALSE) -> 888 | AY27: =AW27 -> Aluno 20 | AZ27: =VLOOKUP(AY27,$AA$8:$AB$37,2,FALSE) -> 888 | BA27: =AY27 -> Aluno 20 | BB27: =VLOOKUP(BA27,$AA$8:$AB$37,2,FALSE) -> 888 | BC27: =BA27 -> Aluno 20 | BD27: =VLOOKUP(BC27,$AA$8:$AB$37,2,FALSE) -> 888 | BE27: =BC27 -> Aluno 20 | BF27: =VLOOKUP(BE27,$AA$8:$AB$37,2,FALSE) -> 888 | BG27: =BE27 -> Aluno 20 | BH27: =VLOOKUP(BG27,$AA$8:$AB$37,2,FALSE) -> 888 | BI27: =BG27 -> Aluno 20 | BJ27: =VLOOKUP(BI27,$AA$8:$AB$37,2,FALSE) -> 888 | BK27: =BI27 -> Aluno 20 | BL27: =VLOOKUP(BK27,$AA$8:$AB$37,2,FALSE) -> 888 | BM27: =IF(BL27<=BL8,BK27,BK8) -> Aluno 19 | BN27: =VLOOKUP(BM27,$AA$8:$AB$37,2,FALSE) -> 885 | BO27: =BM27 -> Aluno 19 | BP27: =VLOOKUP(BO27,$AA$8:$AB$37,2,FALSE) -> 885 | BQ27: =BO27 -> Aluno 19 | BR27: =VLOOKUP(BQ27,$AA$8:$AB$37,2,FALSE) -> 885 | BS27: =BQ27 -> Aluno 19 | BT27: =VLOOKUP(BS27,$AA$8:$AB$37,2,FALSE) -> 885 | BU27: =BS27 -> Aluno 19 | BV27: =VLOOKUP(BU27,$AA$8:$AB$37,2,FALSE) -> 885 | BW27: =BU27 -> Aluno 19 | BX27: =VLOOKUP(BW27,$AA$8:$AB$37,2,FALSE) -> 885 | BY27: =BW27 -> Aluno 19 | BZ27: =VLOOKUP(BY27,$AA$8:$AB$37,2,FALSE) -> 885 | CA27: =BY27 -> Aluno 19 | CB27: =VLOOKUP(CA27,$AA$8:$AB$37,2,FALSE) -> 885 | CC27: =CA27 -> Aluno 19 | CD27: =VLOOKUP(CC27,$AA$8:$AB$37,2,FALSE) -> 885 | CE27: =CC27 -> Aluno 19 | CF27: =VLOOKUP(CE27,$AA$8:$AB$37,2,FALSE) -> 885 | CG27: =CE27 -> Aluno 19 | CH27: =VLOOKUP(CG27,$AA$8:$AB$37,2,FALSE) -> 885
B28: Aluno 21 | D28: 21 | E28: 80 | F28: 91 | G28: 69 | H28: 57 | I28: =IF(ISERROR(AVERAGE(E28:H28))=TRUE,"",AVERAGE(E28:H28)) -> 74.25 | J28: 80 | K28: 91 | L28: 69 | M28: 57 | N28: =IF(ISERROR(AVERAGE(J28:M28))=TRUE,"",AVERAGE(J28:M28)) -> 74.25 | O28: 80 | P28: 91 | Q28: 69 | R28: 57 | S28: =IF(ISERROR(AVERAGE(O28:R28))=TRUE,"",AVERAGE(O28:R28)) -> 74.25 | T28: =SUM(E28:H28,J28:M28,O28:R28) -> 891 | AA28: =B28 -> Aluno 21 | AB28: =T28 -> 891 | AC28: =AA28 -> Aluno 21 | AD28: =VLOOKUP(AC28,$AA$8:$AB$37,2,FALSE) -> 891 | AE28: =AC28 -> Aluno 21 | AF28: =VLOOKUP(AE28,$AA$8:$AB$37,2,FALSE) -> 891 | AG28: =AE28 -> Aluno 21 | AH28: =VLOOKUP(AG28,$AA$8:$AB$37,2,FALSE) -> 891 | AI28: =AG28 -> Aluno 21 | AJ28: =VLOOKUP(AI28,$AA$8:$AB$37,2,FALSE) -> 891 | AK28: =AI28 -> Aluno 21 | AL28: =VLOOKUP(AK28,$AA$8:$AB$37,2,FALSE) -> 891 | AM28: =AK28 -> Aluno 21 | AN28: =VLOOKUP(AM28,$AA$8:$AB$37,2,FALSE) -> 891 | AO28: =AM28 -> Aluno 21 | AP28: =VLOOKUP(AO28,$AA$8:$AB$37,2,FALSE) -> 891 | AQ28: =AO28 -> Aluno 21 | AR28: =VLOOKUP(AQ28,$AA$8:$AB$37,2,FALSE) -> 891 | AS28: =AQ28 -> Aluno 21 | AT28: =VLOOKUP(AS28,$AA$8:$AB$37,2,FALSE) -> 891 | AU28: =AS28 -> Aluno 21 | AV28: =VLOOKUP(AU28,$AA$8:$AB$37,2,FALSE) -> 891 | AW28: =AU28 -> Aluno 21 | AX28: =VLOOKUP(AW28,$AA$8:$AB$37,2,FALSE) -> 891 | AY28: =AW28 -> Aluno 21 | AZ28: =VLOOKUP(AY28,$AA$8:$AB$37,2,FALSE) -> 891 | BA28: =AY28 -> Aluno 21 | BB28: =VLOOKUP(BA28,$AA$8:$AB$37,2,FALSE) -> 891 | BC28: =BA28 -> Aluno 21 | BD28: =VLOOKUP(BC28,$AA$8:$AB$37,2,FALSE) -> 891 | BE28: =BC28 -> Aluno 21 | BF28: =VLOOKUP(BE28,$AA$8:$AB$37,2,FALSE) -> 891 | BG28: =BE28 -> Aluno 21 | BH28: =VLOOKUP(BG28,$AA$8:$AB$37,2,FALSE) -> 891 | BI28: =BG28 -> Aluno 21 | BJ28: =VLOOKUP(BI28,$AA$8:$AB$37,2,FALSE) -> 891 | BK28: =BI28 -> Aluno 21 | BL28: =VLOOKUP(BK28,$AA$8:$AB$37,2,FALSE) -> 891 | BM28: =BK28 -> Aluno 21 | BN28: =VLOOKUP(BM28,$AA$8:$AB$37,2,FALSE) -> 891 | BO28: =IF(BN28<=BN8,BM28,BM8) -> Aluno 20 | BP28: =VLOOKUP(BO28,$AA$8:$AB$37,2,FALSE) -> 888 | BQ28: =BO28 -> Aluno 20 | BR28: =VLOOKUP(BQ28,$AA$8:$AB$37,2,FALSE) -> 888 | BS28: =BQ28 -> Aluno 20 | BT28: =VLOOKUP(BS28,$AA$8:$AB$37,2,FALSE) -> 888 | BU28: =BS28 -> Aluno 20 | BV28: =VLOOKUP(BU28,$AA$8:$AB$37,2,FALSE) -> 888 | BW28: =BU28 -> Aluno 20 | BX28: =VLOOKUP(BW28,$AA$8:$AB$37,2,FALSE) -> 888 | BY28: =BW28 -> Aluno 20 | BZ28: =VLOOKUP(BY28,$AA$8:$AB$37,2,FALSE) -> 888 | CA28: =BY28 -> Aluno 20 | CB28: =VLOOKUP(CA28,$AA$8:$AB$37,2,FALSE) -> 888 | CC28: =CA28 -> Aluno 20 | CD28: =VLOOKUP(CC28,$AA$8:$AB$37,2,FALSE) -> 888 | CE28: =CC28 -> Aluno 20 | CF28: =VLOOKUP(CE28,$AA$8:$AB$37,2,FALSE) -> 888 | CG28: =CE28 -> Aluno 20 | CH28: =VLOOKUP(CG28,$AA$8:$AB$37,2,FALSE) -> 888
B29: Aluno 22 | D29: 22 | E29: 82 | F29: 92 | G29: 68 | H29: 56 | I29: =IF(ISERROR(AVERAGE(E29:H29))=TRUE,"",AVERAGE(E29:H29)) -> 74.5 | J29: 82 | K29: 92 | L29: 68 | M29: 56 | N29: =IF(ISERROR(AVERAGE(J29:M29))=TRUE,"",AVERAGE(J29:M29)) -> 74.5 | O29: 82 | P29: 92 | Q29: 68 | R29: 56 | S29: =IF(ISERROR(AVERAGE(O29:R29))=TRUE,"",AVERAGE(O29:R29)) -> 74.5 | T29: =SUM(E29:H29,J29:M29,O29:R29) -> 894 | AA29: =B29 -> Aluno 22 | AB29: =T29 -> 894 | AC29: =AA29 -> Aluno 22 | AD29: =VLOOKUP(AC29,$AA$8:$AB$37,2,FALSE) -> 894 | AE29: =AC29 -> Aluno 22 | AF29: =VLOOKUP(AE29,$AA$8:$AB$37,2,FALSE) -> 894 | AG29: =AE29 -> Aluno 22 | AH29: =VLOOKUP(AG29,$AA$8:$AB$37,2,FALSE) -> 894 | AI29: =AG29 -> Aluno 22 | AJ29: =VLOOKUP(AI29,$AA$8:$AB$37,2,FALSE) -> 894 | AK29: =AI29 -> Aluno 22 | AL29: =VLOOKUP(AK29,$AA$8:$AB$37,2,FALSE) -> 894 | AM29: =AK29 -> Aluno 22 | AN29: =VLOOKUP(AM29,$AA$8:$AB$37,2,FALSE) -> 894 | AO29: =AM29 -> Aluno 22 | AP29: =VLOOKUP(AO29,$AA$8:$AB$37,2,FALSE) -> 894 | AQ29: =AO29 -> Aluno 22 | AR29: =VLOOKUP(AQ29,$AA$8:$AB$37,2,FALSE) -> 894 | AS29: =AQ29 -> Aluno 22 | AT29: =VLOOKUP(AS29,$AA$8:$AB$37,2,FALSE) -> 894 | AU29: =AS29 -> Aluno 22 | AV29: =VLOOKUP(AU29,$AA$8:$AB$37,2,FALSE) -> 894 | AW29: =AU29 -> Aluno 22 | AX29: =VLOOKUP(AW29,$AA$8:$AB$37,2,FALSE) -> 894 | AY29: =AW29 -> Aluno 22 | AZ29: =VLOOKUP(AY29,$AA$8:$AB$37,2,FALSE) -> 894 | BA29: =AY29 -> Aluno 22 | BB29: =VLOOKUP(BA29,$AA$8:$AB$37,2,FALSE) -> 894 | BC29: =BA29 -> Aluno 22 | BD29: =VLOOKUP(BC29,$AA$8:$AB$37,2,FALSE) -> 894 | BE29: =BC29 -> Aluno 22 | BF29: =VLOOKUP(BE29,$AA$8:$AB$37,2,FALSE) -> 894 | BG29: =BE29 -> Aluno 22 | BH29: =VLOOKUP(BG29,$AA$8:$AB$37,2,FALSE) -> 894 | BI29: =BG29 -> Aluno 22 | BJ29: =VLOOKUP(BI29,$AA$8:$AB$37,2,FALSE) -> 894 | BK29: =BI29 -> Aluno 22 | BL29: =VLOOKUP(BK29,$AA$8:$AB$37,2,FALSE) -> 894 | BM29: =BK29 -> Aluno 22 | BN29: =VLOOKUP(BM29,$AA$8:$AB$37,2,FALSE) -> 894 | BO29: =BM29 -> Aluno 22 | BP29: =VLOOKUP(BO29,$AA$8:$AB$37,2,FALSE) -> 894 | BQ29: =IF(BP29<=BP8,BO29,BO8) -> Aluno 21 | BR29: =VLOOKUP(BQ29,$AA$8:$AB$37,2,FALSE) -> 891 | BS29: =BQ29 -> Aluno 21 | BT29: =VLOOKUP(BS29,$AA$8:$AB$37,2,FALSE) -> 891 | BU29: =BS29 -> Aluno 21 | BV29: =VLOOKUP(BU29,$AA$8:$AB$37,2,FALSE) -> 891 | BW29: =BU29 -> Aluno 21 | BX29: =VLOOKUP(BW29,$AA$8:$AB$37,2,FALSE) -> 891 | BY29: =BW29 -> Aluno 21 | BZ29: =VLOOKUP(BY29,$AA$8:$AB$37,2,FALSE) -> 891 | CA29: =BY29 -> Aluno 21 | CB29: =VLOOKUP(CA29,$AA$8:$AB$37,2,FALSE) -> 891 | CC29: =CA29 -> Aluno 21 | CD29: =VLOOKUP(CC29,$AA$8:$AB$37,2,FALSE) -> 891 | CE29: =CC29 -> Aluno 21 | CF29: =VLOOKUP(CE29,$AA$8:$AB$37,2,FALSE) -> 891 | CG29: =CE29 -> Aluno 21 | CH29: =VLOOKUP(CG29,$AA$8:$AB$37,2,FALSE) -> 891
