Workbook

Sheet Pontuações das Avaliações
B2: ANO LETIVO :
B3: DISCIPLINA :
B4: ANO :
B5: TURMA :
E6: 1º PERÍODO | J6: 2º PERÍODO | O6: 3º PERÍODO | T6: Total
B7: NOME | D7: N.º | E7: P1 | F7: P2 | G7: P3 | H7: P4 | I7: Média | J7: P1 | K7: P2 | L7: P3 | M7: P4 | N7: Média | O7: P1 | P7: P2 | Q7: P3 | R7: P4 | S7: Média | T7: Final
B8: Aluno 1 | D8: 1 | E8: 40 | F8: 71 | G8: 89 | H8: 77 | I8: =IF(ISERROR(AVERAGE(E8:H8))=TRUE,"",AVERAGE(E8:H8)) -> 69.25 | J8: 40 | K8: 71 | L8: 89 | M8: 77 | N8: =IF(ISERROR(AVERAGE(J8:M8))=TRUE,"",AVERAGE(J8:M8)) -> 69.25 | O8: 40 | P8: 71 | Q8: 89 | R8: 77 | S8: =IF(ISERROR(AVERAGE(O8:R8))=TRUE,"",AVERAGE(O8:R8)) -> 69.25 | T8: =SUM(E8:H8,J8:M8,O8:R8) -> 831 | AA8: =B8 -> Aluno 1 | AB8: =T8 -> 831 | AC8: =IF(AB8>=AB9,AA8,AA9) -> Aluno 2 | AD8: =VLOOKUP(AC8,$AA$8:$AB$37,2,FALSE) -> 834 | AE8: =IF(AD8>=AD10,AC8,AC10) -> Aluno 3 | AF8: =VLOOKUP(AE8,$AA$8:$AB$37,2,FALSE) -> 837 | AG8: =IF(AF8>=AF11,AE8,AE11) -> Aluno 4 | AH8: =VLOOKUP(AG8,$AA$8:$AB$37,2,FALSE) -> 840 | AI8: =IF(AH8>=AH12,AG8,AG12) -> Aluno 5 | AJ8: =VLOOKUP(AI8,$AA$8:$AB$37,2,FALSE) -> 843 | AK8: =IF(AJ8>=AJ13,AI8,AI13) -> Aluno 6 | AL8: =VLOOKUP(AK8,$AA$8:$AB$37,2,FALSE) -> 846 | AM8: =IF(AL8>=AL14,AK8,AK14) -> Aluno 7 | AN8: =VLOOKUP(AM8,$AA$8:$AB$37,2,FALSE) -> 849 | AO8: =IF(AN8>=AN15,AM8,AM15) -> Aluno 8 | AP8: =VLOOKUP(AO8,$AA$8:$AB$37,2,FALSE) -> 852 | AQ8: =IF(AP8>=AP16,AO8,AO16) -> Aluno 9 | AR8: =VLOOKUP(AQ8,$AA$8:$AB$37,2,FALSE) -> 855 | AS8: =IF(AR8>=AR17,AQ8,AQ17) -> Aluno 10 | AT8: =VLOOKUP(AS8,$AA$8:$AB$37,2,FALSE) -> 858 | AU8: =IF(AT8>=AT18,AS8,AS18) -> Aluno 11 | AV8: =VLOOKUP(AU8,$AA$8:$AB$37,2,FALSE) -> 861 | AW8: =IF(AV8>=AV19,AU8,AU19) -> Aluno 12 | AX8: =VLOOKUP(AW8,$AA$8:$AB$37,2,FALSE) -> 864 | AY8: =IF(AX8>=AX20,AW8,AW20) -> Aluno 13 | AZ8: =VLOOKUP(AY8,$AA$8:$AB$37,2,FALSE) -> 867 | BA8: =IF(AZ8>=AZ21,AY8,AY21) -> Aluno 14 | BB8: =VLOOKUP(BA8,$AA$8:$AB$37,2,FALSE) -> 870 | BC8: =IF(BB8>=BB22,BA8,BA22) -> Aluno 15 | BD8: =VLOOKUP(BC8,$AA$8:$AB$37,2,FALSE) -> 873 | BE8: =IF(BD8>=BD23,BC8,BC23) -> Aluno 16 | BF8: =VLOOKUP(BE8,$AA$8:$AB$37,2,FALSE) -> 876 | BG8: =IF(BF8>=BF24,BE8,BE24) -> Aluno 17 | BH8: =VLOOKUP(BG8,$AA$8:$AB$37,2,FALSE) -> 879 | BI8: =IF(BH8>=BH25,BG8,BG25) -> Aluno 18 | BJ8: =VLOOKUP(BI8,$AA$8:$AB$37,2,FALSE) -> 882 | BK8: =IF(BJ8>=BJ26,BI8,BI26) -> Aluno 19 | BL8: =VLOOKUP(BK8,$AA$8:$AB$37,2,FALSE) -> 885 | BM8: =IF(BL8>=BL27,BK8,BK27) -> Aluno 20 | BN8: =VLOOKUP(BM8,$AA$8:$AB$37,2,FALSE) -> 888 | BO8: =IF(BN8>=BN28,BM8,BM28) -> Aluno 21 | BP8: =VLOOKUP(BO8,$AA$8:$AB$37,2,FALSE) -> 891 | BQ8: =IF(BP8>=BP29,BO8,BO29) -> Aluno 22 | BR8: =VLOOKUP(BQ8,$AA$8:$AB$37,2,FALSE) -> 894 | BS8: =IF(BR8>=BR30,BQ8,BQ30) -> Aluno 23 | BT8: =VLOOKUP(BS8,$AA$8:$AB$37,2,FALSE) -> 897 | BU8: =IF(BT8>=BT31,BS8,BS31) -> Aluno 24 | BV8: =VLOOKUP(BU8,$AA$8:$AB$37,2,FALSE) -> 900 | BW8: =IF(BV8>=BV32,BU8,BU32) -> Aluno 25 | BX8: =VLOOKUP(BW8,$AA$8:$AB$37,2,FALSE) -> 903 | BY8: =IF(BX8>=BX33,BW8,BW33) -> Aluno 26 | BZ8: =VLOOKUP(BY8,$AA$8:$AB$37,2,FALSE) -> 906 | CA8: =IF(BZ8>=BZ34,BY8,BY34) -> Aluno 27 | CB8: =VLOOKUP(CA8,$AA$8:$AB$37,2,FALSE) -> 909 | CC8: =IF(CB8>=CB35,CA8,CA35) -> Aluno 28 | CD8: =VLOOKUP(CC8,$AA$8:$AB$37,2,FALSE) -> 912 | CE8: =IF(CD8>=CD36,CC8,CC36) -> Aluno 29 | CF8: =VLOOKUP(CE8,$AA$8:$AB$37,2,FALSE) -> 915 | CG8: =IF(CF8>=CF37,CE8,CE37) -> Aluno 30 | CH8: =VLOOKUP(CG8,$AA$8:$AB$37,2,FALSE) -> 918
B9: Aluno 2 | D9: 2 | E9: 42 | F9: 72 | G9: 88 | H9: 76 | I9: =IF(ISERROR(AVERAGE(E9:H9))=TRUE,"",AVERAGE(E9:H9)) -> 69.5 | J9: 42 | K9: 72 | L9: 88 | M9: 76 | N9: =IF(ISERROR(AVERAGE(J9:M9))=TRUE,"",AVERAGE(J9:M9)) -> 69.5 | O9: 42 | P9: 72 | Q9: 88 | R9: 76 | S9: =IF(ISERROR(AVERAGE(O9:R9))=TRUE,"",AVERAGE(O9:R9)) -> 69.5 | T9: =SUM(E9:H9,J9:M9,O9:R9) -> 834 | AA9: =B9 -> Aluno 2 | AB9: =T9 -> 834 | AC9: =IF(AB9<=AB8,AA9,AA8) -> Aluno 1 | AD9: =VLOOKUP(AC9,$AA$8:$AB$37,2,FALSE) -> 831 | AE9: =AC9 -> Aluno 1 | AF9: =VLOOKUP(AE9,$AA$8:$AB$37,2,FALSE) -> 831 | AG9: =AE9 -> Aluno 1 | AH9: =VLOOKUP(AG9,$AA$8:$AB$37,2,FALSE) -> 831 | AI9: =AG9 -> Aluno 1 | AJ9: =VLOOKUP(AI9,$AA$8:$AB$37,2,FALSE) -> 831 | AK9: =AI9 -> Aluno 1 | AL9: =VLOOKUP(AK9,$AA$8:$AB$37,2,FALSE) -> 831 | AM9: =AK9 -> Aluno 1 | AN9: =VLOOKUP(AM9,$AA$8:$AB$37,2,FALSE) -> 831 | AO9: =AM9 -> Aluno 1 | AP9: =VLOOKUP(AO9,$AA$8:$AB$37,2,FALSE) -> 831 | AQ9: =AO9 -> Aluno 1 | AR9: =VLOOKUP(AQ9,$AA$8:$AB$37,2,FALSE) -> 831 | AS9: =AQ9 -> Aluno 1 | AT9: =VLOOKUP(AS9,$AA$8:$AB$37,2,FALSE) -> 831 | AU9: =AS9 -> Aluno 1 | AV9: =VLOOKUP(AU9,$AA$8:$AB$37,2,FALSE) -> 831 | AW9: =AU9 -> Aluno 1 | AX9: =VLOOKUP(AW9,$AA$8:$AB$37,2,FALSE) -> 831 | AY9: =AW9 -> Aluno 1 | AZ9: =VLOOKUP(AY9,$AA$8:$AB$37,2,FALSE) -> 831 | BA9: =AY9 -> Aluno 1 | BB9: =VLOOKUP(BA9,$AA$8:$AB$37,2,FALSE) -> 831 | BC9: =BA9 -> Aluno 1 | BD9: =VLOOKUP(BC9,$AA$8:$AB$37,2,FALSE) -> 831 | BE9: =BC9 -> Aluno 1 | BF9: =VLOOKUP(BE9,$AA$8:$AB$37,2,FALSE) -> 831 | BG9: =BE9 -> Aluno 1 | BH9: =VLOOKUP(BG9,$AA$8:$AB$37,2,FALSE) -> 831 | BI9: =BG9 -> Aluno 1 | BJ9: =VLOOKUP(BI9,$AA$8:$AB$37,2,FALSE) -> 831 | BK9: =BI9 -> Aluno 1 | BL9: =VLOOKUP(BK9,$AA$8:$AB$37,2,FALSE) -> 831 | BM9: =BK9 -> Aluno 1 | BN9: =VLOOKUP(BM9,$AA$8:$AB$37,2,FALSE) -> 831 | BO9: =BM9 -> Aluno 1 | BP9: =VLOOKUP(BO9,$AA$8:$AB$37,2,FALSE) -> 831 | BQ9: =BO9 -> Aluno 1 | BR9: =VLOOKUP(BQ9,$AA$8:$AB$37,2,FALSE) -> 831 | BS9: =BQ9 -> Aluno 1 | BT9: =VLOOKUP(BS9,$AA$8:$AB$37,2,FALSE) -> 831 | BU9: =BS9 -> Aluno 1 | BV9: =VLOOKUP(BU9,$AA$8:$AB$37,2,FALSE) -> 831 | BW9: =BU9 -> Aluno 1 | BX9: =VLOOKUP(BW9,$AA$8:$AB$37,2,FALSE) -> 831 | BY9: =BW9 -> Aluno 1 | BZ9: =VLOOKUP(BY9,$AA$8:$AB$37,2,FALSE) -> 831 | CA9: =BY9 -> Aluno 1 | CB9: =VLOOKUP(CA9,$AA$8:$AB$37,2,FALSE) -> 831 | CC9: =CA9 -> Aluno 1 | CD9: =VLOOKUP(CC9,$AA$8:$AB$37,2,FALSE) -> 831 | CE9: =CC9 -> Aluno 1 | CF9: =VLOOKUP(CE9,$AA$8:$AB$37,2,FALSE) -> 831 | CG9: =CE9 -> Aluno 1 | CH9: =VLOOKUP(CG9,$AA$8:$AB$37,2,FALSE) -> 831
B10: Aluno 3 | D10: 3 | E10: 44 | F10: 73 | G10: 87 | H10: 75 | I10: =IF(ISERROR(AVERAGE(E10:H10))=TRUE,"",AVERAGE(E10:H10)) -> 69.75 | J10: 44 | K10: 73 | L10: 87 | M10: 75 | N10: =IF(ISERROR(AVERAGE(J10:M10))=TRUE,"",AVERAGE(J10:M10)) -> 69.75 | O10: 44 | P10: 73 | Q10: 87 | R10: 75 | S10: =IF(ISERROR(AVERAGE(O10:R10))=TRUE,"",AVERAGE(O10:R10)) -> 69.75 | T10: =SUM(E10:H10,J10:M10,O10:R10) -> 837 | AA10: =B10 -> Aluno 3 | AB10: =T10 -> 837 | AC10: =AA10 -> Aluno 3 | AD10: =VLOOKUP(AC10,$AA$8:$AB$37,2,FALSE) -> 837 | AE10: =IF(AD10<=AD8,AC10,AC8) -> Aluno 2 | AF10: =VLOOKUP(AE10,$AA$8:$AB$37,2,FALSE) -> 834 | AG10: =AE10 -> Aluno 2 | AH10: =VLOOKUP(AG10,$AA$8:$AB$37,2,FALSE) -> 834 | AI10: =AG10 -> Aluno 2 | AJ10: =VLOOKUP(AI10,$AA$8:$AB$37,2,FALSE) -> 834 | AK10: =AI10 -> Aluno 2 | AL10: =VLOOKUP(AK10,$AA$8:$AB$37,2,FALSE) -> 834 | AM10: =AK10 -> Aluno 2 | AN10: =VLOOKUP(AM10,$AA$8:$AB$37,2,FALSE) -> 834 | AO10: =AM10 -> Aluno 2 | AP10: =VLOOKUP(AO10,$AA$8:$AB$37,2,FALSE) -> 834 | AQ10: =AO10 -> Aluno 2 | AR10: =VLOOKUP(AQ10,$AA$8:$AB$37,2,FALSE) -> 834 | AS10: =AQ10 -> Aluno 2 | AT10: =VLOOKUP(AS10,$AA$8:$AB$37,2,FALSE) -> 834 | AU10: =AS10 -> Aluno 2 | AV10: =VLOOKUP(AU10,$AA$8:$AB$37,2,FALSE) -> 834 | AW10: =AU10 -> Aluno 2 | AX10: =VLOOKUP(AW10,$AA$8:$AB$37,2,FALSE) -> 834 | AY10: =AW10 -> Aluno 2 | AZ10: =VLOOKUP(AY10,$AA$8:$AB$37,2,FALSE) -> 834 | BA10: =AY10 -> Aluno 2 | BB10: =VLOOKUP(BA10,$AA$8:$AB$37,2,FALSE) -> 834 | BC10: =BA10 -> Aluno 2 | BD10: =VLOOKUP(BC10,$AA$8:$AB$37,2,FALSE) -> 834 | BE10: =BC10 -> Aluno 2 | BF10: =VLOOKUP(BE10,$AA$8:$AB$37,2,FALSE) -> 834 | BG10: =BE10 -> Aluno 2 | BH10: =VLOOKUP(BG10,$AA$8:$AB$37,2,FALSE) -> 834 | BI10: =BG10 -> Aluno 2 | BJ10: =VLOOKUP(BI10,$AA$8:$AB$37,2,FALSE) -> 834 | BK10: =BI10 -> Aluno 2 | BL10: =VLOOKUP(BK10,$AA$8:$AB$37,2,FALSE) -> 834 | BM10: =BK10 -> Aluno 2 | BN10: =VLOOKUP(BM10,$AA$8:$AB$37,2,FALSE) -> 834 | BO10: =BM10 -> Aluno 2 | BP10: =VLOOKUP(BO10,$AA$8:$AB$37,2,FALSE) -> 834 | BQ10: =BO10 -> Aluno 2 | BR10: =VLOOKUP(BQ10,$AA$8:$AB$37,2,FALSE) -> 834 | BS10: =BQ10 -> Aluno 2 | BT10: =VLOOKUP(BS10,$AA$8:$AB$37,2,FALSE) -> 834 | BU10: =BS10 -> Aluno 2 | BV10: =VLOOKUP(BU10,$AA$8:$AB$37,2,FALSE) -> 834 | BW10: =BU10 -> Aluno 2 | BX10: =VLOOKUP(BW10,$AA$8:$AB$37,2,FALSE) -> 834 | BY10: =BW10 -> Aluno 2 | BZ10: =VLOOKUP(BY10,$AA$8:$AB$37,2,FALSE) -> 834 | CA10: =BY10 -> Aluno 2 | CB10: =VLOOKUP(CA10,$AA$8:$AB$37,2,FALSE) -> 834 | CC10: =CA10 -> Aluno 2 | CD10: =VLOOKUP(CC10,$AA$8:$AB$37,2,FALSE) -> 834 | CE10: =CC10 -> Aluno 2 | CF10: =VLOOKUP(CE10,$AA$8:$AB$37,2,FALSE) -> 834 | CG10: =CE10 -> Aluno 2 | CH10: =VLOOKUP(CG10,$AA$8:$AB$37,2,FALSE) -> 834
B11: Aluno 4 | D11: 4 | E11: 46 | F11: 74 | G11: 86 | H11: 74 | I11: =IF(ISERROR(AVERAGE(E11:H11))=TRUE,"",AVERAGE(E11:H11)) -> 70 | J11: 46 | K11: 74 | L11: 86 | M11: 74 | N11: =IF(ISERROR(AVERAGE(J11:M11))=TRUE,"",AVERAGE(J11:M11)) -> 70 | O11: 46 | P11: 74 | Q11: 86 | R11: 74 | S11: =IF(ISERROR(AVERAGE(O11:R11))=TRUE,"",AVERAGE(O11:R11)) -> 70 | T11: =SUM(E11:H11,J11:M11,O11:R11) -> 840 | AA11: =B11 -> Aluno 4 | AB11: =T11 -> 840 | AC11: =AA11 -> Aluno 4 | AD11: =VLOOKUP(AC11,$AA$8:$AB$37,2,FALSE) -> 840 | AE11: =AC11 -> Aluno 4 | AF11: =VLOOKUP(AE11,$AA$8:$AB$37,2,FALSE) -> 840 | AG11: =IF(AF11<=AF8,AE11,AE8) -> Aluno 3 | AH11: =VLOOKUP(AG11,$AA$8:$AB$37,2,FALSE) -> 837 | AI11: =AG11 -> Aluno 3 | AJ11: =VLOOKUP(AI11,$AA$8:$AB$37,2,FALSE) -> 837 | AK11: =AI11 -> Aluno 3 | AL11: =VLOOKUP(AK11,$AA$8:$AB$37,2,FALSE) -> 837 | AM11: =AK11 -> Aluno 3 | AN11: =VLOOKUP(AM11,$AA$8:$AB$37,2,FALSE) -> 837 | AO11: =AM11 -> Aluno 3 | AP11: =VLOOKUP(AO11,$AA$8:$AB$37,2,FALSE) -> 837 | AQ11: =AO11 -> Aluno 3 | AR11: =VLOOKUP(AQ11,$AA$8:$AB$37,2,FALSE) -> 837 | AS11: =AQ11 -> Aluno 3 | AT11: =VLOOKUP(AS11,$AA$8:$AB$37,2,FALSE) -> 837 | AU11: =AS11 -> Aluno 3 | AV11: =VLOOKUP(AU11,$AA$8:$AB$37,2,FALSE) -> 837 | AW11: =AU11 -> Aluno 3 | AX11: =VLOOKUP(AW11,$AA$8:$AB$37,2,FALSE) -> 837 | AY11: =AW11 -> Aluno 3 | AZ11: =VLOOKUP(AY11,$AA$8:$AB$37,2,FALSE) -> 837 | BA11: =AY11 -> Aluno 3 | BB11: =VLOOKUP(BA11,$AA$8:$AB$37,2,FALSE) -> 837 | BC11: =BA11 -> Aluno 3 | BD11: =VLOOKUP(BC11,$AA$8:$AB$37,2,FALSE) -> 837 | BE11: =BC11 -> Aluno 3 | BF11: =VLOOKUP(BE11,$AA$8:$AB$37,2,FALSE) -> 837 | BG11: =BE11 -> Aluno 3 | BH11: =VLOOKUP(BG11,$AA$8:$AB$37,2,FALSE) -> 837 | BI11: =BG11 -> Aluno 3 | BJ11: =VLOOKUP(BI11,$AA$8:$AB$37,2,FALSE) -> 837 | BK11: =BI11 -> Aluno 3 | BL11: =VLOOKUP(BK11,$AA$8:$AB$37,2,FALSE) -> 837 | BM11: =BK11 -> Aluno 3 | BN11: =VLOOKUP(BM11,$AA$8:$AB$37,2,FALSE) -> 837 | BO11: =BM11 -> Aluno 3 | BP11: =VLOOKUP(BO11,$AA$8:$AB$37,2,FALSE) -> 837 | BQ11: =BO11 -> Aluno 3 | BR11: =VLOOKUP(BQ11,$AA$8:$AB$37,2,FALSE) -> 837 | BS11: =BQ11 -> Aluno 3 | BT11: =VLOOKUP(BS11,$AA$8:$AB$37,2,FALSE) -> 837 | BU11: =BS11 -> Aluno 3 | BV11: =VLOOKUP(BU11,$AA$8:$AB$37,2,FALSE) -> 837 | BW11: =BU11 -> Aluno 3 | BX11: =VLOOKUP(BW11,$AA$8:$AB$37,2,FALSE) -> 837 | BY11: =BW11 -> Aluno 3 | BZ11: =VLOOKUP(BY11,$AA$8:$AB$37,2,FALSE) -> 837 | CA11: =BY11 -> Aluno 3 | CB11: =VLOOKUP(CA11,$AA$8:$AB$37,2,FALSE) -> 837 | CC11: =CA11 -> Aluno 3 | CD11: =VLOOKUP(CC11,$AA$8:$AB$37,2,FALSE) -> 837 | CE11: =CC11 -> Aluno 3 | CF11: =VLOOKUP(CE11,$AA$8:$AB$37,2,FALSE) -> 837 | CG11: =CE11 -> Aluno 3 | CH11: =VLOOKUP(CG11,$AA$8:$AB$37,2,FALSE) -> 837
B12: Aluno 5 | D12: 5 | E12: 48 | F12: 75 | G12: 85 | H12: 73 | I12: =IF(ISERROR(AVERAGE(E12:H12))=TRUE,"",AVERAGE(E12:H12)) -> 70.25 | J12: 48 | K12: 75 | L12: 85 | M12: 73 | N12: =IF(ISERROR(AVERAGE(J12:M12))=TRUE,"",AVERAGE(J12:M12)) -> 70.25 | O12: 48 | P12: 75 | Q12: 85 | R12: 73 | S12: =IF(ISERROR(AVERAGE(O12:R12))=TRUE,"",AVERAGE(O12:R12)) -> 70.25 | T12: =SUM(E12:H12,J12:M12,O12:R12) -> 843 | AA12: =B12 -> Aluno 5 | AB12: =T12 -> 843 | AC12: =AA12 -> Aluno 5 | AD12: =VLOOKUP(AC12,$AA$8:$AB$37,2,FALSE) -> 843 | AE12: =AC12 -> Aluno 5 | AF12: =VLOOKUP(AE12,$AA$8:$AB$37,2,FALSE) -> 843 | AG12: =AE12 -> Aluno 5 | AH12: =VLOOKUP(AG12,$AA$8:$AB$37,2,FALSE) -> 843 | AI12: =IF(AH12<=AH8,AG12,AG8) -> Aluno 4 | AJ12: =VLOOKUP(AI12,$AA$8:$AB$37,2,FALSE) -> 840 | AK12: =AI12 -> Aluno 4 | AL12: =VLOOKUP(AK12,$AA$8:$AB$37,2,FALSE) -> 840 | AM12: =AK12 -> Aluno 4 | AN12: =VLOOKUP(AM12,$AA$8:$AB$37,2,FALSE) -> 840 | AO12: =AM12 -> Aluno 4 | AP12: =VLOOKUP(AO12,$AA$8:$AB$37,2,FALSE) -> 840 | AQ12: =AO12 -> Aluno 4 | AR12: =VLOOKUP(AQ12,$AA$8:$AB$37,2,FALSE) -> 840 | AS12: =AQ12 -> Aluno 4 | AT12: =VLOOKUP(AS12,$AA$8:$AB$37,2,FALSE) -> 840 | AU12: =AS12 -> Aluno 4 | AV12: =VLOOKUP(AU12,$AA$8:$AB$37,2,FALSE) -> 840 | AW12: =AU12 -> Aluno 4 | AX12: =VLOOKUP(AW12,$AA$8:$AB$37,2,FALSE) -> 840 | AY12: =AW12 -> Aluno 4 | AZ12: =VLOOKUP(AY12,$AA$8:$AB$37,2,FALSE) -> 840 | BA12: =AY12 -> Aluno 4 | BB12: =VLOOKUP(BA12,$AA$8:$AB$37,2,FALSE) -> 840 | BC12: =BA12 -> Aluno 4 | BD12: =VLOOKUP(BC12,$AA$8:$AB$37,2,FALSE) -> 840 | BE12: =BC12 -> Aluno 4 | BF12: =VLOOKUP(BE12,$AA$8:$AB$37,2,FALSE) -> 840 | BG12: =BE12 -> Aluno 4 | BH12: =VLOOKUP(BG12,$AA$8:$AB$37,2,FALSE) -> 840 | BI12: =BG12 -> Aluno 4 | BJ12: =VLOOKUP(BI12,$AA$8:$AB$37,2,FALSE) -> 840 | BK12: =BI12 -> Aluno 4 | BL12: =VLOOKUP(BK12,$AA$8:$AB$37,2,FALSE) -> 840 | BM12: =BK12 -> Aluno 4 | BN12: =VLOOKUP(BM12,$AA$8:$AB$37,2,FALSE) -> 840 | BO12: =BM12 -> Aluno 4 | BP12: =VLOOKUP(BO12,$AA$8:$AB$37,2,FALSE) -> 840 | BQ12: =BO12 -> Aluno 4 | BR12: =VLOOKUP(BQ12,$AA$8:$AB$37,2,FALSE) -> 840 | BS12: =BQ12 -> Aluno 4 | BT12: =VLOOKUP(BS12,$AA$8:$AB$37,2,FALSE) -> 840 | BU12: =BS12 -> Aluno 4 | BV12: =VLOOKUP(BU12,$AA$8:$AB$37,2,FALSE) -> 840 | BW12: =BU12 -> Aluno 4 | BX12: =VLOOKUP(BW12,$AA$8:$AB$37,2,FALSE) -> 840 | BY12: =BW12 -> Aluno 4 | BZ12: =VLOOKUP(BY12,$AA$8:$AB$37,2,FALSE) -> 840 | CA12: =BY12 -> Aluno 4 | CB12: =VLOOKUP(CA12,$AA$8:$AB$37,2,FALSE) -> 840 | CC12: =CA12 -> Aluno 4 | CD12: =VLOOKUP(CC12,$AA$8:$AB$37,2,FALSE) -> 840 | CE12: =CC12 -> Aluno 4 | CF12: =VLOOKUP(CE12,$AA$8:$AB$37,2,FALSE) -> 840 | CG12: =CE12 -> Aluno 4 | CH12: =VLOOKUP(CG12,$AA$8:$AB$37,2,FALSE) -> 840
B13: Aluno 6 | D13: 6 | E13: 50 | F13: 76 | G13: 84 | H13: 72 | I13: =IF(ISERROR(AVERAGE(E13:H13))=TRUE,"",AVERAGE(E13:H13)) -> 70.5 | J13: 50 | K13: 76 | L13: 84 | M13: 72 | N13: =IF(ISERROR(AVERAGE(J13:M13))=TRUE,"",AVERAGE(J13:M13)) -> 70.5 | O13: 50 | P13: 76 | Q13: 84 | R13: 72 | S13: =IF(ISERROR(AVERAGE(O13:R13))=TRUE,"",AVERAGE(O13:R13)) -> 70.5 | T13: =SUM(E13:H13,J13:M13,O13:R13) -> 846 | AA13: =B13 -> Aluno 6 | AB13: =T13 -> 846 | AC13: =AA13 -> Aluno 6 | AD13: =VLOOKUP(AC13,$AA$8:$AB$37,2,FALSE) -> 846 | AE13: =AC13 -> Aluno 6 | AF13: =VLOOKUP(AE13,$AA$8:$AB$37,2,FALSE) -> 846 | AG13: =AE13 -> Aluno 6 | AH13: =VLOOKUP(AG13,$AA$8:$AB$37,2,FALSE) -> 846 | AI13: =AG13 -> Aluno 6 | AJ13: =VLOOKUP(AI13,$AA$8:$AB$37,2,FALSE) -> 846 | AK13: =IF(AJ13<=AJ8,AI13,AI8) -> Aluno 5 | AL13: =VLOOKUP(AK13,$AA$8:$AB$37,2,FALSE) -> 843 | AM13: =AK13 -> Aluno 5 | AN13: =VLOOKUP(AM13,$AA$8:$AB$37,2,FALSE) -> 843 | AO13: =AM13 -> Aluno 5 | AP13: =VLOOKUP(AO13,$AA$8:$AB$37,2,FALSE) -> 843 | AQ13: =AO13 -> Aluno 5 | AR13: =VLOOKUP(AQ13,$AA$8:$AB$37,2,FALSE) -> 843 | AS13: =AQ13 -> Aluno 5 | AT13: =VLOOKUP(AS13,$AA$8:$AB$37,2,FALSE) -> 843 | AU13: =AS13 -> Aluno 5 | AV13: =VLOOKUP(AU13,$AA$8:$AB$37,2,FALSE) -> 843 | AW13: =AU13 -> Aluno 5 | AX13: =VLOOKUP(AW13,$AA$8:$AB$37,2,FALSE) -> 843 | AY13: =AW13 -> Aluno 5 | AZ13: =VLOOKUP(AY13,$AA$8:$AB$37,2,FALSE) -> 843 | BA13: =AY13 -> Aluno 5 | BB13: =VLOOKUP(BA13,$AA$8:$AB$37,2,FALSE) -> 843 | BC13: =BA13 -> Aluno 5 | BD13: =VLOOKUP(BC13,$AA$8:$AB$37,2,FALSE) -> 843 | BE13: =BC13 -> Aluno 5 | BF13: =VLOOKUP(BE13,$AA$8:$AB$37,2,FALSE) -> 843 | BG13: =BE13 -> Aluno 5 | BH13: =VLOOKUP(BG13,$AA$8:$AB$37,2,FALSE) -> 843 | BI13: =BG13 -> Aluno 5 | BJ13: =VLOOKUP(BI13,$AA$8:$AB$37,2,FALSE) -> 843 | BK13: =BI13 -> Aluno 5 | BL13: =VLOOKUP(BK13,$AA$8:$AB$37,2,FALSE) -> 843 | BM13: =BK13 -> Aluno 5 | BN13: =VLOOKUP(BM13,$AA$8:$AB$37,2,FALSE) -> 843 | BO13: =BM13 -> Aluno 5 | BP13: =VLOOKUP(BO13,$AA$8:$AB$37,2,FALSE) -> 843 | BQ13: =BO13 -> Aluno 5 | BR13: =VLOOKUP(BQ13,$AA$8:$AB$37,2,FALSE) -> 843 | BS13: =BQ13 -> Aluno 5 | BT13: =VLOOKUP(BS13,$AA$8:$AB$37,2,FALSE) -> 843 | BU13: =BS13 -> Aluno 5 | BV13: =VLOOKUP(BU13,$AA$8:$AB$37,2,FALSE) -> 843 | BW13: =BU13 -> Aluno 5 | BX13: =VLOOKUP(BW13,$AA$8:$AB$37,2,FALSE) -> 843 | BY13: =BW13 -> Aluno 5 | BZ13: =VLOOKUP(BY13,$AA$8:$AB$37,2,FALSE) -> 843 | CA13: =BY13 -> Aluno 5 | CB13: =VLOOKUP(CA13,$AA$8:$AB$37,2,FALSE) -> 843 | CC13: =CA13 -> Aluno 5 | CD13: =VLOOKUP(CC13,$AA$8:$AB$37,2,FALSE) -> 843 | CE13: =CC13 -> Aluno 5 | CF13: =VLOOKUP(CE13,$AA$8:$AB$37,2,FALSE) -> 843 | CG13: =CE13 -> Aluno 5 | CH13: =VLOOKUP(CG13,$AA$8:$AB$37,2,FALSE) -> 843
B14: Aluno 7 | D14: 7 | E14: 52 | F14: 77 | G14: 83 | H14: 71 | I14: =IF(ISERROR(AVERAGE(E14:H14))=TRUE,"",AVERAGE(E14:H14)) -> 70.75 | J14: 52 | K14: 77 | L14: 83 | M14: 71 | N14: =IF(ISERROR(AVERAGE(J14:M14))=TRUE,"",AVERAGE(J14:M14)) -> 70.75 | O14: 52 | P14: 77 | Q14: 83 | R14: 71 | S14: =IF(ISERROR(AVERAGE(O14:R14))=TRUE,"",AVERAGE(O14:R14)) -> 70.75 | T14: =SUM(E14:H14,J14:M14,O14:R14) -> 849 | AA14: =B14 -> Aluno 7 | AB14: =T14 -> 849 | AC14: =AA14 -> Aluno 7 | AD14: =VLOOKUP(AC14,$AA$8:$AB$37,2,FALSE) -> 849 | AE14: =AC14 -> Aluno 7 | AF14: =VLOOKUP(AE14,$AA$8:$AB$37,2,FALSE) -> 849 | AG14: =AE14 -> Aluno 7 | AH14: =VLOOKUP(AG14,$AA$8:$AB$37,2,FALSE) -> 849 | AI14: =AG14 -> Aluno 7 | AJ14: =VLOOKUP(AI14,$AA$8:$AB$37,2,FALSE) -> 849 | AK14: =AI14 -> Aluno 7 | AL14: =VLOOKUP(AK14,$AA$8:$AB$37,2,FALSE) -> 849 | AM14: =IF(AL14<=AL8,AK14,AK8) -> Aluno 6 | AN14: =VLOOKUP(AM14,$AA$8:$AB$37,2,FALSE) -> 846 | AO14: =AM14 -> Aluno 6 | AP14: =VLOOKUP(AO14,$AA$8:$AB$37,2,FALSE) -> 846 | AQ14: =AO14 -> Aluno 6 | AR14: =VLOOKUP(AQ14,$AA$8:$AB$37,2,FALSE) -> 846 | AS14: =AQ14 -> Aluno 6 | AT14: =VLOOKUP(AS14,$AA$8:$AB$37,2,FALSE) -> 846 | AU14: =AS14 -> Aluno 6 | AV14: =VLOOKUP(AU14,$AA$8:$AB$37,2,FALSE) -> 846 | AW14: =AU14 -> Aluno 6 | AX14: =VLOOKUP(AW14,$AA$8:$AB$37,2,FALSE) -> 846 | AY14: =AW14 -> Aluno 6 | AZ14: =VLOOKUP(AY14,$AA$8:$AB$37,2,FALSE) -> 846 | BA14: =AY14 -> Aluno 6 | BB14: =VLOOKUP(BA14,$AA$8:$AB$37,2,FALSE) -> 846 | BC14: =BA14 -> Aluno 6 | BD14: =VLOOKUP(BC14,$AA$8:$AB$37,2,FALSE) -> 846 | BE14: =BC14 -> Aluno 6 | BF14: =VLOOKUP(BE14,$AA$8:$AB$37,2,FALSE) -> 846 | BG14: =BE14 -> Aluno 6 | BH14: =VLOOKUP(BG14,$AA$8:$AB$37,2,FALSE) -> 846 | BI14: =BG14 -> Aluno 6 | BJ14: =VLOOKUP(BI14,$AA$8:$AB$37,2,FALSE) -> 846 | BK14: =BI14 -> Aluno 6 | BL14: =VLOOKUP(BK14,$AA$8:$AB$37,2,FALSE) -> 846 | BM14: =BK14 -> Aluno 6 | BN14: =VLOOKUP(BM14,$AA$8:$AB$37,2,FALSE) -> 846 | BO14: =BM14 -> Aluno 6 | BP14: =VLOOKUP(BO14,$AA$8:$AB$37,2,FALSE) -> 846 | BQ14: =BO14 -> Aluno 6 | BR14: =VLOOKUP(BQ14,$AA$8:$AB$37,2,FALSE) -> 846 | BS14: =BQ14 -> Aluno 6 | BT14: =VLOOKUP(BS14,$AA$8:$AB$37,2,FALSE) -> 846 | BU14: =BS14 -> Aluno 6 | BV14: =VLOOKUP(BU14,$AA$8:$AB$37,2,FALSE) -> 846 | BW14: =BU14 -> Aluno 6 | BX14: =VLOOKUP(BW14,$AA$8:$AB$37,2,FALSE) -> 846 | BY14: =BW14 -> Aluno 6 | BZ14: =VLOOKUP(BY14,$AA$8:$AB$37,2,FALSE) -> 846 | CA14: =BY14 -> Aluno 6 | CB14: =VLOOKUP(CA14,$AA$8:$AB$37,2,FALSE) -> 846 | CC14: =CA14 -> Aluno 6 | CD14: =VLOOKUP(CC14,$AA$8:$AB$37,2,FALSE) -> 846 | CE14: =CC14 -> Aluno 6 | CF14: =VLOOKUP(CE14,$AA$8:$AB$37,2,FALSE) -> 846 | CG14: =CE14 -> Aluno 6 | CH14: =VLOOKUP(CG14,$AA$8:$AB$37,2,FALSE) -> 846
B15: Aluno 8 | D15: 8 | E15: 54 | F15: 78 | G15: 82 | H15: 70 | I15: =IF(ISERROR(AVERAGE(E15:H15))=TRUE,"",AVERAGE(E15:H15)) -> 71 | J15: 54 | K15: 78 | L15: 82 | M15: 70 | N15: =IF(ISERROR(AVERAGE(J15:M15))=TRUE,"",AVERAGE(J15:M15)) -> 71 | O15: 54 | P15: 78 | Q15: 82 | R15: 70 | S15: =IF(ISERROR(AVERAGE(O15:R15))=TRUE,"",AVERAGE(O15:R15)) -> 71 | T15: =SUM(E15:H15,J15:M15,O15:R15) -> 852 | AA15: =B15 -> Aluno 8 | AB15: =T15 -> 852 | AC15: =AA15 -> Aluno 8 | AD15: =VLOOKUP(AC15,$AA$8:$AB$37,2,FALSE) -> 852 | AE15: =AC15 -> Aluno 8 | AF15: =VLOOKUP(AE15,$AA$8:$AB$37,2,FALSE) -> 852 | AG15: =AE15 -> Aluno 8 | AH15: =VLOOKUP(AG15,$AA$8:$AB$37,2,FALSE) -> 852 | AI15: =AG15 -> Aluno 8 | AJ15: =VLOOKUP(AI15,$AA$8:$AB$37,2,FALSE) -> 852 | AK15: =AI15 -> Aluno 8 | AL15: =VLOOKUP(AK15,$AA$8:$AB$37,2,FALSE) -> 852 | AM15: =AK15 -> Aluno 8 | AN15: =VLOOKUP(AM15,$AA$8:$AB$37,2,FALSE) -> 852 | AO15: =IF(AN15<=AN8,AM15,AM8) -> Aluno 7 | AP15: =VLOOKUP(AO15,$AA$8:$AB$37,2,FALSE) -> 849 | AQ15: =AO15 -> Aluno 7 | AR15: =VLOOKUP(AQ15,$AA$8:$AB$37,2,FALSE) -> 849 | AS15: =AQ15 -> Aluno 7 | AT15: =VLOOKUP(AS15,$AA$8:$AB$37,2,FALSE) -> 849 | AU15: =AS15 -> Aluno 7 | AV15: =VLOOKUP(AU15,$AA$8:$AB$37,2,FALSE) -> 849 | AW15: =AU15 -> Aluno 7 | AX15: =VLOOKUP(AW15,$AA$8:$AB$37,2,FALSE) -> 849 | AY15: =AW15 -> Aluno 7 | AZ15: =VLOOKUP(AY15,$AA$8:$AB$37,2,FALSE) -> 849 | BA15: =AY15 -> Aluno 7 | BB15: =VLOOKUP(BA15,$AA$8:$AB$37,2,FALSE) -> 849 | BC15: =BA15 -> Aluno 7 | BD15: =VLOOKUP(BC15,$AA$8:$AB$37,2,FALSE) -> 849 | BE15: =BC15 -> Aluno 7 | BF15: =VLOOKUP(BE15,$AA$8:$AB$37,2,FALSE) -> 849 | BG15: =BE15 -> Aluno 7 | BH15: =VLOOKUP(BG15,$AA$8:$AB$37,2,FALSE) -> 849 | BI15: =BG15 -> Aluno 7 | BJ15: =VLOOKUP(BI15,$AA$8:$AB$37,2,FALSE) -> 849 | BK15: =BI15 -> Aluno 7 | BL15: =VLOOKUP(BK15,$AA$8:$AB$37,2,FALSE) -> 849 | BM15: =BK15 -> Aluno 7 | BN15: =VLOOKUP(BM15,$AA$8:$AB$37,2,FALSE) -> 849 | BO15: =BM15 -> Aluno 7 | BP15: =VLOOKUP(BO15,$AA$8:$AB$37,2,FALSE) -> 849 | BQ15: =BO15 -> Aluno 7 | BR15: =VLOOKUP(BQ15,$AA$8:$AB$37,2,FALSE) -> 849 | BS15: =BQ15 -> Aluno 7 | BT15: =VLOOKUP(BS15,$AA$8:$AB$37,2,FALSE) -> 849 | BU15: =BS15 -> Aluno 7 | BV15: =VLOOKUP(BU15,$AA$8:$AB$37,2,FALSE) -> 849 | BW15: =BU15 -> Aluno 7 | BX15: =VLOOKUP(BW15,$AA$8:$AB$37,2,FALSE) -> 849 | BY15: =BW15 -> Aluno 7 | BZ15: =VLOOKUP(BY15,$AA$8:$AB$37,2,FALSE) -> 849 | CA15: =BY15 -> Aluno 7 | CB15: =VLOOKUP(CA15,$AA$8:$AB$37,2,FALSE) -> 849 | CC15: =CA15 -> Aluno 7 | CD15: =VLOOKUP(CC15,$AA$8:$AB$37,2,FALSE) -> 849 | CE15: =CC15 -> Aluno 7 | CF15: =VLOOKUP(CE15,$AA$8:$AB$37,2,FALSE) -> 849 | CG15: =CE15 -> Aluno 7 | CH15: =VLOOKUP(CG15,$AA$8:$AB$37,2,FALSE) -> 849
B16: Aluno 9 | D16: 9 | E16: 56 | F16: 79 | G16: 81 | H16: 69 | I16: =IF(ISERROR(AVERAGE(E16:H16))=TRUE,"",AVERAGE(E16:H16)) -> 71.25 | J16: 56 | K16: 79 | L16: 81 | M16: 69 | N16: =IF(ISERROR(AVERAGE(J16:M16))=TRUE,"",AVERAGE(J16:M16)) -> 71.25 | O16: 56 | P16: 79 | Q16: 81 | R16: 69 | S16: =IF(ISERROR(AVERAGE(O16:R16))=TRUE,"",AVERAGE(O16:R16)) -> 71.25 | T16: =SUM(E16:H16,J16:M16,O16:R16) -> 855 | AA16: =B16 -> Aluno 9 | AB16: =T16 -> 855 | AC16: =AA16 -> Aluno 9 | AD16: =VLOOKUP(AC16,$AA$8:$AB$37,2,FALSE) -> 855 | AE16: =AC16 -> Aluno 9 | AF16: =VLOOKUP(AE16,$AA$8:$AB$37,2,FALSE) -> 855 | AG16: =AE16 -> Aluno 9 | AH16: =VLOOKUP(AG16,$AA$8:$AB$37,2,FALSE) -> 855 | AI16: =AG16 -> Aluno 9 | AJ16: =VLOOKUP(AI16,$AA$8:$AB$37,2,FALSE) -> 855 | AK16: =AI16 -> Aluno 9 | AL16: =VLOOKUP(AK16,$AA$8:$AB$37,2,FALSE) -> 855 | AM16: =AK16 -> Aluno 9 | AN16: =VLOOKUP(AM16,$AA$8:$AB$37,2,FALSE) -> 855 | AO16: =AM16 -> Aluno 9 | AP16: =VLOOKUP(AO16,$AA$8:$AB$37,2,FALSE) -> 855 | AQ16: =IF(AP16<=AP8,AO16,AO8) -> Aluno 8 | AR16: =VLOOKUP(AQ16,$AA$8:$AB$37,2,FALSE) -> 852 | AS16: =AQ16 -> Aluno 8 | AT16: =VLOOKUP(AS16,$AA$8:$AB$37,2,FALSE) -> 852 | AU16: =AS16 -> Aluno 8 | AV16: =VLOOKUP(AU16,$AA$8:$AB$37,2,FALSE) -> 852 | AW16: =AU16 -> Aluno 8 | AX16: =VLOOKUP(AW16,$AA$8:$AB$37,2,FALSE) -> 852 | AY16: =AW16 -> Aluno 8 | AZ16: =VLOOKUP(AY16,$AA$8:$AB$37,2,FALSE) -> 852 | BA16: =AY16 -> Aluno 8 | BB16: =VLOOKUP(BA16,$AA$8:$AB$37,2,FALSE) -> 852 | BC16: =BA16 -> Aluno 8 | BD16: =VLOOKUP(BC16,$AA$8:$AB$37,2,FALSE) -> 852 | BE16: =BC16 -> Aluno 8 | BF16: =VLOOKUP(BE16,$AA$8:$AB$37,2,FALSE) -> 852 | BG16: =BE16 -> Aluno 8 | BH16: =VLOOKUP(BG16,$AA$8:$AB$37,2,FALSE) -> 852 | BI16: =BG16 -> Aluno 8 | BJ16: =VLOOKUP(BI16,$AA$8:$AB$37,2,FALSE) -> 852 | BK16: =BI16 -> Aluno 8 | BL16: =VLOOKUP(BK16,$AA$8:$AB$37,2,FALSE) -> 852 | BM16: =BK16 -> Aluno 8 | BN16: =VLOOKUP(BM16,$AA$8:$AB$37,2,FALSE) -> 852 | BO16: =BM16 -> Aluno 8 | BP16: =VLOOKUP(BO16,$AA$8:$AB$37,2,FALSE) -> 852 | BQ16: =BO16 -> Aluno 8 | BR16: =VLOOKUP(BQ16,$AA$8:$AB$37,2,FALSE) -> 852 | BS16: =BQ16 -> Aluno 8 | BT16: =VLOOKUP(BS16,$AA$8:$AB$37,2,FALSE) -> 852 | BU16: =BS16 -> Aluno 8 | BV16: =VLOOKUP(BU16,$AA$8:$AB$37,2,FALSE) -> 852 | BW16: =BU16 -> Aluno 8 | BX16: =VLOOKUP(BW16,$AA$8:$AB$37,2,FALSE) -> 852 | BY16: =BW16 -> Aluno 8 | BZ16: =VLOOKUP(BY16,$AA$8:$AB$37,2,FALSE) -> 852 | CA16: =BY16 -> Aluno 8 | CB16: =VLOOKUP(CA16,$AA$8:$AB$37,2,FALSE) -> 852 | CC16: =CA16 -> Aluno 8 | CD16: =VLOOKUP(CC16,$AA$8:$AB$37,2,FALSE) -> 852 | CE16: =CC16 -> Aluno 8 | CF16: =VLOOKUP(CE16,$AA$8:$AB$37,2,FALSE) -> 852 | CG16: =CE16 -> Aluno 8 | CH16: =VLOOKUP(CG16,$AA$8:$AB$37,2,FALSE) -> 852
B17: Aluno 10 | D17: 10 | E17: 58 | F17: 80 | G17: 80 | H17: 68 | I17: =IF(ISERROR(AVERAGE(E17:H17))=TRUE,"",AVERAGE(E17:H17)) -> 71.5 | J17: 58 | K17: 80 | L17: 80 | M17: 68 | N17: =IF(ISERROR(AVERAGE(J17:M17))=TRUE,"",AVERAGE(J17:M17)) -> 71.5 | O17: 58 | P17: 80 | Q17: 80 | R17: 68 | S17: =IF(ISERROR(AVERAGE(O17:R17))=TRUE,"",AVERAGE(O17:R17)) -> 71.5 | T17: =SUM(E17:H17,J17:M17,O17:R17) -> 858 | AA17: =B17 -> Aluno 10 | AB17: =T17 -> 858 | AC17: =AA17 -> Aluno 10 | AD17: =VLOOKUP(AC17,$AA$8:$AB$37,2,FALSE) -> 858 | AE17: =AC17 -> Aluno 10 | AF17: =VLOOKUP(AE17,$AA$8:$AB$37,2,FALSE) -> 858 | AG17: =AE17 -> Aluno 10 | AH17: =VLOOKUP(AG17,$AA$8:$AB$37,2,FALSE) -> 858 | AI17: =AG17 -> Aluno 10 | AJ17: =VLOOKUP(AI17,$AA$8:$AB$37,2,FALSE) -> 858 | AK17: =AI17 -> Aluno 10 | AL17: =VLOOKUP(AK17,$AA$8:$AB$37,2,FALSE) -> 858 | AM17: =AK17 -> Aluno 10 | AN17: =VLOOKUP(AM17,$AA$8:$AB$37,2,FALSE) -> 858 | AO17: =AM17 -> Aluno 10 | AP17: =VLOOKUP(AO17,$AA$8:$AB$37,2,FALSE) -> 858 | AQ17: =AO17 -> Aluno 10 | AR17: =VLOOKUP(AQ17,$AA$8:$AB$37,2,FALSE) -> 858 | AS17: =IF(AR17<=AR8,AQ17,AQ8) -> Aluno 9 | AT17: =VLOOKUP(AS17,$AA$8:$AB$37,2,FALSE) -> 855 | AU17: =AS17 -> Aluno 9 | AV17: =VLOOKUP(AU17,$AA$8:$AB$37,2,FALSE) -> 855 | AW17: =AU17 -> Aluno 9 | AX17: =VLOOKUP(AW17,$AA$8:$AB$37,2,FALSE) -> 855 | AY17: =AW17 -> Aluno 9 | AZ17: =VLOOKUP(AY17,$AA$8:$AB$37,2,FALSE) -> 855 | BA17: =AY17 -> Aluno 9 | BB17: =VLOOKUP(BA17,$AA$8:$AB$37,2,FALSE) -> 855 | BC17: =BA17 -> Aluno 9 | BD17: =VLOOKUP(BC17,$AA$8:$AB$37,2,FALSE) -> 855 | BE17: =BC17 -> Aluno 9 | BF17: =VLOOKUP(BE17,$AA$8:$AB$37,2,FALSE) -> 855 | BG17: =BE17 -> Aluno 9 | BH17: =VLOOKUP(BG17,$AA$8:$AB$37,2,FALSE) -> 855 | BI17: =BG17 -> Aluno 9 | BJ17: =VLOOKUP(BI17,$AA$8:$AB$37,2,FALSE) -> 855 | BK17: =BI17 -> Aluno 9 | BL17: =VLOOKUP(BK17,$AA$8:$AB$37,2,FALSE) -> 855 | BM17: =BK17 -> Aluno 9 | BN17: =VLOOKUP(BM17,$AA$8:$AB$37,2,FALSE) -> 855 | BO17: =BM17 -> Aluno 9 | BP17: =VLOOKUP(BO17,$AA$8:$AB$37,2,FALSE) -> 855 | BQ17: =BO17 -> Aluno 9 | BR17: =VLOOKUP(BQ17,$AA$8:$AB$37,2,FALSE) -> 855 | BS17: =BQ17 -> Aluno 9 | BT17: =VLOOKUP(BS17,$AA$8:$AB$37,2,FALSE) -> 855 | BU17: =BS17 -> Aluno 9 | BV17: =VLOOKUP(BU17,$AA$8:$AB$37,2,FALSE) -> 855 | BW17: =BU17 -> Aluno 9 | BX17: =VLOOKUP(BW17,$AA$8:$AB$37,2,FALSE) -> 855 | BY17: =BW17 -> Aluno 9 | BZ17: =VLOOKUP(BY17,$AA$8:$AB$37,2,FALSE) -> 855 | CA17: =BY17 -> Aluno 9 | CB17: =VLOOKUP(CA17,$AA$8:$AB$37,2,FALSE) -> 855 | CC17: =CA17 -> Aluno 9 | CD17: =VLOOKUP(CC17,$AA$8:$AB$37,2,FALSE) -> 855 | CE17: =CC17 -> Aluno 9 | CF17: =VLOOKUP(CE17,$AA$8:$AB$37,2,FALSE) -> 855 | CG17: =CE17 -> Aluno 9 | CH17: =VLOOKUP(CG17,$AA$8:$AB$37,2,FALSE) -> 855
B18: Aluno 11 | D18: 11 | E18: 60 | F18: 81 | G18: 79 | H18: 67 | I18: =IF(ISERROR(AVERAGE(E18:H18))=TRUE,"",AVERAGE(E18:H18)) -> 71.75 | J18: 60 | K18: 81 | L18: 79 | M18: 67 | N18: =IF(ISERROR(AVERAGE(J18:M18))=TRUE,"",AVERAGE(J18:M18)) -> 71.75 | O18: 60 | P18: 81 | Q18: 79 | R18: 67 | S18: =IF(ISERROR(AVERAGE(O18:R18))=TRUE,"",AVERAGE(O18:R18)) -> 71.75 | T18: =SUM(E18:H18,J18:M18,O18:R18) -> 861 | AA18: =B18 -> Aluno 11 | AB18: =T18 -> 861 | AC18: =AA18 -> Aluno 11 | AD18: =VLOOKUP(AC18,$AA$8:$AB$37,2,FALSE) -> 861 | AE18: =AC18 -> Aluno 11 | AF18: =VLOOKUP(AE18,$AA$8:$AB$37,2,FALSE) -> 861 | AG18: =AE18 -> Aluno 11 | AH18: =VLOOKUP(AG18,$AA$8:$AB$37,2,FALSE) -> 861 | AI18: =AG18 -> Aluno 11 | AJ18: =VLOOKUP(AI18,$AA$8:$AB$37,2,FALSE) -> 861 | AK18: =AI18 -> Aluno 11 | AL18: =VLOOKUP(AK18,$AA$8:$AB$37,2,FALSE) -> 861 | AM18: =AK18 -> Aluno 11 | AN18: =VLOOKUP(AM18,$AA$8:$AB$37,2,FALSE) -> 861 | AO18: =AM18 -> Aluno 11 | AP18: =VLOOKUP(AO18,$AA$8:$AB$37,2,FALSE) -> 861 | AQ18: =AO18 -> Aluno 11 | AR18: =VLOOKUP(AQ18,$AA$8:$AB$37,2,FALSE) -> 861 | AS18: =AQ18 -> Aluno 11 | AT18: =VLOOKUP(AS18,$AA$8:$AB$37,2,FALSE) -> 861 | AU18: =IF(AT18<=AT8,AS18,AS8) -> Aluno 10 | AV18: =VLOOKUP(AU18,$AA$8:$AB$37,2,FALSE) -> 858 | AW18: =AU18 -> Aluno 10 | AX18: =VLOOKUP(AW18,$AA$8:$AB$37,2,FALSE) -> 858 | AY18: =AW18 -> Aluno 10 | AZ18: =VLOOKUP(AY18,$AA$8:$AB$37,2,FALSE) -> 858 | BA18: =AY18 -> Aluno 10 | BB18: =VLOOKUP(BA18,$AA$8:$AB$37,2,FALSE) -> 858 | BC18: =BA18 -> Aluno 10 | BD18: =VLOOKUP(BC18,$AA$8:$AB$37,2,FALSE) -> 858 | BE18: =BC18 -> Aluno 10 | BF18: =VLOOKUP(BE18,$AA$8:$AB$37,2,FALSE) -> 858 | BG18: =BE18 -> Aluno 10 | BH18: =VLOOKUP(BG18,$AA$8:$AB$37,2,FALSE) -> 858 | BI18: =BG18 -> Aluno 10 | BJ18: =VLOOKUP(BI18,$AA$8:$AB$37,2,FALSE) -> 858 | BK18: =BI18 -> Aluno 10 | BL18: =VLOOKUP(BK18,$AA$8:$AB$37,2,FALSE) -> 858 | BM18: =BK18 -> Aluno 10 | BN18: =VLOOKUP(BM18,$AA$8:$AB$37,2,FALSE) -> 858 | BO18: =BM18 -> Aluno 10 | BP18: =VLOOKUP(BO18,$AA$8:$AB$37,2,FALSE) -> 858 | BQ18: =BO18 -> Aluno 10 | BR18: =VLOOKUP(BQ18,$AA$8:$AB$37,2,FALSE) -> 858 | BS18: =BQ18 -> Aluno 10 | BT18: =VLOOKUP(BS18,$AA$8:$AB$37,2,FALSE) -> 858 | BU18: =BS18 -> Aluno 10 | BV18: =VLOOKUP(BU18,$AA$8:$AB$37,2,FALSE) -> 858 | BW18: =BU18 -> Aluno 10 | BX18: =VLOOKUP(BW18,$AA$8:$AB$37,2,FALSE) -> 858 | BY18: =BW18 -> Aluno 10 | BZ18: =VLOOKUP(BY18,$AA$8:$AB$37,2,FALSE) -> 858 | CA18: =BY18 -> Aluno 10 | CB18: =VLOOKUP(CA18,$AA$8:$AB$37,2,FALSE) -> 858 | CC18: =CA18 -> Aluno 10 | CD18: =VLOOKUP(CC18,$AA$8:$AB$37,2,FALSE) -> 858 | CE18: =CC18 -> Aluno 10 | CF18: =VLOOKUP(CE18,$AA$8:$AB$37,2,FALSE) -> 858 | CG18: =CE18 -> Aluno 10 | CH18: =VLOOKUP(CG18,$AA$8:$AB$37,2,FALSE) -> 858
B19: Aluno 12 | D19: 12 | E19: 62 | F19: 82 | G19: 78 | H19: 66 | I19: =IF(ISERROR(AVERAGE(E19:H19))=TRUE,"",AVERAGE(E19:H19)) -> 72 | J19: 62 | K19: 82 | L19: 78 | M19: 66 | N19: =IF(ISERROR(AVERAGE(J19:M19))=TRUE,"",AVERAGE(J19:M19)) -> 72 | O19: 62 | P19: 82 | Q19: 78 | R19: 66 | S19: =IF(ISERROR(AVERAGE(O19:R19))=TRUE,"",AVERAGE(O19:R19)) -> 72 | T19: =SUM(E19:H19,J19:M19,O19:R19) -> 864 | AA19: =B19 -> Aluno 12 | AB19: =T19 -> 864 | AC19: =AA19 -> Aluno 12 | AD19: =VLOOKUP(AC19,$AA$8:$AB$37,2,FALSE) -> 864 | AE19: =AC19 -> Aluno 12 | AF19: =VLOOKUP(AE19,$AA$8:$AB$37,2,FALSE) -> 864 | AG19: =AE19 -> Aluno 12 | AH19: =VLOOKUP(AG19,$AA$8:$AB$37,2,FALSE) -> 864 | AI19: =AG19 -> Aluno 12 | AJ19: =VLOOKUP(AI19,$AA$8:$AB$37,2,FALSE) -> 864 | AK19: =AI19 -> Aluno 12 | AL19: =VLOOKUP(AK19,$AA$8:$AB$37,2,FALSE) -> 864 | AM19: =AK19 -> Aluno 12 | AN19: =VLOOKUP(AM19,$AA$8:$AB$37,2,FALSE) -> 864 | AO19: =AM19 -> Aluno 12 | AP19: =VLOOKUP(AO19,$AA$8:$AB$37,2,FALSE) -> 864 | AQ19: =AO19 -> Aluno 12 | AR19: =VLOOKUP(AQ19,$AA$8:$AB$37,2,FALSE) -> 864 | AS19: =AQ19 -> Aluno 12 | AT19: =VLOOKUP(AS19,$AA$8:$AB$37,2,FALSE) -> 864 | AU19: =AS19 -> Aluno 12 | AV19: =VLOOKUP(AU19,$AA$8:$AB$37,2,FALSE) -> 864 | AW19: =IF(AV19<=AV8,AU19,AU8) -> Aluno 11 | AX19: =VLOOKUP(AW19,$AA$8:$AB$37,2,FALSE) -> 861 | AY19: =AW19 -> Aluno 11 | AZ19: =VLOOKUP(AY19,$AA$8:$AB$37,2,FALSE) -> 861 | BA19: =AY19 -> Aluno 11 | BB19: =VLOOKUP(BA19,$AA$8:$AB$37,2,FALSE) -> 861 | BC19: =BA19 -> Aluno 11 | BD19: =VLOOKUP(BC19,$AA$8:$AB$37,2,FALSE) -> 861 | BE19: =BC19 -> Aluno 11 | BF19: =VLOOKUP(BE19,$AA$8:$AB$37,2,FALSE) -> 861 | BG19: =BE19 -> Aluno 11 | BH19: =VLOOKUP(BG19,$AA$8:$AB$37,2,FALSE) -> 861 | BI19: =BG19 -> Aluno 11 | BJ19: =VLOOKUP(BI19,$AA$8:$AB$37,2,FALSE) -> 861 | BK19: =BI19 -> Aluno 11 | BL19: =VLOOKUP(BK19,$AA$8:$AB$37,2,FALSE) -> 861 | BM19: =BK19 -> Aluno 11 | BN19: =VLOOKUP(BM19,$AA$8:$AB$37,2,FALSE) -> 861 | BO19: =BM19 -> Aluno 11 | BP19: =VLOOKUP(BO19,$AA$8:$AB$37,2,FALSE) -> 861 | BQ19: =BO19 -> Aluno 11 | BR19: =VLOOKUP(BQ19,$AA$8:$AB$37,2,FALSE) -> 861 | BS19: =BQ19 -> Aluno 11 | BT19: =VLOOKUP(BS19,$AA$8:$AB$37,2,FALSE) -> 861 | BU19: =BS19 -> Aluno 11 | BV19: =VLOOKUP(BU19,$AA$8:$AB$37,2,FALSE) -> 861 | BW19: =BU19 -> Aluno 11 | BX19: =VLOOKUP(BW19,$AA$8:$AB$37,2,FALSE) -> 861 | BY19: =BW19 -> Aluno 11 | BZ19: =VLOOKUP(BY19,$AA$8:$AB$37,2,FALSE) -> 861 | CA19: =BY19 -> Aluno 11 | CB19: =VLOOKUP(CA19,$AA$8:$AB$37,2,FALSE) -> 861 | CC19: =CA19 -> Aluno 11 | CD19: =VLOOKUP(CC19,$AA$8:$AB$37,2,FALSE) -> 861 | CE19: =CC19 -> Aluno 11 | CF19: =VLOOKUP(CE19,$AA$8:$AB$37,2,FALSE) -> 861 | CG19: =CE19 -> Aluno 11 | CH19: =VLOOKUP(CG19,$AA$8:$AB$37,2,FALSE) -> 861
B20: Aluno 13 | D20: 13 | E20: 64 | F20: 83 | G20: 77 | H20: 65 | I20: =IF(ISERROR(AVERAGE(E20:H20))=TRUE,"",AVERAGE(E20:H20)) -> 72.25 | J20: 64 | K20: 83 | L20: 77 | M20: 65 | N20: =IF(ISERROR(AVERAGE(J20:M20))=TRUE,"",AVERAGE(J20:M20)) -> 72.25 | O20: 64 | P20: 83 | Q20: 77 | R20: 65 | S20: =IF(ISERROR(AVERAGE(O20:R20))=TRUE,"",AVERAGE(O20:R20)) -> 72.25 | T20: =SUM(E20:H20,J20:M20,O20:R20) -> 867 | AA20: =B20 -> Aluno 13 | AB20: =T20 -> 867 | AC20: =AA20 -> Aluno 13 | AD20: =VLOOKUP(AC20,$AA$8:$AB$37,2,FALSE) -> 867 | AE20: =AC20 -> Aluno 13 | AF20: =VLOOKUP(AE20,$AA$8:$AB$37,2,FALSE) -> 867 | AG20: =AE20 -> Aluno 13 | AH20: =VLOOKUP(AG20,$AA$8:$AB$37,2,FALSE) -> 867 | AI20: =AG20 -> Aluno 13 | AJ20: =VLOOKUP(AI20,$AA$8:$AB$37,2,FALSE) -> 867 | AK20: =AI20 -> Aluno 13 | AL20: =VLOOKUP(AK20,$AA$8:$AB$37,2,FALSE) -> 867 | AM20: =AK20 -> Aluno 13 | AN20: =VLOOKUP(AM20,$AA$8:$AB$37,2,FALSE) -> 867 | AO20: =AM20 -> Aluno 13 | AP20: =VLOOKUP(AO20,$AA$8:$AB$37,2,FALSE) -> 867 | AQ20: =AO20 -> Aluno 13 | AR20: =VLOOKUP(AQ20,$AA$8:$AB$37,2,FALSE) -> 867 | AS20: =AQ20 -> Aluno 13 | AT20: =VLOOKUP(AS20,$AA$8:$AB$37,2,FALSE) -> 867 | AU20: =AS20 -> Aluno 13 | AV20: =VLOOKUP(AU20,$AA$8:$AB$37,2,FALSE) -> 867 | AW20: =AU20 -> Aluno 13 | AX20: =VLOOKUP(AW20,$AA$8:$AB$37,2,FALSE) -> 867 | AY20: =IF(AX20<=AX8,AW20,AW8) -> Aluno 12 | AZ20: =VLOOKUP(AY20,$AA$8:$AB$37,2,FALSE) -> 864 | BA20: =AY20 -> Aluno 12 | BB20: =VLOOKUP(BA20,$AA$8:$AB$37,2,FALSE) -> 864 | BC20: =BA20 -> Aluno 12 | BD20: =VLOOKUP(BC20,$AA$8:$AB$37,2,FALSE) -> 864 | BE20: =BC20 -> Aluno 12 | BF20: =VLOOKUP(BE20,$AA$8:$AB$37,2,FALSE) -> 864 | BG20: =BE20 -> Aluno 12 | BH20: =VLOOKUP(BG20,$AA$8:$AB$37,2,FALSE) -> 864 | BI20: =BG20 -> Aluno 12 | BJ20: =VLOOKUP(BI20,$AA$8:$AB$37,2,FALSE) -> 864 | BK20: =BI20 -> Aluno 12 | BL20: =VLOOKUP(BK20,$AA$8:$AB$37,2,FALSE) -> 864 | BM20: =BK20 -> Aluno 12 | BN20: =VLOOKUP(BM20,$AA$8:$AB$37,2,FALSE) -> 864 | BO20: =BM20 -> Aluno 12 | BP20: =VLOOKUP(BO20,$AA$8:$AB$37,2,FALSE) -> 864 | BQ20: =BO20 -> Aluno 12 | BR20: =VLOOKUP(BQ20,$AA$8:$AB$37,2,FALSE) -> 864 | BS20: =BQ20 -> Aluno 12 | BT20: =VLOOKUP(BS20,$AA$8:$AB$37,2,FALSE) -> 864 | BU20: =BS20 -> Aluno 12 | BV20: =VLOOKUP(BU20,$AA$8:$AB$37,2,FALSE) -> 864 | BW20: =BU20 -> Aluno 12 | BX20: =VLOOKUP(BW20,$AA$8:$AB$37,2,FALSE) -> 864 | BY20: =BW20 -> Aluno 12 | BZ20: =VLOOKUP(BY20,$AA$8:$AB$37,2,FALSE) -> 864 | CA20: =BY20 -> Aluno 12 | CB20: =VLOOKUP(CA20,$AA$8:$AB$37,2,FALSE) -> 864 | CC20: =CA20 -> Aluno 12 | CD20: =VLOOKUP(CC20,$AA$8:$AB$37,2,FALSE) -> 864 | CE20: =CC20 -> Aluno 12 | CF20: =VLOOKUP(CE20,$AA$8:$AB$37,2,FALSE) -> 864 | CG20: =CE20 -> Aluno 12 | CH20: =VLOOKUP(CG20,$AA$8:$AB$37,2,FALSE) -> 864
B21: Aluno 14 | D21: 14 | E21: 66 | F21: 84 | G21: 76 | H21: 64 | I21: =IF(ISERROR(AVERAGE(E21:H21))=TRUE,"",AVERAGE(E21:H21)) -> 72.5 | J21: 66 | K21: 84 | L21: 76 | M21: 64 | N21: =IF(ISERROR(AVERAGE(J21:M21))=TRUE,"",AVERAGE(J21:M21)) -> 72.5 | O21: 66 | P21: 84 | Q21: 76 | R21: 64 | S21: =IF(ISERROR(AVERAGE(O21:R21))=TRUE,"",AVERAGE(O21:R21)) -> 72.5 | T21: =SUM(E21:H21,J21:M21,O21:R21) -> 870 | AA21: =B21 -> Aluno 14 | AB21: =T21 -> 870 | AC21: =AA21 -> Aluno 14 | AD21: =VLOOKUP(AC21,$AA$8:$AB$37,2,FALSE) -> 870 | AE21: =AC21 -> Aluno 14 | AF21: =VLOOKUP(AE21,$AA$8:$AB$37,2,FALSE) -> 870 | AG21: =AE21 -> Aluno 14 | AH21: =VLOOKUP(AG21,$AA$8:$AB$37,2,FALSE) -> 870 | AI21: =AG21 -> Aluno 14 | AJ21: =VLOOKUP(AI21,$AA$8:$AB$37,2,FALSE) -> 870 | AK21: =AI21 -> Aluno 14 | AL21: =VLOOKUP(AK21,$AA$8:$AB$37,2,FALSE) -> 870 | AM21: =AK21 -> Aluno 14 | AN21: =VLOOKUP(AM21,$AA$8:$AB$37,2,FALSE) -> 870 | AO21: =AM21 -> Aluno 14 | AP21: =VLOOKUP(AO21,$AA$8:$AB$37,2,FALSE) -> 870 | AQ21: =AO21 -> Aluno 14 | AR21: =VLOOKUP(AQ21,$AA$8:$AB$37,2,FALSE) -> 870 | AS21: =AQ21 -> Aluno 14 | AT21: =VLOOKUP(AS21,$AA$8:$AB$37,2,FALSE) -> 870 | AU21: =AS21 -> Aluno 14 | AV21: =VLOOKUP(AU21,$AA$8:$AB$37,2,FALSE) -> 870 | AW21: =AU21 -> Aluno 14 | AX21: =VLOOKUP(AW21,$AA$8:$AB$37,2,FALSE) -> 870 | AY21: =AW21 -> Aluno 14 | AZ21: =VLOOKUP(AY21,$AA$8:$AB$37,2,FALSE) -> 870 | BA21: =IF(AZ21<=AZ8,AY21,AY8) -> Aluno 13 | BB21: =VLOOKUP(BA21,$AA$8:$AB$37,2,FALSE) -> 867 | BC21: =BA21 -> Aluno 13 | BD21: =VLOOKUP(BC21,$AA$8:$AB$37,2,FALSE) -> 867 | BE21: =BC21 -> Aluno 13 | BF21: =VLOOKUP(BE21,$AA$8:$AB$37,2,FALSE) -> 867 | BG21: =BE21 -> Aluno 13 | BH21: =VLOOKUP(BG21,$AA$8:$AB$37,2,FALSE) -> 867 | BI21: =BG21 -> Aluno 13 | BJ21: =VLOOKUP(BI21,$AA$8:$AB$37,2,FALSE) -> 867 | BK21: =BI21 -> Aluno 13 | BL21: =VLOOKUP(BK21,$AA$8:$AB$37,2,FALSE) -> 867 | BM21: =BK21 -> Aluno 13 | BN21: =VLOOKUP(BM21,$AA$8:$AB$37,2,FALSE) -> 867 | BO21: =BM21 -> Aluno 13 | BP21: =VLOOKUP(BO21,$AA$8:$AB$37,2,FALSE) -> 867 | BQ21: =BO21 -> Aluno 13 | BR21: =VLOOKUP(BQ21,$AA$8:$AB$37,2,FALSE) -> 867 | BS21: =BQ21 -> Aluno 13 | BT21: =VLOOKUP(BS21,$AA$8:$AB$37,2,FALSE) -> 867 | BU21: =BS21 -> Aluno 13 | BV21: =VLOOKUP(BU21,$AA$8:$AB$37,2,FALSE) -> 867 | BW21: =BU21 -> Aluno 13 | BX21: =VLOOKUP(BW21,$AA$8:$AB$37,2,FALSE) -> 867 | BY21: =BW21 -> Aluno 13 | BZ21: =VLOOKUP(BY21,$AA$8:$AB$37,2,FALSE) -> 867 | CA21: =BY21 -> Aluno 13 | CB21: =VLOOKUP(CA21,$AA$8:$AB$37,2,FALSE) -> 867 | CC21: =CA21 -> Aluno 13 | CD21: =VLOOKUP(CC21,$AA$8:$AB$37,2,FALSE) -> 867 | CE21: =CC21 -> Aluno 13 | CF21: =VLOOKUP(CE21,$AA$8:$AB$37,2,FALSE) -> 867 | CG21: =CE21 -> Aluno 13 | CH21: =VLOOKUP(CG21,$AA$8:$AB$37,2,FALSE) -> 867
B22: Aluno 15 | D22: 15 | E22: 68 | F22: 85 | G22: 75 | H22: 63 | I22: =IF(ISERROR(AVERAGE(E22:H22))=TRUE,"",AVERAGE(E22:H22)) -> 72.75 | J22: 68 | K22: 85 | L22: 75 | M22: 63 | N22: =IF(ISERROR(AVERAGE(J22:M22))=TRUE,"",AVERAGE(J22:M22)) -> 72.75 | O22: 68 | P22: 85 | Q22: 75 | R22: 63 | S22: =IF(ISERROR(AVERAGE(O22:R22))=TRUE,"",AVERAGE(O22:R22)) -> 72.75 | T22: =SUM(E22:H22,J22:M22,O22:R22) -> 873 | AA22: =B22 -> Aluno 15 | AB22: =T22 -> 873 | AC22: =AA22 -> Aluno 15 | AD22: =VLOOKUP(AC22,$AA$8:$AB$37,2,FALSE) -> 873 | AE22: =AC22 -> Aluno 15 | AF22: =VLOOKUP(AE22,$AA$8:$AB$37,2,FALSE) -> 873 | AG22: =AE22 -> Aluno 15 | AH22: =VLOOKUP(AG22,$AA$8:$AB$37,2,FALSE) -> 873 | AI22: =AG22 -> Aluno 15 | AJ22: =VLOOKUP(AI22,$AA$8:$AB$37,2,FALSE) -> 873 | AK22: =AI22 -> Aluno 15 | AL22: =VLOOKUP(AK22,$AA$8:$AB$37,2,FALSE) -> 873 | AM22: =AK22 -> Aluno 15 | AN22: =VLOOKUP(AM22,$AA$8:$AB$37,2,FALSE) -> 873 | AO22: =AM22 -> Aluno 15 | AP22: =VLOOKUP(AO22,$AA$8:$AB$37,2,FALSE) -> 873 | AQ22: =AO22 -> Aluno 15 | AR22: =VLOOKUP(AQ22,$AA$8:$AB$37,2,FALSE) -> 873 | AS22: =AQ22 -> Aluno 15 | AT22: =VLOOKUP(AS22,$AA$8:$AB$37,2,FALSE) -> 873 | AU22: =AS22 -> Aluno 15 | AV22: =VLOOKUP(AU22,$AA$8:$AB$37,2,FALSE) -> 873 | AW22: =AU22 -> Aluno 15 | AX22: =VLOOKUP(AW22,$AA$8:$AB$37,2,FALSE) -> 873 | AY22: =AW22 -> Aluno 15 | AZ22: =VLOOKUP(AY22,$AA$8:$AB$37,2,FALSE) -> 873 | BA22: =AY22 -> Aluno 15 | BB22: =VLOOKUP(BA22,$AA$8:$AB$37,2,FALSE) -> 873 | BC22: =IF(BB22<=BB8,BA22,BA8) -> Aluno 14 | BD22: =VLOOKUP(BC22,$AA$8:$AB$37,2,FALSE) -> 870 | BE22: =BC22 -> Aluno 14 | BF22: =VLOOKUP(BE22,$AA$8:$AB$37,2,FALSE) -> 870 | BG22: =BE22 -> Aluno 14 | BH22: =VLOOKUP(BG22,$AA$8:$AB$37,2,FALSE) -> 870 | BI22: =BG22 -> Aluno 14 | BJ22: =VLOOKUP(BI22,$AA$8:$AB$37,2,FALSE) -> 870 | BK22: =BI22 -> Aluno 14 | BL22: =VLOOKUP(BK22,$AA$8:$AB$37,2,FALSE) -> 870 | BM22: =BK22 -> Aluno 14 | BN22: =VLOOKUP(BM22,$AA$8:$AB$37,2,FALSE) -> 870 | BO22: =BM22 -> Aluno 14 | BP22: =VLOOKUP(BO22,$AA$8:$AB$37,2,FALSE) -> 870 | BQ22: =BO22 -> Aluno 14 | BR22: =VLOOKUP(BQ22,$AA$8:$AB$37,2,FALSE) -> 870 | BS22: =BQ22 -> Aluno 14 | BT22: =VLOOKUP(BS22,$AA$8:$AB$37,2,FALSE) -> 870 | BU22: =BS22 -> Aluno 14 | BV22: =VLOOKUP(BU22,$AA$8:$AB$37,2,FALSE) -> 870 | BW22: =BU22 -> Aluno 14 | BX22: =VLOOKUP(BW22,$AA$8:$AB$37,2,FALSE) -> 870 | BY22: =BW22 -> Aluno 14 | BZ22: =VLOOKUP(BY22,$AA$8:$AB$37,2,FALSE) -> 870 | CA22: =BY22 -> Aluno 14 | CB22: =VLOOKUP(CA22,$AA$8:$AB$37,2,FALSE) -> 870 | CC22: =CA22 -> Aluno 14 | CD22: =VLOOKUP(CC22,$AA$8:$AB$37,2,FALSE) -> 870 | CE22: =CC22 -> Aluno 14 | CF22: =VLOOKUP(CE22,$AA$8:$AB$37,2,FALSE) -> 870 | CG22: =CE22 -> Aluno 14 | CH22: =VLOOKUP(CG22,$AA$8:$AB$37,2,FALSE) -> 870
B23: Aluno 16 | D23: 16 | E23: 70 | F23: 86 | G23: 74 | H23: 62 | I23: =IF(ISERROR(AVERAGE(E23:H23))=TRUE,"",AVERAGE(E23:H23)) -> 73 | J23: 70 | K23: 86 | L23: 74 | M23: 62 | N23: =IF(ISERROR(AVERAGE(J23:M23))=TRUE,"",AVERAGE(J23:M23)) -> 73 | O23: 70 | P23: 86 | Q23: 74 | R23: 62 | S23: =IF(ISERROR(AVERAGE(O23:R23))=TRUE,"",AVERAGE(O23:R23)) -> 73 | T23: =SUM(E23:H23,J23:M23,O23:R23) -> 876 | AA23: =B23 -> Aluno 16 | AB23: =T23 -> 876 | AC23: =AA23 -> Aluno 16 | AD23: =VLOOKUP(AC23,$AA$8:$AB$37,2,FALSE) -> 876 | AE23: =AC23 -> Aluno 16 | AF23: =VLOOKUP(AE23,$AA$8:$AB$37,2,FALSE) -> 876 | AG23: =AE23 -> Aluno 16 | AH23: =VLOOKUP(AG23,$AA$8:$AB$37,2,FALSE) -> 876 | AI23: =AG23 -> Aluno 16 | AJ23: =VLOOKUP(AI23,$AA$8:$AB$37,2,FALSE) -> 876 | AK23: =AI23 -> Aluno 16 | AL23: =VLOOKUP(AK23,$AA$8:$AB$37,2,FALSE) -> 876 | AM23: =AK23 -> Aluno 16 | AN23: =VLOOKUP(AM23,$AA$8:$AB$37,2,FALSE) -> 876 | AO23: =AM23 -> Aluno 16 | AP23: =VLOOKUP(AO23,$AA$8:$AB$37,2,FALSE) -> 876 | AQ23: =AO23 -> Aluno 16 | AR23: =VLOOKUP(AQ23,$AA$8:$AB$37,2,FALSE) -> 876 | AS23: =AQ23 -> Aluno 16 | AT23: =VLOOKUP(AS23,$AA$8:$AB$37,2,FALSE) -> 876 | AU23: =AS23 -> Aluno 16 | AV23: =VLOOKUP(AU23,$AA$8:$AB$37,2,FALSE) -> 876 | AW23: =AU23 -> Aluno 16 | AX23: =VLOOKUP(AW23,$AA$8:$AB$37,2,FALSE) -> 876 | AY23: =AW23 -> Aluno 16 | AZ23: =VLOOKUP(AY23,$AA$8:$AB$37,2,FALSE) -> 876 | BA23: =AY23 -> Aluno 16 | BB23: =VLOOKUP(BA23,$AA$8:$AB$37,2,FALSE) -> 876 | BC23: =BA23 -> Aluno 16 | BD23: =VLOOKUP(BC23,$AA$8:$AB$37,2,FALSE) -> 876 | BE23: =IF(BD23<=BD8,BC23,BC8) -> Aluno 15 | BF23: =VLOOKUP(BE23,$AA$8:$AB$37,2,FALSE) -> 873 | BG23: =BE23 -> Aluno 15 | BH23: =VLOOKUP(BG23,$AA$8:$AB$37,2,FALSE) -> 873 | BI23: =BG23 -> Aluno 15 | BJ23: =VLOOKUP(BI23,$AA$8:$AB$37,2,FALSE) -> 873 | BK23: =BI23 -> Aluno 15 | BL23: =VLOOKUP(BK23,$AA$8:$AB$37,2,FALSE) -> 873 | BM23: =BK23 -> Aluno 15 | BN23: =VLOOKUP(BM23,$AA$8:$AB$37,2,FALSE) -> 873 | BO23: =BM23 -> Aluno 15 | BP23: =VLOOKUP(BO23,$AA$8:$AB$37,2,FALSE) -> 873 | BQ23: =BO23 -> Aluno 15 | BR23: =VLOOKUP(BQ23,$AA$8:$AB$37,2,FALSE) -> 873 | BS23: =BQ23 -> Aluno 15 | BT23: =VLOOKUP(BS23,$AA$8:$AB$37,2,FALSE) -> 873 | BU23: =BS23 -> Aluno 15 | BV23: =VLOOKUP(BU23,$AA$8:$AB$37,2,FALSE) -> 873 | BW23: =BU23 -> Aluno 15 | BX23: =VLOOKUP(BW23,$AA$8:$AB$37,2,FALSE) -> 873 | BY23: =BW23 -> Aluno 15 | BZ23: =VLOOKUP(BY23,$AA$8:$AB$37,2,FALSE) -> 873 | CA23: =BY23 -> Aluno 15 | CB23: =VLOOKUP(CA23,$AA$8:$AB$37,2,FALSE) -> 873 | CC23: =CA23 -> Aluno 15 | CD23: =VLOOKUP(CC23,$AA$8:$AB$37,2,FALSE) -> 873 | CE23: =CC23 -> Aluno 15 | CF23: =VLOOKUP(CE23,$AA$8:$AB$37,2,FALSE) -> 873 | CG23: =CE23 -> Aluno 15 | CH23: =VLOOKUP(CG23,$AA$8:$AB$37,2,FALSE) -> 873
B24: Aluno 17 | D24: 17 | E24: 72 | F24: 87 | G24: 73 | H24: 61 | I24: =IF(ISERROR(AVERAGE(E24:H24))=TRUE,"",AVERAGE(E24:H24)) -> 73.25 | J24: 72 | K24: 87 | L24: 73 | M24: 61 | N24: =IF(ISERROR(AVERAGE(J24:M24))=TRUE,"",AVERAGE(J24:M24)) -> 73.25 | O24: 72 | P24: 87 | Q24: 73 | R24: 61 | S24: =IF(ISERROR(AVERAGE(O24:R24))=TRUE,"",AVERAGE(O24:R24)) -> 73.25 | T24: =SUM(E24:H24,J24:M24,O24:R24) -> 879 | AA24: =B24 -> Aluno 17 | AB24: =T24 -> 879 | AC24: =AA24 -> Aluno 17 | AD24: =VLOOKUP(AC24,$AA$8:$AB$37,2,FALSE) -> 879 | AE24: =AC24 -> Aluno 17 | AF24: =VLOOKUP(AE24,$AA$8:$AB$37,2,FALSE) -> 879 | AG24: =AE24 -> Aluno 17 | AH24: =VLOOKUP(AG24,$AA$8:$AB$37,2,FALSE) -> 879 | AI24: =AG24 -> Aluno 17 | AJ24: =VLOOKUP(AI24,$AA$8:$AB$37,2,FALSE) -> 879 | AK24: =AI24 -> Aluno 17 | AL24: =VLOOKUP(AK24,$AA$8:$AB$37,2,FALSE) -> 879 | AM24: =AK24 -> Aluno 17 | AN24: =VLOOKUP(AM24,$AA$8:$AB$37,2,FALSE) -> 879 | AO24: =AM24 -> Aluno 17 | AP24: =VLOOKUP(AO24,$AA$8:$AB$37,2,FALSE) -> 879 | AQ24: =AO24 -> Aluno 17 | AR24: =VLOOKUP(AQ24,$AA$8:$AB$37,2,FALSE) -> 879 | AS24: =AQ24 -> Aluno 17 | AT24: =VLOOKUP(AS24,$AA$8:$AB$37,2,FALSE) -> 879 | AU24: =AS24 -> Aluno 17 | AV24: =VLOOKUP(AU24,$AA$8:$AB$37,2,FALSE) -> 879 | AW24: =AU24 -> Aluno 17 | AX24: =VLOOKUP(AW24,$AA$8:$AB$37,2,FALSE) -> 879 | AY24: =AW24 -> Aluno 17 | AZ24: =VLOOKUP(AY24,$AA$8:$AB$37,2,FALSE) -> 879 | BA24: =AY24 -> Aluno 17 | BB24: =VLOOKUP(BA24,$AA$8:$AB$37,2,FALSE) -> 879 | BC24: =BA24 -> Aluno 17 | BD24: =VLOOKUP(BC24,$AA$8:$AB$37,2,FALSE) -> 879 | BE24: =BC24 -> Aluno 17 | BF24: =VLOOKUP(BE24,$AA$8:$AB$37,2,FALSE) -> 879 | BG24: =IF(BF24<=BF8,BE24,BE8) -> Aluno 16 | BH24: =VLOOKUP(BG24,$AA$8:$AB$37,2,FALSE) -> 876 | BI24: =BG24 -> Aluno 16 | BJ24: =VLOOKUP(BI24,$AA$8:$AB$37,2,FALSE) -> 876 | BK24: =BI24 -> Aluno 16 | BL24: =VLOOKUP(BK24,$AA$8:$AB$37,2,FALSE) -> 876 | BM24: =BK24 -> Aluno 16 | BN24: =VLOOKUP(BM24,$AA$8:$AB$37,2,FALSE) -> 876 | BO24: =BM24 -> Aluno 16 | BP24: =VLOOKUP(BO24,$AA$8:$AB$37,2,FALSE) -> 876 | BQ24: =BO24 -> Aluno 16 | BR24: =VLOOKUP(BQ24,$AA$8:$AB$37,2,FALSE) -> 876 | BS24: =BQ24 -> Aluno 16 | BT24: =VLOOKUP(BS24,$AA$8:$AB$37,2,FALSE) -> 876 | BU24: =BS24 -> Aluno 16 | BV24: =VLOOKUP(BU24,$AA$8:$AB$37,2,FALSE) -> 876 | BW24: =BU24 -> Aluno 16 | BX24: =VLOOKUP(BW24,$AA$8:$AB$37,2,FALSE) -> 876 | BY24: =BW24 -> Aluno 16 | BZ24: =VLOOKUP(BY24,$AA$8:$AB$37,2,FALSE) -> 876 | CA24: =BY24 -> Aluno 16 | CB24: =VLOOKUP(CA24,$AA$8:$AB$37,2,FALSE) -> 876 | CC24: =CA24 -> Aluno 16 | CD24: =VLOOKUP(CC24,$AA$8:$AB$37,2,FALSE) -> 876 | CE24: =CC24 -> Aluno 16 | CF24: =VLOOKUP(CE24,$AA$8:$AB$37,2,FALSE) -> 876 | CG24: =CE24 -> Aluno 16 | CH24: =VLOOKUP(CG24,$AA$8:$AB$37,2,FALSE) -> 876
B25: Aluno 18 | D25: 18 | E25: 74 | F25: 88 | G25: 72 | H25: 60 | I25: =IF(ISERROR(AVERAGE(E25:H25))=TRUE,"",AVERAGE(E25:H25)) -> 73.5 | J25: 74 | K25: 88 | L25: 72 | M25: 60 | N25: =IF(ISERROR(AVERAGE(J25:M25))=TRUE,"",AVERAGE(J25:M25)) -> 73.5 | O25: 74 | P25: 88 | Q25: 72 | R25: 60 | S25: =IF(ISERROR(AVERAGE(O25:R25))=TRUE,"",AVERAGE(O25:R25)) -> 73.5 | T25: =SUM(E25:H25,J25:M25,O25:R25) -> 882 | AA25: =B25 -> Aluno 18 | AB25: =T25 -> 882 | AC25: =AA25 -> Aluno 18 | AD25: =VLOOKUP(AC25,$AA$8:$AB$37,2,FALSE) -> 882 | AE25: =AC25 -> Aluno 18 | AF25: =VLOOKUP(AE25,$AA$8:$AB$37,2,FALSE) -> 882 | AG25: =AE25 -> Aluno 18 | AH25: =VLOOKUP(AG25,$AA$8:$AB$37,2,FALSE) -> 882 | AI25: =AG25 -> Aluno 18 | AJ25: =VLOOKUP(AI25,$AA$8:$AB$37,2,FALSE) -> 882 | AK25: =AI25 -> Aluno 18 | AL25: =VLOOKUP(AK25,$AA$8:$AB$37,2,FALSE) -> 882 | AM25: =AK25 -> Aluno 18 | AN25: =VLOOKUP(AM25,$AA$8:$AB$37,2,FALSE) -> 882 | AO25: =AM25 -> Aluno 18 | AP25: =VLOOKUP(AO25,$AA$8:$AB$37,2,FALSE) -> 882 | AQ25: =AO25 -> Aluno 18 | AR25: =VLOOKUP(AQ25,$AA$8:$AB$37,2,FALSE) -> 882 | AS25: =AQ25 -> Aluno 18 | AT25: =VLOOKUP(AS25,$AA$8:$AB$37,2,FALSE) -> 882 | AU25: =AS25 -> Aluno 18 | AV25: =VLOOKUP(AU25,$AA$8:$AB$37,2,FALSE) -> 882 | AW25: =AU25 -> Aluno 18 | AX25: =VLOOKUP(AW25,$AA$8:$AB$37,2,FALSE) -> 882 | AY25: =AW25 -> Aluno 18 | AZ25: =VLOOKUP(AY25,$AA$8:$AB$37,2,FALSE) -> 882 | BA25: =AY25 -> Aluno 18 | BB25: =VLOOKUP(BA25,$AA$8:$AB$37,2,FALSE) -> 882 | BC25: =BA25 -> Aluno 18 | BD25: =VLOOKUP(BC25,$AA$8:$AB$37,2,FALSE) -> 882 | BE25: =BC25 -> Aluno 18 | BF25: =VLOOKUP(BE25,$AA$8:$AB$37,2,FALSE) -> 882 | BG25: =BE25 -> Aluno 18 | BH25: =VLOOKUP(BG25,$AA$8:$AB$37,2,FALSE) -> 882 | BI25: =IF(BH25<=BH8,BG25,BG8) -> Aluno 17 | BJ25: =VLOOKUP(BI25,$AA$8:$AB$37,2,FALSE) -> 879 | BK25: =BI25 -> Aluno 17 | BL25: =VLOOKUP(BK25,$AA$8:$AB$37,2,FALSE) -> 879 | BM25: =BK25 -> Aluno 17 | BN25: =VLOOKUP(BM25,$AA$8:$AB$37,2,FALSE) -> 879 | BO25: =BM25 -> Aluno 17 | BP25: =VLOOKUP(BO25,$AA$8:$AB$37,2,FALSE) -> 879 | BQ25: =BO25 -> Aluno 17 | BR25: =VLOOKUP(BQ25,$AA$8:$AB$37,2,FALSE) -> 879 | BS25: =BQ25 -> Aluno 17 | BT25: =VLOOKUP(BS25,$AA$8:$AB$37,2,FALSE) -> 879 | BU25: =BS25 -> Aluno 17 | BV25: =VLOOKUP(BU25,$AA$8:$AB$37,2,FALSE) -> 879 | BW25: =BU25 -> Aluno 17 | BX25: =VLOOKUP(BW25,$AA$8:$AB$37,2,FALSE) -> 879 | BY25: =BW25 -> Aluno 17 | BZ25: =VLOOKUP(BY25,$AA$8:$AB$37,2,FALSE) -> 879 | CA25: =BY25 -> Aluno 17 | CB25: =VLOOKUP(CA25,$AA$8:$AB$37,2,FALSE) -> 879 | CC25: =CA25 -> Aluno 17 | CD25: =VLOOKUP(CC25,$AA$8:$AB$37,2,FALSE) -> 879 | CE25: =CC25 -> Aluno 17 | CF25: =VLOOKUP(CE25,$AA$8:$AB$37,2,FALSE) -> 879 | CG25: =CE25 -> Aluno 17 | CH25: =VLOOKUP(CG25,$AA$8:$AB$37,2,FALSE) -> 879
B26: Aluno 19 | D26: 19 | E26: 76 | F26: 89 | G26: 71 | H26: 59 | I26: =IF(ISERROR(AVERAGE(E26:H26))=TRUE,"",AVERAGE(E26:H26)) -> 73.75 | J26: 76 | K26: 89 | L26: 71 | M26: 59 | N26: =IF(ISERROR(AVERAGE(J26:M26))=TRUE,"",AVERAGE(J26:M26)) -> 73.75 | O26: 76 | P26: 89 | Q26: 71 | R26: 59 | S26: =IF(ISERROR(AVERAGE(O26:R26))=TRUE,"",AVERAGE(O26:R26)) -> 73.75 | T26: =SUM(E26:H26,J26:M26,O26:R26) -> 885 | AA26: =B26 -> Aluno 19 | AB26: =T26 -> 885 | AC26: =AA26 -> Aluno 19 | AD26: =VLOOKUP(AC26,$AA$8:$AB$37,2,FALSE) -> 885 | AE26: =AC26 -> Aluno 19 | AF26: =VLOOKUP(AE26,$AA$8:$AB$37,2,FALSE) -> 885 | AG26: =AE26 -> Aluno 19 | AH26: =VLOOKUP(AG26,$AA$8:$AB$37,2,FALSE) -> 885 | AI26: =AG26 -> Aluno 19 | AJ26: =VLOOKUP(AI26,$AA$8:$AB$37,2,FALSE) -> 885 | AK26: =AI26 -> Aluno 19 | AL26: =VLOOKUP(AK26,$AA$8:$AB$37,2,FALSE) -> 885 | AM26: =AK26 -> Aluno 19 | AN26: =VLOOKUP(AM26,$AA$8:$AB$37,2,FALSE) -> 885 | AO26: =AM26 -> Aluno 19 | AP26: =VLOOKUP(AO26,$AA$8:$AB$37,2,FALSE) -> 885 | AQ26: =AO26 -> Aluno 19 | AR26: =VLOOKUP(AQ26,$AA$8:$AB$37,2,FALSE) -> 885 | AS26: =AQ26 -> Aluno 19 | AT26: =VLOOKUP(AS26,$AA$8:$AB$37,2,FALSE) -> 885 | AU26: =AS26 -> Aluno 19 | AV26: =VLOOKUP(AU26,$AA$8:$AB$37,2,FALSE) -> 885 | AW26: =AU26 -> Aluno 19 | AX26: =VLOOKUP(AW26,$AA$8:$AB$37,2,FALSE) -> 885 | AY26: =AW26 -> Aluno 19 | AZ26: =VLOOKUP(AY26,$AA$8:$AB$37,2,FALSE) -> 885 | BA26: =AY26 -> Aluno 19 | BB26: =VLOOKUP(BA26,$AA$8:$AB$37,2,FALSE) -> 885 | BC26: =BA26 -> Aluno 19 | BD26: =VLOOKUP(BC26,$AA$8:$AB$37,2,FALSE) -> 885 | BE26: =BC26 -> Aluno 19 | BF26: =VLOOKUP(BE26,$AA$8:$AB$37,2,FALSE) -> 885 | BG26: =BE26 -> Aluno 19 | BH26: =VLOOKUP(BG26,$AA$8:$AB$37,2,FALSE) -> 885 | BI26: =BG26 -> Aluno 19 | BJ26: =VLOOKUP(BI26,$AA$8:$AB$37,2,FALSE) -> 885 | BK26: =IF(BJ26<=BJ8,BI26,BI8) -> Aluno 18 | BL26: =VLOOKUP(BK26,$AA$8:$AB$37,2,FALSE) -> 882 | BM26: =BK26 -> Aluno 18 | BN26: =VLOOKUP(BM26,$AA$8:$AB$37,2,FALSE) -> 882 | BO26: =BM26 -> Aluno 18 | BP26: =VLOOKUP(BO26,$AA$8:$AB$37,2,FALSE) -> 882 | BQ26: =BO26 -> Aluno 18 | BR26: =VLOOKUP(BQ26,$AA$8:$AB$37,2,FALSE) -> 882 | BS26: =BQ26 -> Aluno 18 | BT26: =VLOOKUP(BS26,$AA$8:$AB$37,2,FALSE) -> 882 | BU26: =BS26 -> Aluno 18 | BV26: =VLOOKUP(BU26,$AA$8:$AB$37,2,FALSE) -> 882 | BW26: =BU26 -> Aluno 18 | BX26: =VLOOKUP(BW26,$AA$8:$AB$37,2,FALSE) -> 882 | BY26: =BW26 -> Aluno 18 | BZ26: =VLOOKUP(BY26,$AA$8:$AB$37,2,FALSE) -> 882 | CA26: =BY26 -> Aluno 18 | CB26: =VLOOKUP(CA26,$AA$8:$AB$37,2,FALSE) -> 882 | CC26: =CA26 -> Aluno 18 | CD26: =VLOOKUP(CC26,$AA$8:$AB$37,2,FALSE) -> 882 | CE26: =CC26 -> Aluno 18 | CF26: =VLOOKUP(CE26,$AA$8:$AB$37,2,FALSE) -> 882 | CG26: =CE26 -> Aluno 18 | CH26: =VLOOKUP(CG26,$AA$8:$AB$37,2,FALSE) -> 882
B27: Aluno 20 | D27: 20 | E27: 78 | F27: 90 | G27: 70 | H27: 58 | I27: =IF(ISERROR(AVERAGE(E27:H27))=TRUE,"",AVERAGE(E27:H27)) -> 74 | J27: 78 | K27: 90 | L27: 70 | M27: 58 | N27: =IF(ISERROR(AVERAGE(J27:M27))=TRUE,"",AVERAGE(J27:M27)) -> 74 | O27: 78 | P27: 90 | Q27: 70 | R27: 58 | S27: =IF(ISERROR(AVERAGE(O27:R27))=TRUE,"",AVERAGE(O27:R27)) -> 74 | T27: =SUM(E27:H27,J27:M27,O27:R27) -> 888 | AA27: =B27 -> Aluno 20 | AB27: =T27 -> 888 | AC27: =AA27 -> Aluno 20 | AD27: =VLOOKUP(AC27,$AA$8:$AB$37,2,FALSE) -> 888 | AE27: =AC27 -> Aluno 20 | AF27: =VLOOKUP(AE27,$AA$8:$AB$37,2,FALSE) -> 888 | AG27: =AE27 -> Aluno 20 | AH27: =VLOOKUP(AG27,$AA$8:$AB$37,2,FALSE) -> 888 | AI27: =AG27 -> Aluno 20 | AJ27: =VLOOKUP(AI27,$AA$8:$AB$37,2,FALSE) -> 888 | AK27: =AI27 -> Aluno 20 | AL27: =VLOOKUP(AK27,$AA$8:$AB$37,2,FALSE) -> 888 | AM27: =AK27 -> Aluno 20 | AN27: =VLOOKUP(AM27,$AA$8:$AB$37,2,FALSE) -> 888 | AO27: =AM27 -> Aluno 20 | AP27: =VLOOKUP(AO27,$AA$8:$AB$37,2,FALSE) -> 888 | AQ27: =AO27 -> Aluno 20 | AR27: =VLOOKUP(AQ27,$AA$8:$AB$37,2,FALSE) -> 888 | AS27: =AQ27 -> Aluno 20 | AT27: =VLOOKUP(AS27,$AA$8:$AB$37,2,FALSE) -> 888 | AU27: =AS27 -> Aluno 20 | AV27: =VLOOKUP(AU27,$AA$8:$AB$37,2,FALSE) -> 888 | AW27: =AU27 -> Aluno 20 | AX27: =VLOOKUP(AW27,$AA$8:$AB$37,2,FALSE) -> 888 | AY27: =AW27 -> Aluno 20 | AZ27: =VLOOKUP(AY27,$AA$8:$AB$37,2,FALSE) -> 888 | BA27: =AY27 -> Aluno 20 | BB27: =VLOOKUP(BA27,$AA$8:$AB$37,2,FALSE) -> 888 | BC27: =BA27 -> Aluno 20 | BD27: =VLOOKUP(BC27,$AA$8:$AB$37,2,FALSE) -> 888 | BE27: =BC27 -> Aluno 20 | BF27: =VLOOKUP(BE27,$AA$8:$AB$37,2,FALSE) -> 888 | BG27: =BE27 -> Aluno 20 | BH27: =VLOOKUP(BG27,$AA$8:$AB$37,2,FALSE) -> 888 | BI27: =BG27 -> Aluno 20 | BJ27: =VLOOKUP(BI27,$AA$8:$AB$37,2,FALSE) -> 888 | BK27: =BI27 -> Aluno 20 | BL27: =VLOOKUP(BK27,$AA$8:$AB$37,2,FALSE) -> 888 | BM27: =IF(BL27<=BL8,BK27,BK8) -> Aluno 19 | BN27: =VLOOKUP(BM27,$AA$8:$AB$37,2,FALSE) -> 885 | BO27: =BM27 -> Aluno 19 | BP27: =VLOOKUP(BO27,$AA$8:$AB$37,2,FALSE) -> 885 | BQ27: =BO27 -> Aluno 19 | BR27: =VLOOKUP(BQ27,$AA$8:$AB$37,2,FALSE) -> 885 | BS27: =BQ27 -> Aluno 19 | BT27: =VLOOKUP(BS27,$AA$8:$AB$37,2,FALSE) -> 885 | BU27: =BS27 -> Aluno 19 | BV27: =VLOOKUP(BU27,$AA$8:$AB$37,2,FALSE) -> 885 | BW27: =BU27 -> Aluno 19 | BX27: =VLOOKUP(BW27,$AA$8:$AB$37,2,FALSE) -> 885 | BY27: =BW27 -> Aluno 19 | BZ27: =VLOOKUP(BY27,$AA$8:$AB$37,2,FALSE) -> 885 | CA27: =BY27 -> Aluno 19 | CB27: =VLOOKUP(CA27,$AA$8:$AB$37,2,FALSE) -> 885 | CC27: =CA27 -> Aluno 19 | CD27: =VLOOKUP(CC27,$AA$8:$AB$37,2,FALSE) -> 885 | CE27: =CC27 -> Aluno 19 | CF27: =VLOOKUP(CE27,$AA$8:$AB$37,2,FALSE) -> 885 | CG27: =CE27 -> Aluno 19 | CH27: =VLOOKUP(CG27,$AA$8:$AB$37,2,FALSE) -> 885
B28: Aluno 21 | D28: 21 | E28: 80 | F28: 91 | G28: 69 | H28: 57 | I28: =IF(ISERROR(AVERAGE(E28:H28))=TRUE,"",AVERAGE(E28:H28)) -> 74.25 | J28: 80 | K28: 91 | L28: 69 | M28: 57 | N28: =IF(ISERROR(AVERAGE(J28:M28))=TRUE,"",AVERAGE(J28:M28)) -> 74.25 | O28: 80 | P28: 91 | Q28: 69 | R28: 57 | S28: =IF(ISERROR(AVERAGE(O28:R28))=TRUE,"",AVERAGE(O28:R28)) -> 74.25 | T28: =SUM(E28:H28,J28:M28,O28:R28) -> 891 | AA28: =B28 -> Aluno 21 | AB28: =T28 -> 891 | AC28: =AA28 -> Aluno 21 | AD28: =VLOOKUP(AC28,$AA$8:$AB$37,2,FALSE) -> 891 | AE28: =AC28 -> Aluno 21 | AF28: =VLOOKUP(AE28,$AA$8:$AB$37,2,FALSE) -> 891 | AG28: =AE28 -> Aluno 21 | AH28: =VLOOKUP(AG28,$AA$8:$AB$37,2,FALSE) -> 891 | AI28: =AG28 -> Aluno 21 | AJ28: =VLOOKUP(AI28,$AA$8:$AB$37,2,FALSE) -> 891 | AK28: =AI28 -> Aluno 21 | AL28: =VLOOKUP(AK28,$AA$8:$AB$37,2,FALSE) -> 891 | AM28: =AK28 -> Aluno 21 | AN28: =VLOOKUP(AM28,$AA$8:$AB$37,2,FALSE) -> 891 | AO28: =AM28 -> Aluno 21 | AP28: =VLOOKUP(AO28,$AA$8:$AB$37,2,FALSE) -> 891 | AQ28: =AO28 -> Aluno 21 | AR28: =VLOOKUP(AQ28,$AA$8:$AB$37,2,FALSE) -> 891 | AS28: =AQ28 -> Aluno 21 | AT28: =VLOOKUP(AS28,$AA$8:$AB$37,2,FALSE) -> 891 | AU28: =AS28 -> Aluno 21 | AV28: =VLOOKUP(AU28,$AA$8:$AB$37,2,FALSE) -> 891 | AW28: =AU28 -> Aluno 21 | AX28: =VLOOKUP(AW28,$AA$8:$AB$37,2,FALSE) -> 891 | AY28: =AW28 -> Aluno 21 | AZ28: =VLOOKUP(AY28,$AA$8:$AB$37,2,FALSE) -> 891 | BA28: =AY28 -> Aluno 21 | BB28: =VLOOKUP(BA28,$AA$8:$AB$37,2,FALSE) -> 891 | BC28: =BA28 -> Aluno 21 | BD28: =VLOOKUP(BC28,$AA$8:$AB$37,2,FALSE) -> 891 | BE28: =BC28 -> Aluno 21 | BF28: =VLOOKUP(BE28,$AA$8:$AB$37,2,FALSE) -> 891 | BG28: =BE28 -> Aluno 21 | BH28: =VLOOKUP(BG28,$AA$8:$AB$37,2,FALSE) -> 891 | BI28: =BG28 -> Aluno 21 | BJ28: =VLOOKUP(BI28,$AA$8:$AB$37,2,FALSE) -> 891 | BK28: =BI28 -> Aluno 21 | BL28: =VLOOKUP(BK28,$AA$8:$AB$37,2,FALSE) -> 891 | BM28: =BK28 -> Aluno 21 | BN28: =VLOOKUP(BM28,$AA$8:$AB$37,2,FALSE) -> 891 | BO28: =IF(BN28<=BN8,BM28,BM8) -> Aluno 20 | BP28: =VLOOKUP(BO28,$AA$8:$AB$37,2,FALSE) -> 888 | BQ28: =BO28 -> Aluno 20 | BR28: =VLOOKUP(BQ28,$AA$8:$AB$37,2,FALSE) -> 888 | BS28: =BQ28 -> Aluno 20 | BT28: =VLOOKUP(BS28,$AA$8:$AB$37,2,FALSE) -> 888 | BU28: =BS28 -> Aluno 20 | BV28: =VLOOKUP(BU28,$AA$8:$AB$37,2,FALSE) -> 888 | BW28: =BU28 -> Aluno 20 | BX28: =VLOOKUP(BW28,$AA$8:$AB$37,2,FALSE) -> 888 | BY28: =BW28 -> Aluno 20 | BZ28: =VLOOKUP(BY28,$AA$8:$AB$37,2,FALSE) -> 888 | CA28: =BY28 -> Aluno 20 | CB28: =VLOOKUP(CA28,$AA$8:$AB$37,2,FALSE) -> 888 | CC28: =CA28 -> Aluno 20 | CD28: =VLOOKUP(CC28,$AA$8:$AB$37,2,FALSE) -> 888 | CE28: =CC28 -> Aluno 20 | CF28: =VLOOKUP(CE28,$AA$8:$AB$37,2,FALSE) -> 888 | CG28: =CE28 -> Aluno 20 | CH28: =VLOOKUP(CG28,$AA$8:$AB$37,2,FALSE) -> 888
B29: Aluno 22 | D29: 22 | E29: 82 | F29: 92 | G29: 68 | H29: 56 | I29: =IF(ISERROR(AVERAGE(E29:H29))=TRUE,"",AVERAGE(E29:H29)) -> 74.5 | J29: 82 | K29: 92 | L29: 68 | M29: 56 | N29: =IF(ISERROR(AVERAGE(J29:M29))=TRUE,"",AVERAGE(J29:M29)) -> 74.5 | O29: 82 | P29: 92 | Q29: 68 | R29: 56 | S29: =IF(ISERROR(AVERAGE(O29:R29))=TRUE,"",AVERAGE(O29:R29)) -> 74.5 | T29: =SUM(E29:H29,J29:M29,O29:R29) -> 894 | AA29: =B29 -> Aluno 22 | AB29: =T29 -> 894 | AC29: =AA29 -> Aluno 22 | AD29: =VLOOKUP(AC29,$AA$8:$AB$37,2,FALSE) -> 894 | AE29: =AC29 -> Aluno 22 | AF29: =VLOOKUP(AE29,$AA$8:$AB$37,2,FALSE) -> 894 | AG29: =AE29 -> Aluno 22 | AH29: =VLOOKUP(AG29,$AA$8:$AB$37,2,FALSE) -> 894 | AI29: =AG29 -> Aluno 22 | AJ29: =VLOOKUP(AI29,$AA$8:$AB$37,2,FALSE) -> 894 | AK29: =AI29 -> Aluno 22 | AL29: =VLOOKUP(AK29,$AA$8:$AB$37,2,FALSE) -> 894 | AM29: =AK29 -> Aluno 22 | AN29: =VLOOKUP(AM29,$AA$8:$AB$37,2,FALSE) -> 894 | AO29: =AM29 -> Aluno 22 | AP29: =VLOOKUP(AO29,$AA$8:$AB$37,2,FALSE) -> 894 | AQ29: =AO29 -> Aluno 22 | AR29: =VLOOKUP(AQ29,$AA$8:$AB$37,2,FALSE) -> 894 | AS29: =AQ29 -> Aluno 22 | AT29: =VLOOKUP(AS29,$AA$8:$AB$37,2,FALSE) -> 894 | AU29: =AS29 -> Aluno 22 | AV29: =VLOOKUP(AU29,$AA$8:$AB$37,2,FALSE) -> 894 | AW29: =AU29 -> Aluno 22 | AX29: =VLOOKUP(AW29,$AA$8:$AB$37,2,FALSE) -> 894 | AY29: =AW29 -> Aluno 22 | AZ29: =VLOOKUP(AY29,$AA$8:$AB$37,2,FALSE) -> 894 | BA29: =AY29 -> Aluno 22 | BB29: =VLOOKUP(BA29,$AA$8:$AB$37,2,FALSE) -> 894 | BC29: =BA29 -> Aluno 22 | BD29: =VLOOKUP(BC29,$AA$8:$AB$37,2,FALSE) -> 894 | BE29: =BC29 -> Aluno 22 | BF29: =VLOOKUP(BE29,$AA$8:$AB$37,2,FALSE) -> 894 | BG29: =BE29 -> Aluno 22 | BH29: =VLOOKUP(BG29,$AA$8:$AB$37,2,FALSE) -> 894 | BI29: =BG29 -> Aluno 22 | BJ29: =VLOOKUP(BI29,$AA$8:$AB$37,2,FALSE) -> 894 | BK29: =BI29 -> Aluno 22 | BL29: =VLOOKUP(BK29,$AA$8:$AB$37,2,FALSE) -> 894 | BM29: =BK29 -> Aluno 22 | BN29: =VLOOKUP(BM29,$AA$8:$AB$37,2,FALSE) -> 894 | BO29: =BM29 -> Aluno 22 | BP29: =VLOOKUP(BO29,$AA$8:$AB$37,2,FALSE) -> 894 | BQ29: =IF(BP29<=BP8,BO29,BO8) -> Aluno 21 | BR29: =VLOOKUP(BQ29,$AA$8:$AB$37,2,FALSE) -> 891 | BS29: =BQ29 -> Aluno 21 | BT29: =VLOOKUP(BS29,$AA$8:$AB$37,2,FALSE) -> 891 | BU29: =BS29 -> Aluno 21 | BV29: =VLOOKUP(BU29,$AA$8:$AB$37,2,FALSE) -> 891 | BW29: =BU29 -> Aluno 21 | BX29: =VLOOKUP(BW29,$AA$8:$AB$37,2,FALSE) -> 891 | BY29: =BW29 -> Aluno 21 | BZ29: =VLOOKUP(BY29,$AA$8:$AB$37,2,FALSE) -> 891 | CA29: =BY29 -> Aluno 21 | CB29: =VLOOKUP(CA29,$AA$8:$AB$37,2,FALSE) -> 891 | CC29: =CA29 -> Aluno 21 | CD29: =VLOOKUP(CC29,$AA$8:$AB$37,2,FALSE) -> 891 | CE29: =CC29 -> Aluno 21 | CF29: =VLOOKUP(CE29,$AA$8:$AB$37,2,FALSE) -> 891 | CG29: =CE29 -> Aluno 21 | CH29: =VLOOKUP(CG29,$AA$8:$AB$37,2,FALSE) -> 891
B30: Aluno 23 | D30: 23 | E30: 84 | F30: 93 | G30: 67 | H30: 55 | I30: =IF(ISERROR(AVERAGE(E30:H30))=TRUE,"",AVERAGE(E30:H30)) -> 74.75 | J30: 84 | K30: 93 | L30: 67 | M30: 55 | N30: =IF(ISERROR(AVERAGE(J30:M30))=TRUE,"",AVERAGE(J30:M30)) -> 74.75 | O30: 84 | P30: 93 | Q30: 67 | R30: 55 | S30: =IF(ISERROR(AVERAGE(O30:R30))=TRUE,"",AVERAGE(O30:R30)) -> 74.75 | T30: =SUM(E30:H30,J30:M30,O30:R30) -> 897 | AA30: =B30 -> Aluno 23 | AB30: =T30 -> 897 | AC30: =AA30 -> Aluno 23 | AD30: =VLOOKUP(AC30,$AA$8:$AB$37,2,FALSE) -> 897 | AE30: =AC30 -> Aluno 23 | AF30: =VLOOKUP(AE30,$AA$8:$AB$37,2,FALSE) -> 897 | AG30: =AE30 -> Aluno 23 | AH30: =VLOOKUP(AG30,$AA$8:$AB$37,2,FALSE) -> 897 | AI30: =AG30 -> Aluno 23 | AJ30: =VLOOKUP(AI30,$AA$8:$AB$37,2,FALSE) -> 897 | AK30: =AI30 -> Aluno 23 | AL30: =VLOOKUP(AK30,$AA$8:$AB$37,2,FALSE) -> 897 | AM30: =AK30 -> Aluno 23 | AN30: =VLOOKUP(AM30,$AA$8:$AB$37,2,FALSE) -> 897 | AO30: =AM30 -> Aluno 23 | AP30: =VLOOKUP(AO30,$AA$8:$AB$37,2,FALSE) -> 897 | AQ30: =AO30 -> Aluno 23 | AR30: =VLOOKUP(AQ30,$AA$8:$AB$37,2,FALSE) -> 897 | AS30: =AQ30 -> Aluno 23 | AT30: =VLOOKUP(AS30,$AA$8:$AB$37,2,FALSE) -> 897 | AU30: =AS30 -> Aluno 23 | AV30: =VLOOKUP(AU30,$AA$8:$AB$37,2,FALSE) -> 897 | AW30: =AU30 -> Aluno 23 | AX30: =VLOOKUP(AW30,$AA$8:$AB$37,2,FALSE) -> 897 | AY30: =AW30 -> Aluno 23 | AZ30: =VLOOKUP(AY30,$AA$8:$AB$37,2,FALSE) -> 897 | BA30: =AY30 -> Aluno 23 | BB30: =VLOOKUP(BA30,$AA$8:$AB$37,2,FALSE) -> 897 | BC30: =BA30 -> Aluno 23 | BD30: =VLOOKUP(BC30,$AA$8:$AB$37,2,FALSE) -> 897 | BE30: =BC30 -> Aluno 23 | BF30: =VLOOKUP(BE30,$AA$8:$AB$37,2,FALSE) -> 897 | BG30: =BE30 -> Aluno 23 | BH30: =VLOOKUP(BG30,$AA$8:$AB$37,2,FALSE) -> 897 | BI30: =BG30 -> Aluno 23 | BJ30: =VLOOKUP(BI30,$AA$8:$AB$37,2,FALSE) -> 897 | BK30: =BI30 -> Aluno 23 | BL30: =VLOOKUP(BK30,$AA$8:$AB$37,2,FALSE) -> 897 | BM30: =BK30 -> Aluno 23 | BN30: =VLOOKUP(BM30,$AA$8:$AB$37,2,FALSE) -> 897 | BO30: =BM30 -> Aluno 23 | BP30: =VLOOKUP(BO30,$AA$8:$AB$37,2,FALSE) -> 897 | BQ30: =BO30 -> Aluno 23 | BR30: =VLOOKUP(BQ30,$AA$8:$AB$37,2,FALSE) -> 897 | BS30: =IF(BR30<=BR8,BQ30,BQ8) -> Aluno 22 | BT30: =VLOOKUP(BS30,$AA$8:$AB$37,2,FALSE) -> 894 | BU30: =BS30 -> Aluno 22 | BV30: =VLOOKUP(BU30,$AA$8:$AB$37,2,FALSE) -> 894 | BW30: =BU30 -> Aluno 22 | BX30: =VLOOKUP(BW30,$AA$8:$AB$37,2,FALSE) -> 894 | BY30: =BW30 -> Aluno 22 | BZ30: =VLOOKUP(BY30,$AA$8:$AB$37,2,FALSE) -> 894 | CA30: =BY30 -> Aluno 22 | CB30: =VLOOKUP(CA30,$AA$8:$AB$37,2,FALSE) -> 894 | CC30: =CA30 -> Aluno 22 | CD30: =VLOOKUP(CC30,$AA$8:$AB$37,2,FALSE) -> 894 | CE30: =CC30 -> Aluno 22 | CF30: =VLOOKUP(CE30,$AA$8:$AB$37,2,FALSE) -> 894 | CG30: =CE30 -> Aluno 22 | CH30: =VLOOKUP(CG30,$AA$8:$AB$37,2,FALSE) -> 894
B31: Aluno 24 | D31: 24 | E31: 86 | F31: 94 | G31: 66 | H31: 54 | I31: =IF(ISERROR(AVERAGE(E31:H31))=TRUE,"",AVERAGE(E31:H31)) -> 75 | J31: 86 | K31: 94 | L31: 66 | M31: 54 | N31: =IF(ISERROR(AVERAGE(J31:M31))=TRUE,"",AVERAGE(J31:M31)) -> 75 | O31: 86 | P31: 94 | Q31: 66 | R31: 54 | S31: =IF(ISERROR(AVERAGE(O31:R31))=TRUE,"",AVERAGE(O31:R31)) -> 75 | T31: =SUM(E31:H31,J31:M31,O31:R31) -> 900 | AA31: =B31 -> Aluno 24 | AB31: =T31 -> 900 | AC31: =AA31 -> Aluno 24 | AD31: =VLOOKUP(AC31,$AA$8:$AB$37,2,FALSE) -> 900 | AE31: =AC31 -> Aluno 24 | AF31: =VLOOKUP(AE31,$AA$8:$AB$37,2,FALSE) -> 900 | AG31: =AE31 -> Aluno 24 | AH31: =VLOOKUP(AG31,$AA$8:$AB$37,2,FALSE) -> 900 | AI31: =AG31 -> Aluno 24 | AJ31: =VLOOKUP(AI31,$AA$8:$AB$37,2,FALSE) -> 900 | AK31: =AI31 -> Aluno 24 | AL31: =VLOOKUP(AK31,$AA$8:$AB$37,2,FALSE) -> 900 | AM31: =AK31 -> Aluno 24 | AN31: =VLOOKUP(AM31,$AA$8:$AB$37,2,FALSE) -> 900 | AO31: =AM31 -> Aluno 24 | AP31: =VLOOKUP(AO31,$AA$8:$AB$37,2,FALSE) -> 900 | AQ31: =AO31 -> Aluno 24 | AR31: =VLOOKUP(AQ31,$AA$8:$AB$37,2,FALSE) -> 900 | AS31: =AQ31 -> Aluno 24 | AT31: =VLOOKUP(AS31,$AA$8:$AB$37,2,FALSE) -> 900 | AU31: =AS31 -> Aluno 24 | AV31: =VLOOKUP(AU31,$AA$8:$AB$37,2,FALSE) -> 900 | AW31: =AU31 -> Aluno 24 | AX31: =VLOOKUP(AW31,$AA$8:$AB$37,2,FALSE) -> 900 | AY31: =AW31 -> Aluno 24 | AZ31: =VLOOKUP(AY31,$AA$8:$AB$37,2,FALSE) -> 900 | BA31: =AY31 -> Aluno 24 | BB31: =VLOOKUP(BA31,$AA$8:$AB$37,2,FALSE) -> 900 | BC31: =BA31 -> Aluno 24 | BD31: =VLOOKUP(BC31,$AA$8:$AB$37,2,FALSE) -> 900 | BE31: =BC31 -> Aluno 24 | BF31: =VLOOKUP(BE31,$AA$8:$AB$37,2,FALSE) -> 900 | BG31: =BE31 -> Aluno 24 | BH31: =VLOOKUP(BG31,$AA$8:$AB$37,2,FALSE) -> 900 | BI31: =BG31 -> Aluno 24 | BJ31: =VLOOKUP(BI31,$AA$8:$AB$37,2,FALSE) -> 900 | BK31: =BI31 -> Aluno 24 | BL31: =VLOOKUP(BK31,$AA$8:$AB$37,2,FALSE) -> 900 | BM31: =BK31 -> Aluno 24 | BN31: =VLOOKUP(BM31,$AA$8:$AB$37,2,FALSE) -> 900 | BO31: =BM31 -> Aluno 24 | BP31: =VLOOKUP(BO31,$AA$8:$AB$37,2,FALSE) -> 900 | BQ31: =BO31 -> Aluno 24 | BR31: =VLOOKUP(BQ31,$AA$8:$AB$37,2,FALSE) -> 900 | BS31: =BQ31 -> Aluno 24 | BT31: =VLOOKUP(BS31,$AA$8:$AB$37,2,FALSE) -> 900 | BU31: =IF(BT31<=BT8,BS31,BS8) -> Aluno 23 | BV31: =VLOOKUP(BU31,$AA$8:$AB$37,2,FALSE) -> 897 | BW31: =BU31 -> Aluno 23 | BX31: =VLOOKUP(BW31,$AA$8:$AB$37,2,FALSE) -> 897 | BY31: =BW31 -> Aluno 23 | BZ31: =VLOOKUP(BY31,$AA$8:$AB$37,2,FALSE) -> 897 | CA31: =BY31 -> Aluno 23 | CB31: =VLOOKUP(CA31,$AA$8:$AB$37,2,FALSE) -> 897 | CC31: =CA31 -> Aluno 23 | CD31: =VLOOKUP(CC31,$AA$8:$AB$37,2,FALSE) -> 897 | CE31: =CC31 -> Aluno 23 | CF31: =VLOOKUP(CE31,$AA$8:$AB$37,2,FALSE) -> 897 | CG31: =CE31 -> Aluno 23 | CH31: =VLOOKUP(CG31,$AA$8:$AB$37,2,FALSE) -> 897
B32: Aluno 25 | D32: 25 | E32: 88 | F32: 95 | G32: 65 | H32: 53 | I32: =IF(ISERROR(AVERAGE(E32:H32))=TRUE,"",AVERAGE(E32:H32)) -> 75.25 | J32: 88 | K32: 95 | L32: 65 | M32: 53 | N32: =IF(ISERROR(AVERAGE(J32:M32))=TRUE,"",AVERAGE(J32:M32)) -> 75.25 | O32: 88 | P32: 95 | Q32: 65 | R32: 53 | S32: =IF(ISERROR(AVERAGE(O32:R32))=TRUE,"",AVERAGE(O32:R32)) -> 75.25 | T32: =SUM(E32:H32,J32:M32,O32:R32) -> 903 | AA32: =B32 -> Aluno 25 | AB32: =T32 -> 903 | AC32: =AA32 -> Aluno 25 | AD32: =VLOOKUP(AC32,$AA$8:$AB$37,2,FALSE) -> 903 | AE32: =AC32 -> Aluno 25 | AF32: =VLOOKUP(AE32,$AA$8:$AB$37,2,FALSE) -> 903 | AG32: =AE32 -> Aluno 25 | AH32: =VLOOKUP(AG32,$AA$8:$AB$37,2,FALSE) -> 903 | AI32: =AG32 -> Aluno 25 | AJ32: =VLOOKUP(AI32,$AA$8:$AB$37,2,FALSE) -> 903 | AK32: =AI32 -> Aluno 25 | AL32: =VLOOKUP(AK32,$AA$8:$AB$37,2,FALSE) -> 903 | AM32: =AK32 -> Aluno 25 | AN32: =VLOOKUP(AM32,$AA$8:$AB$37,2,FALSE) -> 903 | AO32: =AM32 -> Aluno 25 | AP32: =VLOOKUP(AO32,$AA$8:$AB$37,2,FALSE) -> 903 | AQ32: =AO32 -> Aluno 25 | AR32: =VLOOKUP(AQ32,$AA$8:$AB$37,2,FALSE) -> 903 | AS32: =AQ32 -> Aluno 25 | AT32: =VLOOKUP(AS32,$AA$8:$AB$37,2,FALSE) -> 903 | AU32: =AS32 -> Aluno 25 | AV32: =VLOOKUP(AU32,$AA$8:$AB$37,2,FALSE) -> 903 | AW32: =AU32 -> Aluno 25 | AX32: =VLOOKUP(AW32,$AA$8:$AB$37,2,FALSE) -> 903 | AY32: =AW32 -> Aluno 25 | AZ32: =VLOOKUP(AY32,$AA$8:$AB$37,2,FALSE) -> 903 | BA32: =AY32 -> Aluno 25 | BB32: =VLOOKUP(BA32,$AA$8:$AB$37,2,FALSE) -> 903 | BC32: =BA32 -> Aluno 25 | BD32: =VLOOKUP(BC32,$AA$8:$AB$37,2,FALSE) -> 903 | BE32: =BC32 -> Aluno 25 | BF32: =VLOOKUP(BE32,$AA$8:$AB$37,2,FALSE) -> 903 | BG32: =BE32 -> Aluno 25 | BH32: =VLOOKUP(BG32,$AA$8:$AB$37,2,FALSE) -> 903 | BI32: =BG32 -> Aluno 25 | BJ32: =VLOOKUP(BI32,$AA$8:$AB$37,2,FALSE) -> 903 | BK32: =BI32 -> Aluno 25 | BL32: =VLOOKUP(BK32,$AA$8:$AB$37,2,FALSE) -> 903 | BM32: =BK32 -> Aluno 25 | BN32: =VLOOKUP(BM32,$AA$8:$AB$37,2,FALSE) -> 903 | BO32: =BM32 -> Aluno 25 | BP32: =VLOOKUP(BO32,$AA$8:$AB$37,2,FALSE) -> 903 | BQ32: =BO32 -> Aluno 25 | BR32: =VLOOKUP(BQ32,$AA$8:$AB$37,2,FALSE) -> 903 | BS32: =BQ32 -> Aluno 25 | BT32: =VLOOKUP(BS32,$AA$8:$AB$37,2,FALSE) -> 903 | BU32: =BS32 -> Aluno 25 | BV32: =VLOOKUP(BU32,$AA$8:$AB$37,2,FALSE) -> 903 | BW32: =IF(BV32<=BV8,BU32,BU8) -> Aluno 24 | BX32: =VLOOKUP(BW32,$AA$8:$AB$37,2,FALSE) -> 900 | BY32: =BW32 -> Aluno 24 | BZ32: =VLOOKUP(BY32,$AA$8:$AB$37,2,FALSE) -> 900 | CA32: =BY32 -> Aluno 24 | CB32: =VLOOKUP(CA32,$AA$8:$AB$37,2,FALSE) -> 900 | CC32: =CA32 -> Aluno 24 | CD32: =VLOOKUP(CC32,$AA$8:$AB$37,2,FALSE) -> 900 | CE32: =CC32 -> Aluno 24 | CF32: =VLOOKUP(CE32,$AA$8:$AB$37,2,FALSE) -> 900 | CG32: =CE32 -> Aluno 24 | CH32: =VLOOKUP(CG32,$AA$8:$AB$37,2,FALSE) -> 900
B33: Aluno 26 | D33: 26 | E33: 90 | F33: 96 | G33: 64 | H33: 52 | I33: =IF(ISERROR(AVERAGE(E33:H33))=TRUE,"",AVERAGE(E33:H33)) -> 75.5 | J33: 90 | K33: 96 | L33: 64 | M33: 52 | N33: =IF(ISERROR(AVERAGE(J33:M33))=TRUE,"",AVERAGE(J33:M33)) -> 75.5 | O33: 90 | P33: 96 | Q33: 64 | R33: 52 | S33: =IF(ISERROR(AVERAGE(O33:R33))=TRUE,"",AVERAGE(O33:R33)) -> 75.5 | T33: =SUM(E33:H33,J33:M33,O33:R33) -> 906 | AA33: =B33 -> Aluno 26 | AB33: =T33 -> 906 | AC33: =AA33 -> Aluno 26 | AD33: =VLOOKUP(AC33,$AA$8:$AB$37,2,FALSE) -> 906 | AE33: =AC33 -> Aluno 26 | AF33: =VLOOKUP(AE33,$AA$8:$AB$37,2,FALSE) -> 906 | AG33: =AE33 -> Aluno 26 | AH33: =VLOOKUP(AG33,$AA$8:$AB$37,2,FALSE) -> 906 | AI33: =AG33 -> Aluno 26 | AJ33: =VLOOKUP(AI33,$AA$8:$AB$37,2,FALSE) -> 906 | AK33: =AI33 -> Aluno 26 | AL33: =VLOOKUP(AK33,$AA$8:$AB$37,2,FALSE) -> 906 | AM33: =AK33 -> Aluno 26 | AN33: =VLOOKUP(AM33,$AA$8:$AB$37,2,FALSE) -> 906 | AO33: =AM33 -> Aluno 26 | AP33: =VLOOKUP(AO33,$AA$8:$AB$37,2,FALSE) -> 906 | AQ33: =AO33 -> Aluno 26 | AR33: =VLOOKUP(AQ33,$AA$8:$AB$37,2,FALSE) -> 906 | AS33: =AQ33 -> Aluno 26 | AT33: =VLOOKUP(AS33,$AA$8:$AB$37,2,FALSE) -> 906 | AU33: =AS33 -> Aluno 26 | AV33: =VLOOKUP(AU33,$AA$8:$AB$37,2,FALSE) -> 906 | AW33: =AU33 -> Aluno 26 | AX33: =VLOOKUP(AW33,$AA$8:$AB$37,2,FALSE) -> 906 | AY33: =AW33 -> Aluno 26 | AZ33: =VLOOKUP(AY33,$AA$8:$AB$37,2,FALSE) -> 906 | BA33: =AY33 -> Aluno 26 | BB33: =VLOOKUP(BA33,$AA$8:$AB$37,2,FALSE) -> 906 | BC33: =BA33 -> Aluno 26 | BD33: =VLOOKUP(BC33,$AA$8:$AB$37,2,FALSE) -> 906 | BE33: =BC33 -> Aluno 26 | BF33: =VLOOKUP(BE33,$AA$8:$AB$37,2,FALSE) -> 906 | BG33: =BE33 -> Aluno 26 | BH33: =VLOOKUP(BG33,$AA$8:$AB$37,2,FALSE) -> 906 | BI33: =BG33 -> Aluno 26 | BJ33: =VLOOKUP(BI33,$AA$8:$AB$37,2,FALSE) -> 906 | BK33: =BI33 -> Aluno 26 | BL33: =VLOOKUP(BK33,$AA$8:$AB$37,2,FALSE) -> 906 | BM33: =BK33 -> Aluno 26 | BN33: =VLOOKUP(BM33,$AA$8:$AB$37,2,FALSE) -> 906 | BO33: =BM33 -> Aluno 26 | BP33: =VLOOKUP(BO33,$AA$8:$AB$37,2,FALSE) -> 906 | BQ33: =BO33 -> Aluno 26 | BR33: =VLOOKUP(BQ33,$AA$8:$AB$37,2,FALSE) -> 906 | BS33: =BQ33 -> Aluno 26 | BT33: =VLOOKUP(BS33,$AA$8:$AB$37,2,FALSE) -> 906 | BU33: =BS33 -> Aluno 26 | BV33: =VLOOKUP(BU33,$AA$8:$AB$37,2,FALSE) -> 906 | BW33: =BU33 -> Aluno 26 | BX33: =VLOOKUP(BW33,$AA$8:$AB$37,2,FALSE) -> 906 | BY33: =IF(BX33<=BX8,BW33,BW8) -> Aluno 25 | BZ33: =VLOOKUP(BY33,$AA$8:$AB$37,2,FALSE) -> 903 | CA33: =BY33 -> Aluno 25 | CB33: =VLOOKUP(CA33,$AA$8:$AB$37,2,FALSE) -> 903 | CC33: =CA33 -> Aluno 25 | CD33: =VLOOKUP(CC33,$AA$8:$AB$37,2,FALSE) -> 903 | CE33: =CC33 -> Aluno 25 | CF33: =VLOOKUP(CE33,$AA$8:$AB$37,2,FALSE) -> 903 | CG33: =CE33 -> Aluno 25 | CH33: =VLOOKUP(CG33,$AA$8:$AB$37,2,FALSE) -> 903
B34: Aluno 27 | D34: 27 | E34: 92 | F34: 97 | G34: 63 | H34: 51 | I34: =IF(ISERROR(AVERAGE(E34:H34))=TRUE,"",AVERAGE(E34:H34)) -> 75.75 | J34: 92 | K34: 97 | L34: 63 | M34: 51 | N34: =IF(ISERROR(AVERAGE(J34:M34))=TRUE,"",AVERAGE(J34:M34)) -> 75.75 | O34: 92 | P34: 97 | Q34: 63 | R34: 51 | S34: =IF(ISERROR(AVERAGE(O34:R34))=TRUE,"",AVERAGE(O34:R34)) -> 75.75 | T34: =SUM(E34:H34,J34:M34,O34:R34) -> 909 | AA34: =B34 -> Aluno 27 | AB34: =T34 -> 909 | AC34: =AA34 -> Aluno 27 | AD34: =VLOOKUP(AC34,$AA$8:$AB$37,2,FALSE) -> 909 | AE34: =AC34 -> Aluno 27 | AF34: =VLOOKUP(AE34,$AA$8:$AB$37,2,FALSE) -> 909 | AG34: =AE34 -> Aluno 27 | AH34: =VLOOKUP(AG34,$AA$8:$AB$37,2,FALSE) -> 909 | AI34: =AG34 -> Aluno 27 | AJ34: =VLOOKUP(AI34,$AA$8:$AB$37,2,FALSE) -> 909 | AK34: =AI34 -> Aluno 27 | AL34: =VLOOKUP(AK34,$AA$8:$AB$37,2,FALSE) -> 909 | AM34: =AK34 -> Aluno 27 | AN34: =VLOOKUP(AM34,$AA$8:$AB$37,2,FALSE) -> 909 | AO34: =AM34 -> Aluno 27 | AP34: =VLOOKUP(AO34,$AA$8:$AB$37,2,FALSE) -> 909 | AQ34: =AO34 -> Aluno 27 | AR34: =VLOOKUP(AQ34,$AA$8:$AB$37,2,FALSE) -> 909 | AS34: =AQ34 -> Aluno 27 | AT34: =VLOOKUP(AS34,$AA$8:$AB$37,2,FALSE) -> 909 | AU34: =AS34 -> Aluno 27 | AV34: =VLOOKUP(AU34,$AA$8:$AB$37,2,FALSE) -> 909 | AW34: =AU34 -> Aluno 27 | AX34: =VLOOKUP(AW34,$AA$8:$AB$37,2,FALSE) -> 909 | AY34: =AW34 -> Aluno 27 | AZ34: =VLOOKUP(AY34,$AA$8:$AB$37,2,FALSE) -> 909 | BA34: =AY34 -> Aluno 27 | BB34: =VLOOKUP(BA34,$AA$8:$AB$37,2,FALSE) -> 909 | BC34: =BA34 -> Aluno 27 | BD34: =VLOOKUP(BC34,$AA$8:$AB$37,2,FALSE) -> 909 | BE34: =BC34 -> Aluno 27 | BF34: =VLOOKUP(BE34,$AA$8:$AB$37,2,FALSE) -> 909 | BG34: =BE34 -> Aluno 27 | BH34: =VLOOKUP(BG34,$AA$8:$AB$37,2,FALSE) -> 909 | BI34: =BG34 -> Aluno 27 | BJ34: =VLOOKUP(BI34,$AA$8:$AB$37,2,FALSE) -> 909 | BK34: =BI34 -> Aluno 27 | BL34: =VLOOKUP(BK34,$AA$8:$AB$37,2,FALSE) -> 909 | BM34: =BK34 -> Aluno 27 | BN34: =VLOOKUP(BM34,$AA$8:$AB$37,2,FALSE) -> 909 | BO34: =BM34 -> Aluno 27 | BP34: =VLOOKUP(BO34,$AA$8:$AB$37,2,FALSE) -> 909 | BQ34: =BO34 -> Aluno 27 | BR34: =VLOOKUP(BQ34,$AA$8:$AB$37,2,FALSE) -> 909 | BS34: =BQ34 -> Aluno 27 | BT34: =VLOOKUP(BS34,$AA$8:$AB$37,2,FALSE) -> 909 | BU34: =BS34 -> Aluno 27 | BV34: =VLOOKUP(BU34,$AA$8:$AB$37,2,FALSE) -> 909 | BW34: =BU34 -> Aluno 27 | BX34: =VLOOKUP(BW34,$AA$8:$AB$37,2,FALSE) -> 909 | BY34: =BW34 -> Aluno 27 | BZ34: =VLOOKUP(BY34,$AA$8:$AB$37,2,FALSE) -> 909 | CA34: =IF(BZ34<=BZ8,BY34,BY8) -> Aluno 26 | CB34: =VLOOKUP(CA34,$AA$8:$AB$37,2,FALSE) -> 906 | CC34: =CA34 -> Aluno 26 | CD34: =VLOOKUP(CC34,$AA$8:$AB$37,2,FALSE) -> 906 | CE34: =CC34 -> Aluno 26 | CF34: =VLOOKUP(CE34,$AA$8:$AB$37,2,FALSE) -> 906 | CG34: =CE34 -> Aluno 26 | CH34: =VLOOKUP(CG34,$AA$8:$AB$37,2,FALSE) -> 906
B35: Aluno 28 | D35: 28 | E35: 94 | F35: 98 | G35: 62 | H35: 50 | I35: =IF(ISERROR(AVERAGE(E35:H35))=TRUE,"",AVERAGE(E35:H35)) -> 76 | J35: 94 | K35: 98 | L35: 62 | M35: 50 | N35: =IF(ISERROR(AVERAGE(J35:M35))=TRUE,"",AVERAGE(J35:M35)) -> 76 | O35: 94 | P35: 98 | Q35: 62 | R35: 50 | S35: =IF(ISERROR(AVERAGE(O35:R35))=TRUE,"",AVERAGE(O35:R35)) -> 76 | T35: =SUM(E35:H35,J35:M35,O35:R35) -> 912 | AA35: =B35 -> Aluno 28 | AB35: =T35 -> 912 | AC35: =AA35 -> Aluno 28 | AD35: =VLOOKUP(AC35,$AA$8:$AB$37,2,FALSE) -> 912 | AE35: =AC35 -> Aluno 28 | AF35: =VLOOKUP(AE35,$AA$8:$AB$37,2,FALSE) -> 912 | AG35: =AE35 -> Aluno 28 | AH35: =VLOOKUP(AG35,$AA$8:$AB$37,2,FALSE) -> 912 | AI35: =AG35 -> Aluno 28 | AJ35: =VLOOKUP(AI35,$AA$8:$AB$37,2,FALSE) -> 912 | AK35: =AI35 -> Aluno 28 | AL35: =VLOOKUP(AK35,$AA$8:$AB$37,2,FALSE) -> 912 | AM35: =AK35 -> Aluno 28 | AN35: =VLOOKUP(AM35,$AA$8:$AB$37,2,FALSE) -> 912 | AO35: =AM35 -> Aluno 28 | AP35: =VLOOKUP(AO35,$AA$8:$AB$37,2,FALSE) -> 912 | AQ35: =AO35 -> Aluno 28 | AR35: =VLOOKUP(AQ35,$AA$8:$AB$37,2,FALSE) -> 912 | AS35: =AQ35 -> Aluno 28 | AT35: =VLOOKUP(AS35,$AA$8:$AB$37,2,FALSE) -> 912 | AU35: =AS35 -> Aluno 28 | AV35: =VLOOKUP(AU35,$AA$8:$AB$37,2,FALSE) -> 912 | AW35: =AU35 -> Aluno 28 | AX35: =VLOOKUP(AW35,$AA$8:$AB$37,2,FALSE) -> 912 | AY35: =AW35 -> Aluno 28 | AZ35: =VLOOKUP(AY35,$AA$8:$AB$37,2,FALSE) -> 912 | BA35: =AY35 -> Aluno 28 | BB35: =VLOOKUP(BA35,$AA$8:$AB$37,2,FALSE) -> 912 | BC35: =BA35 -> Aluno 28 | BD35: =VLOOKUP(BC35,$AA$8:$AB$37,2,FALSE) -> 912 | BE35: =BC35 -> Aluno 28 | BF35: =VLOOKUP(BE35,$AA$8:$AB$37,2,FALSE) -> 912 | BG35: =BE35 -> Aluno 28 | BH35: =VLOOKUP(BG35,$AA$8:$AB$37,2,FALSE) -> 912 | BI35: =BG35 -> Aluno 28 | BJ35: =VLOOKUP(BI35,$AA$8:$AB$37,2,FALSE) -> 912 | BK35: =BI35 -> Aluno 28 | BL35: =VLOOKUP(BK35,$AA$8:$AB$37,2,FALSE) -> 912 | BM35: =BK35 -> Aluno 28 | BN35: =VLOOKUP(BM35,$AA$8:$AB$37,2,FALSE) -> 912 | BO35: =BM35 -> Aluno 28 | BP35: =VLOOKUP(BO35,$AA$8:$AB$37,2,FALSE) -> 912 | BQ35: =BO35 -> Aluno 28 | BR35: =VLOOKUP(BQ35,$AA$8:$AB$37,2,FALSE) -> 912 | BS35: =BQ35 -> Aluno 28 | BT35: =VLOOKUP(BS35,$AA$8:$AB$37,2,FALSE) -> 912 | BU35: =BS35 -> Aluno 28 | BV35: =VLOOKUP(BU35,$AA$8:$AB$37,2,FALSE) -> 912 | BW35: =BU35 -> Aluno 28 | BX35: =VLOOKUP(BW35,$AA$8:$AB$37,2,FALSE) -> 912 | BY35: =BW35 -> Aluno 28 | BZ35: =VLOOKUP(BY35,$AA$8:$AB$37,2,FALSE) -> 912 | CA35: =BY35 -> Aluno 28 | CB35: =VLOOKUP(CA35,$AA$8:$AB$37,2,FALSE) -> 912 | CC35: =IF(CB35<=CB8,CA35,CA8) -> Aluno 27 | CD35: =VLOOKUP(CC35,$AA$8:$AB$37,2,FALSE) -> 909 | CE35: =CC35 -> Aluno 27 | CF35: =VLOOKUP(CE35,$AA$8:$AB$37,2,FALSE) -> 909 | CG35: =CE35 -> Aluno 27 | CH35: =VLOOKUP(CG35,$AA$8:$AB$37,2,FALSE) -> 909
B36: Aluno 29 | D36: 29 | E36: 96 | F36: 99 | G36: 61 | H36: 49 | I36: =IF(ISERROR(AVERAGE(E36:H36))=TRUE,"",AVERAGE(E36:H36)) -> 76.25 | J36: 96 | K36: 99 | L36: 61 | M36: 49 | N36: =IF(ISERROR(AVERAGE(J36:M36))=TRUE,"",AVERAGE(J36:M36)) -> 76.25 | O36: 96 | P36: 99 | Q36: 61 | R36: 49 | S36: =IF(ISERROR(AVERAGE(O36:R36))=TRUE,"",AVERAGE(O36:R36)) -> 76.25 | T36: =SUM(E36:H36,J36:M36,O36:R36) -> 915 | AA36: =B36 -> Aluno 29 | AB36: =T36 -> 915 | AC36: =AA36 -> Aluno 29 | AD36: =VLOOKUP(AC36,$AA$8:$AB$37,2,FALSE) -> 915 | AE36: =AC36 -> Aluno 29 | AF36: =VLOOKUP(AE36,$AA$8:$AB$37,2,FALSE) -> 915 | AG36: =AE36 -> Aluno 29 | AH36: =VLOOKUP(AG36,$AA$8:$AB$37,2,FALSE) -> 915 | AI36: =AG36 -> Aluno 29 | AJ36: =VLOOKUP(AI36,$AA$8:$AB$37,2,FALSE) -> 915 | AK36: =AI36 -> Aluno 29 | AL36: =VLOOKUP(AK36,$AA$8:$AB$37,2,FALSE) -> 915 | AM36: =AK36 -> Aluno 29 | AN36: =VLOOKUP(AM36,$AA$8:$AB$37,2,FALSE) -> 915 | AO36: =AM36 -> Aluno 29 | AP36: =VLOOKUP(AO36,$AA$8:$AB$37,2,FALSE) -> 915 | AQ36: =AO36 -> Aluno 29 | AR36: =VLOOKUP(AQ36,$AA$8:$AB$37,2,FALSE) -> 915 | AS36: =AQ36 -> Aluno 29 | AT36: =VLOOKUP(AS36,$AA$8:$AB$37,2,FALSE) -> 915 | AU36: =AS36 -> Aluno 29 | AV36: =VLOOKUP(AU36,$AA$8:$AB$37,2,FALSE) -> 915 | AW36: =AU36 -> Aluno 29 | AX36: =VLOOKUP(AW36,$AA$8:$AB$37,2,FALSE) -> 915 | AY36: =AW36 -> Aluno 29 | AZ36: =VLOOKUP(AY36,$AA$8:$AB$37,2,FALSE) -> 915 | BA36: =AY36 -> Aluno 29 | BB36: =VLOOKUP(BA36,$AA$8:$AB$37,2,FALSE) -> 915 | BC36: =BA36 -> Aluno 29 | BD36: =VLOOKUP(BC36,$AA$8:$AB$37,2,FALSE) -> 915 | BE36: =BC36 -> Aluno 29 | BF36: =VLOOKUP(BE36,$AA$8:$AB$37,2,FALSE) -> 915 | BG36: =BE36 -> Aluno 29 | BH36: =VLOOKUP(BG36,$AA$8:$AB$37,2,FALSE) -> 915 | BI36: =BG36 -> Aluno 29 | BJ36: =VLOOKUP(BI36,$AA$8:$AB$37,2,FALSE) -> 915 | BK36: =BI36 -> Aluno 29 | BL36: =VLOOKUP(BK36,$AA$8:$AB$37,2,FALSE) -> 915 | BM36: =BK36 -> Aluno 29 | BN36: =VLOOKUP(BM36,$AA$8:$AB$37,2,FALSE) -> 915 | BO36: =BM36 -> Aluno 29 | BP36: =VLOOKUP(BO36,$AA$8:$AB$37,2,FALSE) -> 915 | BQ36: =BO36 -> Aluno 29 | BR36: =VLOOKUP(BQ36,$AA$8:$AB$37,2,FALSE) -> 915 | BS36: =BQ36 -> Aluno 29 | BT36: =VLOOKUP(BS36,$AA$8:$AB$37,2,FALSE) -> 915 | BU36: =BS36 -> Aluno 29 | BV36: =VLOOKUP(BU36,$AA$8:$AB$37,2,FALSE) -> 915 | BW36: =BU36 -> Aluno 29 | BX36: =VLOOKUP(BW36,$AA$8:$AB$37,2,FALSE) -> 915 | BY36: =BW36 -> Aluno 29 | BZ36: =VLOOKUP(BY36,$AA$8:$AB$37,2,FALSE) -> 915 | CA36: =BY36 -> Aluno 29 | CB36: =VLOOKUP(CA36,$AA$8:$AB$37,2,FALSE) -> 915 | CC36: =CA36 -> Aluno 29 | CD36: =VLOOKUP(CC36,$AA$8:$AB$37,2,FALSE) -> 915 | CE36: =IF(CD36<=CD8,CC36,CC8) -> Aluno 28 | CF36: =VLOOKUP(CE36,$AA$8:$AB$37,2,FALSE) -> 912 | CG36: =CE36 -> Aluno 28 | CH36: =VLOOKUP(CG36,$AA$8:$AB$37,2,FALSE) -> 912
B37: Aluno 30 | D37: 30 | E37: 98 | F37: 100 | G37: 60 | H37: 48 | I37: =IF(ISERROR(AVERAGE(E37:H37))=TRUE,"",AVERAGE(E37:H37)) -> 76.5 | J37: 98 | K37: 100 | L37: 60 | M37: 48 | N37: =IF(ISERROR(AVERAGE(J37:M37))=TRUE,"",AVERAGE(J37:M37)) -> 76.5 | O37: 98 | P37: 100 | Q37: 60 | R37: 48 | S37: =IF(ISERROR(AVERAGE(O37:R37))=TRUE,"",AVERAGE(O37:R37)) -> 76.5 | T37: =SUM(E37:H37,J37:M37,O37:R37) -> 918 | AA37: =B37 -> Aluno 30 | AB37: =T37 -> 918 | AC37: =AA37 -> Aluno 30 | AD37: =VLOOKUP(AC37,$AA$8:$AB$37,2,FALSE) -> 918 | AE37: =AC37 -> Aluno 30 | AF37: =VLOOKUP(AE37,$AA$8:$AB$37,2,FALSE) -> 918 | AG37: =AE37 -> Aluno 30 | AH37: =VLOOKUP(AG37,$AA$8:$AB$37,2,FALSE) -> 918 | AI37: =AG37 -> Aluno 30 | AJ37: =VLOOKUP(AI37,$AA$8:$AB$37,2,FALSE) -> 918 | AK37: =AI37 -> Aluno 30 | AL37: =VLOOKUP(AK37,$AA$8:$AB$37,2,FALSE) -> 918 | AM37: =AK37 -> Aluno 30 | AN37: =VLOOKUP(AM37,$AA$8:$AB$37,2,FALSE) -> 918 | AO37: =AM37 -> Aluno 30 | AP37: =VLOOKUP(AO37,$AA$8:$AB$37,2,FALSE) -> 918 | AQ37: =AO37 -> Aluno 30 | AR37: =VLOOKUP(AQ37,$AA$8:$AB$37,2,FALSE) -> 918 | AS37: =AQ37 -> Aluno 30 | AT37: =VLOOKUP(AS37,$AA$8:$AB$37,2,FALSE) -> 918 | AU37: =AS37 -> Aluno 30 | AV37: =VLOOKUP(AU37,$AA$8:$AB$37,2,FALSE) -> 918 | AW37: =AU37 -> Aluno 30 | AX37: =VLOOKUP(AW37,$AA$8:$AB$37,2,FALSE) -> 918 | AY37: =AW37 -> Aluno 30 | AZ37: =VLOOKUP(AY37,$AA$8:$AB$37,2,FALSE) -> 918 | BA37: =AY37 -> Aluno 30 | BB37: =VLOOKUP(BA37,$AA$8:$AB$37,2,FALSE) -> 918 | BC37: =BA37 -> Aluno 30 | BD37: =VLOOKUP(BC37,$AA$8:$AB$37,2,FALSE) -> 918 | BE37: =BC37 -> Aluno 30 | BF37: =VLOOKUP(BE37,$AA$8:$AB$37,2,FALSE) -> 918 | BG37: =BE37 -> Aluno 30 | BH37: =VLOOKUP(BG37,$AA$8:$AB$37,2,FALSE) -> 918 | BI37: =BG37 -> Aluno 30 | BJ37: =VLOOKUP(BI37,$AA$8:$AB$37,2,FALSE) -> 918 | BK37: =BI37 -> Aluno 30 | BL37: =VLOOKUP(BK37,$AA$8:$AB$37,2,FALSE) -> 918 | BM37: =BK37 -> Aluno 30 | BN37: =VLOOKUP(BM37,$AA$8:$AB$37,2,FALSE) -> 918 | BO37: =BM37 -> Aluno 30 | BP37: =VLOOKUP(BO37,$AA$8:$AB$37,2,FALSE) -> 918 | BQ37: =BO37 -> Aluno 30 | BR37: =VLOOKUP(BQ37,$AA$8:$AB$37,2,FALSE) -> 918 | BS37: =BQ37 -> Aluno 30 | BT37: =VLOOKUP(BS37,$AA$8:$AB$37,2,FALSE) -> 918 | BU37: =BS37 -> Aluno 30 | BV37: =VLOOKUP(BU37,$AA$8:$AB$37,2,FALSE) -> 918 | BW37: =BU37 -> Aluno 30 | BX37: =VLOOKUP(BW37,$AA$8:$AB$37,2,FALSE) -> 918 | BY37: =BW37 -> Aluno 30 | BZ37: =VLOOKUP(BY37,$AA$8:$AB$37,2,FALSE) -> 918 | CA37: =BY37 -> Aluno 30 | CB37: =VLOOKUP(CA37,$AA$8:$AB$37,2,FALSE) -> 918 | CC37: =CA37 -> Aluno 30 | CD37: =VLOOKUP(CC37,$AA$8:$AB$37,2,FALSE) -> 918 | CE37: =CC37 -> Aluno 30 | CF37: =VLOOKUP(CE37,$AA$8:$AB$37,2,FALSE) -> 918 | CG37: =IF(CF37<=CF8,CE37,CE8) -> Aluno 29 | CH37: =VLOOKUP(CG37,$AA$8:$AB$37,2,FALSE) -> 915
AA39: =CG9 -> Aluno 1 | AB39: =CH9 -> 831 | AC39: =IF(AB39>=AB40,AA39,AA40) -> Aluno 2 | AD39: =VLOOKUP(AC39,$AA$8:$AB$37,2,FALSE) -> 834 | AE39: =IF(AD39>=AD41,AC39,AC41) -> Aluno 3 | AF39: =VLOOKUP(AE39,$AA$8:$AB$37,2,FALSE) -> 837 | AG39: =IF(AF39>=AF42,AE39,AE42) -> Aluno 4 | AH39: =VLOOKUP(AG39,$AA$8:$AB$37,2,FALSE) -> 840 | AI39: =IF(AH39>=AH43,AG39,AG43) -> Aluno 5 | AJ39: =VLOOKUP(AI39,$AA$8:$AB$37,2,FALSE) -> 843 | AK39: =IF(AJ39>=AJ44,AI39,AI44) -> Aluno 6 | AL39: =VLOOKUP(AK39,$AA$8:$AB$37,2,FALSE) -> 846 | AM39: =IF(AL39>=AL45,AK39,AK45) -> Aluno 7 | AN39: =VLOOKUP(AM39,$AA$8:$AB$37,2,FALSE) -> 849 | AO39: =IF(AN39>=AN46,AM39,AM46) -> Aluno 8 | AP39: =VLOOKUP(AO39,$AA$8:$AB$37,2,FALSE) -> 852 | AQ39: =IF(AP39>=AP47,AO39,AO47) -> Aluno 9 | AR39: =VLOOKUP(AQ39,$AA$8:$AB$37,2,FALSE) -> 855 | AS39: =IF(AR39>=AR48,AQ39,AQ48) -> Aluno 10 | AT39: =VLOOKUP(AS39,$AA$8:$AB$37,2,FALSE) -> 858 | AU39: =IF(AT39>=AT49,AS39,AS49) -> Aluno 11 | AV39: =VLOOKUP(AU39,$AA$8:$AB$37,2,FALSE) -> 861 | AW39: =IF(AV39>=AV50,AU39,AU50) -> Aluno 12 | AX39: =VLOOKUP(AW39,$AA$8:$AB$37,2,FALSE) -> 864 | AY39: =IF(AX39>=AX51,AW39,AW51) -> Aluno 13 | AZ39: =VLOOKUP(AY39,$AA$8:$AB$37,2,FALSE) -> 867 | BA39: =IF(AZ39>=AZ52,AY39,AY52) -> Aluno 14 | BB39: =VLOOKUP(BA39,$AA$8:$AB$37,2,FALSE) -> 870 | BC39: =IF(BB39>=BB53,BA39,BA53) -> Aluno 15 | BD39: =VLOOKUP(BC39,$AA$8:$AB$37,2,FALSE) -> 873 | BE39: =IF(BD39>=BD54,BC39,BC54) -> Aluno 16 | BF39: =VLOOKUP(BE39,$AA$8:$AB$37,2,FALSE) -> 876 | BG39: =IF(BF39>=BF55,BE39,BE55) -> Aluno 17 | BH39: =VLOOKUP(BG39,$AA$8:$AB$37,2,FALSE) -> 879 | BI39: =IF(BH39>=BH56,BG39,BG56) -> Aluno 18 | BJ39: =VLOOKUP(BI39,$AA$8:$AB$37,2,FALSE) -> 882 | BK39: =IF(BJ39>=BJ57,BI39,BI57) -> Aluno 19 | BL39: =VLOOKUP(BK39,$AA$8:$AB$37,2,FALSE) -> 885 | BM39: =IF(BL39>=BL58,BK39,BK58) -> Aluno 20 | BN39: =VLOOKUP(BM39,$AA$8:$AB$37,2,FALSE) -> 888 | BO39: =IF(BN39>=BN59,BM39,BM59) -> Aluno 21 | BP39: =VLOOKUP(BO39,$AA$8:$AB$37,2,FALSE) -> 891 | BQ39: =IF(BP39>=BP60,BO39,BO60) -> Aluno 22 | BR39: =VLOOKUP(BQ39,$AA$8:$AB$37,2,FALSE) -> 894 | BS39: =IF(BR39>=BR61,BQ39,BQ61) -> Aluno 23 | BT39: =VLOOKUP(BS39,$AA$8:$AB$37,2,FALSE) -> 897 | BU39: =IF(BT39>=BT62,BS39,BS62) -> Aluno 24 | BV39: =VLOOKUP(BU39,$AA$8:$AB$37,2,FALSE) -> 900 | BW39: =IF(BV39>=BV63,BU39,BU63) -> Aluno 25 | BX39: =VLOOKUP(BW39,$AA$8:$AB$37,2,FALSE) -> 903 | BY39: =IF(BX39>=BX64,BW39,BW64) -> Aluno 26 | BZ39: =VLOOKUP(BY39,$AA$8:$AB$37,2,FALSE) -> 906 | CA39: =IF(BZ39>=BZ65,BY39,BY65) -> Aluno 27 | CB39: =VLOOKUP(CA39,$AA$8:$AB$37,2,FALSE) -> 909 | CC39: =IF(CB39>=CB66,CA39,CA66) -> Aluno 28 | CD39: =VLOOKUP(CC39,$AA$8:$AB$37,2,FALSE) -> 912 | CE39: =IF(CD39>=CD67,CC39,CC67) -> Aluno 29 | CF39: =VLOOKUP(CE39,$AA$8:$AB$37,2,FALSE) -> 915
AA40: =CG10 -> Aluno 2 | AB40: =CH10 -> 834 | AC40: =IF(AB40<=AB39,AA40,AA39) -> Aluno 1 | AD40: =VLOOKUP(AC40,$AA$8:$AB$37,2,FALSE) -> 831 | AE40: =AC40 -> Aluno 1 | AF40: =VLOOKUP(AE40,$AA$8:$AB$37,2,FALSE) -> 831 | AG40: =AE40 -> Aluno 1 | AH40: =VLOOKUP(AG40,$AA$8:$AB$37,2,FALSE) -> 831 | AI40: =AG40 -> Aluno 1 | AJ40: =VLOOKUP(AI40,$AA$8:$AB$37,2,FALSE) -> 831 | AK40: =AI40 -> Aluno 1 | AL40: =VLOOKUP(AK40,$AA$8:$AB$37,2,FALSE) -> 831 | AM40: =AK40 -> Aluno 1 | AN40: =VLOOKUP(AM40,$AA$8:$AB$37,2,FALSE) -> 831 | AO40: =AM40 -> Aluno 1 | AP40: =VLOOKUP(AO40,$AA$8:$AB$37,2,FALSE) -> 831 | AQ40: =AO40 -> Aluno 1 | AR40: =VLOOKUP(AQ40,$AA$8:$AB$37,2,FALSE) -> 831 | AS40: =AQ40 -> Aluno 1 | AT40: =VLOOKUP(AS40,$AA$8:$AB$37,2,FALSE) -> 831 | AU40: =AS40 -> Aluno 1 | AV40: =VLOOKUP(AU40,$AA$8:$AB$37,2,FALSE) -> 831 | AW40: =AU40 -> Aluno 1 | AX40: =VLOOKUP(AW40,$AA$8:$AB$37,2,FALSE) -> 831 | AY40: =AW40 -> Aluno 1 | AZ40: =VLOOKUP(AY40,$AA$8:$AB$37,2,FALSE) -> 831 | BA40: =AY40 -> Aluno 1 | BB40: =VLOOKUP(BA40,$AA$8:$AB$37,2,FALSE) -> 831 | BC40: =BA40 -> Aluno 1 | BD40: =VLOOKUP(BC40,$AA$8:$AB$37,2,FALSE) -> 831 | BE40: =BC40 -> Aluno 1 | BF40: =VLOOKUP(BE40,$AA$8:$AB$37,2,FALSE) -> 831 | BG40: =BE40 -> Aluno 1 | BH40: =VLOOKUP(BG40,$AA$8:$AB$37,2,FALSE) -> 831 | BI40: =BG40 -> Aluno 1 | BJ40: =VLOOKUP(BI40,$AA$8:$AB$37,2,FALSE) -> 831 | BK40: =BI40 -> Aluno 1 | BL40: =VLOOKUP(BK40,$AA$8:$AB$37,2,FALSE) -> 831 | BM40: =BK40 -> Aluno 1 | BN40: =VLOOKUP(BM40,$AA$8:$AB$37,2,FALSE) -> 831 | BO40: =BM40 -> Aluno 1 | BP40: =VLOOKUP(BO40,$AA$8:$AB$37,2,FALSE) -> 831 | BQ40: =BO40 -> Aluno 1 | BR40: =VLOOKUP(BQ40,$AA$8:$AB$37,2,FALSE) -> 831 | BS40: =BQ40 -> Aluno 1 | BT40: =VLOOKUP(BS40,$AA$8:$AB$37,2,FALSE) -> 831 | BU40: =BS40 -> Aluno 1 | BV40: =VLOOKUP(BU40,$AA$8:$AB$37,2,FALSE) -> 831 | BW40: =BU40 -> Aluno 1 | BX40: =VLOOKUP(BW40,$AA$8:$AB$37,2,FALSE) -> 831 | BY40: =BW40 -> Aluno 1 | BZ40: =VLOOKUP(BY40,$AA$8:$AB$37,2,FALSE) -> 831 | CA40: =BY40 -> Aluno 1 | CB40: =VLOOKUP(CA40,$AA$8:$AB$37,2,FALSE) -> 831 | CC40: =CA40 -> Aluno 1 | CD40: =VLOOKUP(CC40,$AA$8:$AB$37,2,FALSE) -> 831 | CE40: =CC40 -> Aluno 1 | CF40: =VLOOKUP(CE40,$AA$8:$AB$37,2,FALSE) -> 831
AA41: =CG11 -> Aluno 3 | AB41: =CH11 -> 837 | AC41: =AA41 -> Aluno 3 | AD41: =VLOOKUP(AC41,$AA$8:$AB$37,2,FALSE) -> 837 | AE41: =IF(AD41<=AD39,AC41,AC39) -> Aluno 2 | AF41: =VLOOKUP(AE41,$AA$8:$AB$37,2,FALSE) -> 834 | AG41: =AE41 -> Aluno 2 | AH41: =VLOOKUP(AG41,$AA$8:$AB$37,2,FALSE) -> 834 | AI41: =AG41 -> Aluno 2 | AJ41: =VLOOKUP(AI41,$AA$8:$AB$37,2,FALSE) -> 834 | AK41: =AI41 -> Aluno 2 | AL41: =VLOOKUP(AK41,$AA$8:$AB$37,2,FALSE) -> 834 | AM41: =AK41 -> Aluno 2 | AN41: =VLOOKUP(AM41,$AA$8:$AB$37,2,FALSE) -> 834 | AO41: =AM41 -> Aluno 2 | AP41: =VLOOKUP(AO41,$AA$8:$AB$37,2,FALSE) -> 834 | AQ41: =AO41 -> Aluno 2 | AR41: =VLOOKUP(AQ41,$AA$8:$AB$37,2,FALSE) -> 834 | AS41: =AQ41 -> Aluno 2 | AT41: =VLOOKUP(AS41,$AA$8:$AB$37,2,FALSE) -> 834 | AU41: =AS41 -> Aluno 2 | AV41: =VLOOKUP(AU41,$AA$8:$AB$37,2,FALSE) -> 834 | AW41: =AU41 -> Aluno 2 | AX41: =VLOOKUP(AW41,$AA$8:$AB$37,2,FALSE) -> 834 | AY41: =AW41 -> Aluno 2 | AZ41: =VLOOKUP(AY41,$AA$8:$AB$37,2,FALSE) -> 834 | BA41: =AY41 -> Aluno 2 | BB41: =VLOOKUP(BA41,$AA$8:$AB$37,2,FALSE) -> 834 | BC41: =BA41 -> Aluno 2 | BD41: =VLOOKUP(BC41,$AA$8:$AB$37,2,FALSE) -> 834 | BE41: =BC41 -> Aluno 2 | BF41: =VLOOKUP(BE41,$AA$8:$AB$37,2,FALSE) -> 834 | BG41: =BE41 -> Aluno 2 | BH41: =VLOOKUP(BG41,$AA$8:$AB$37,2,FALSE) -> 834 | BI41: =BG41 -> Aluno 2 | BJ41: =VLOOKUP(BI41,$AA$8:$AB$37,2,FALSE) -> 834 | BK41: =BI41 -> Aluno 2 | BL41: =VLOOKUP(BK41,$AA$8:$AB$37,2,FALSE) -> 834 | BM41: =BK41 -> Aluno 2 | BN41: =VLOOKUP(BM41,$AA$8:$AB$37,2,FALSE) -> 834 | BO41: =BM41 -> Aluno 2 | BP41: =VLOOKUP(BO41,$AA$8:$AB$37,2,FALSE) -> 834 | BQ41: =BO41 -> Aluno 2 | BR41: =VLOOKUP(BQ41,$AA$8:$AB$37,2,FALSE) -> 834 | BS41: =BQ41 -> Aluno 2 | BT41: =VLOOKUP(BS41,$AA$8:$AB$37,2,FALSE) -> 834 | BU41: =BS41 -> Aluno 2 | BV41: =VLOOKUP(BU41,$AA$8:$AB$37,2,FALSE) -> 834 | BW41: =BU41 -> Aluno 2 | BX41: =VLOOKUP(BW41,$AA$8:$AB$37,2,FALSE) -> 834 | BY41: =BW41 -> Aluno 2 | BZ41: =VLOOKUP(BY41,$AA$8:$AB$37,2,FALSE) -> 834 | CA41: =BY41 -> Aluno 2 | CB41: =VLOOKUP(CA41,$AA$8:$AB$37,2,FALSE) -> 834 | CC41: =CA41 -> Aluno 2 | CD41: =VLOOKUP(CC41,$AA$8:$AB$37,2,FALSE) -> 834 | CE41: =CC41 -> Aluno 2 | CF41: =VLOOKUP(CE41,$AA$8:$AB$37,2,FALSE) -> 834
AA42: =CG12 -> Aluno 4 | AB42: =CH12 -> 840 | AC42: =AA42 -> Aluno 4 | AD42: =VLOOKUP(AC42,$AA$8:$AB$37,2,FALSE) -> 840 | AE42: =AC42 -> Aluno 4 | AF42: =VLOOKUP(AE42,$AA$8:$AB$37,2,FALSE) -> 840 | AG42: =IF(AF42<=AF39,AE42,AE39) -> Aluno 3 | AH42: =VLOOKUP(AG42,$AA$8:$AB$37,2,FALSE) -> 837 | AI42: =AG42 -> Aluno 3 | AJ42: =VLOOKUP(AI42,$AA$8:$AB$37,2,FALSE) -> 837 | AK42: =AI42 -> Aluno 3 | AL42: =VLOOKUP(AK42,$AA$8:$AB$37,2,FALSE) -> 837 | AM42: =AK42 -> Aluno 3 | AN42: =VLOOKUP(AM42,$AA$8:$AB$37,2,FALSE) -> 837 | AO42: =AM42 -> Aluno 3 | AP42: =VLOOKUP(AO42,$AA$8:$AB$37,2,FALSE) -> 837 | AQ42: =AO42 -> Aluno 3 | AR42: =VLOOKUP(AQ42,$AA$8:$AB$37,2,FALSE) -> 837 | AS42: =AQ42 -> Aluno 3 | AT42: =VLOOKUP(AS42,$AA$8:$AB$37,2,FALSE) -> 837 | AU42: =AS42 -> Aluno 3 | AV42: =VLOOKUP(AU42,$AA$8:$AB$37,2,FALSE) -> 837 | AW42: =AU42 -> Aluno 3 | AX42: =VLOOKUP(AW42,$AA$8:$AB$37,2,FALSE) -> 837 | AY42: =AW42 -> Aluno 3 | AZ42: =VLOOKUP(AY42,$AA$8:$AB$37,2,FALSE) -> 837 | BA42: =AY42 -> Aluno 3 | BB42: =VLOOKUP(BA42,$AA$8:$AB$37,2,FALSE) -> 837 | BC42: =BA42 -> Aluno 3 | BD42: =VLOOKUP(BC42,$AA$8:$AB$37,2,FALSE) -> 837 | BE42: =BC42 -> Aluno 3 | BF42: =VLOOKUP(BE42,$AA$8:$AB$37,2,FALSE) -> 837 | BG42: =BE42 -> Aluno 3 | BH42: =VLOOKUP(BG42,$AA$8:$AB$37,2,FALSE) -> 837 | BI42: =BG42 -> Aluno 3 | BJ42: =VLOOKUP(BI42,$AA$8:$AB$37,2,FALSE) -> 837 | BK42: =BI42 -> Aluno 3 | BL42: =VLOOKUP(BK42,$AA$8:$AB$37,2,FALSE) -> 837 | BM42: =BK42 -> Aluno 3 | BN42: =VLOOKUP(BM42,$AA$8:$AB$37,2,FALSE) -> 837 | BO42: =BM42 -> Aluno 3 | BP42: =VLOOKUP(BO42,$AA$8:$AB$37,2,FALSE) -> 837 | BQ42: =BO42 -> Aluno 3 | BR42: =VLOOKUP(BQ42,$AA$8:$AB$37,2,FALSE) -> 837 | BS42: =BQ42 -> Aluno 3 | BT42: =VLOOKUP(BS42,$AA$8:$AB$37,2,FALSE) -> 837 | BU42: =BS42 -> Aluno 3 | BV42: =VLOOKUP(BU42,$AA$8:$AB$37,2,FALSE) -> 837 | BW42: =BU42 -> Aluno 3 | BX42: =VLOOKUP(BW42,$AA$8:$AB$37,2,FALSE) -> 837 | BY42: =BW42 -> Aluno 3 | BZ42: =VLOOKUP(BY42,$AA$8:$AB$37,2,FALSE) -> 837 | CA42: =BY42 -> Aluno 3 | CB42: =VLOOKUP(CA42,$AA$8:$AB$37,2,FALSE) -> 837 | CC42: =CA42 -> Aluno 3 | CD42: =VLOOKUP(CC42,$AA$8:$AB$37,2,FALSE) -> 837 | CE42: =CC42 -> Aluno 3 | CF42: =VLOOKUP(CE42,$AA$8:$AB$37,2,FALSE) -> 837
AA43: =CG13 -> Aluno 5 | AB43: =CH13 -> 843 | AC43: =AA43 -> Aluno 5 | AD43: =VLOOKUP(AC43,$AA$8:$AB$37,2,FALSE) -> 843 | AE43: =AC43 -> Aluno 5 | AF43: =VLOOKUP(AE43,$AA$8:$AB$37,2,FALSE) -> 843 | AG43: =AE43 -> Aluno 5 | AH43: =VLOOKUP(AG43,$AA$8:$AB$37,2,FALSE) -> 843 | AI43: =IF(AH43<=AH39,AG43,AG39) -> Aluno 4 | AJ43: =VLOOKUP(AI43,$AA$8:$AB$37,2,FALSE) -> 840 | AK43: =AI43 -> Aluno 4 | AL43: =VLOOKUP(AK43,$AA$8:$AB$37,2,FALSE) -> 840 | AM43: =AK43 -> Aluno 4 | AN43: =VLOOKUP(AM43,$AA$8:$AB$37,2,FALSE) -> 840 | AO43: =AM43 -> Aluno 4 | AP43: =VLOOKUP(AO43,$AA$8:$AB$37,2,FALSE) -> 840 | AQ43: =AO43 -> Aluno 4 | AR43: =VLOOKUP(AQ43,$AA$8:$AB$37,2,FALSE) -> 840 | AS43: =AQ43 -> Aluno 4 | AT43: =VLOOKUP(AS43,$AA$8:$AB$37,2,FALSE) -> 840 | AU43: =AS43 -> Aluno 4 | AV43: =VLOOKUP(AU43,$AA$8:$AB$37,2,FALSE) -> 840 | AW43: =AU43 -> Aluno 4 | AX43: =VLOOKUP(AW43,$AA$8:$AB$37,2,FALSE) -> 840 | AY43: =AW43 -> Aluno 4 | AZ43: =VLOOKUP(AY43,$AA$8:$AB$37,2,FALSE) -> 840 | BA43: =AY43 -> Aluno 4 | BB43: =VLOOKUP(BA43,$AA$8:$AB$37,2,FALSE) -> 840 | BC43: =BA43 -> Aluno 4 | BD43: =VLOOKUP(BC43,$AA$8:$AB$37,2,FALSE) -> 840 | BE43: =BC43 -> Aluno 4 | BF43: =VLOOKUP(BE43,$AA$8:$AB$37,2,FALSE) -> 840 | BG43: =BE43 -> Aluno 4 | BH43: =VLOOKUP(BG43,$AA$8:$AB$37,2,FALSE) -> 840 | BI43: =BG43 -> Aluno 4 | BJ43: =VLOOKUP(BI43,$AA$8:$AB$37,2,FALSE) -> 840 | BK43: =BI43 -> Aluno 4 | BL43: =VLOOKUP(BK43,$AA$8:$AB$37,2,FALSE) -> 840 | BM43: =BK43 -> Aluno 4 | BN43: =VLOOKUP(BM43,$AA$8:$AB$37,2,FALSE) -> 840 | BO43: =BM43 -> Aluno 4 | BP43: =VLOOKUP(BO43,$AA$8:$AB$37,2,FALSE) -> 840 | BQ43: =BO43 -> Aluno 4 | BR43: =VLOOKUP(BQ43,$AA$8:$AB$37,2,FALSE) -> 840 | BS43: =BQ43 -> Aluno 4 | BT43: =VLOOKUP(BS43,$AA$8:$AB$37,2,FALSE) -> 840 | BU43: =BS43 -> Aluno 4 | BV43: =VLOOKUP(BU43,$AA$8:$AB$37,2,FALSE) -> 840 | BW43: =BU43 -> Aluno 4 | BX43: =VLOOKUP(BW43,$AA$8:$AB$37,2,FALSE) -> 840 | BY43: =BW43 -> Aluno 4 | BZ43: =VLOOKUP(BY43,$AA$8:$AB$37,2,FALSE) -> 840 | CA43: =BY43 -> Aluno 4 | CB43: =VLOOKUP(CA43,$AA$8:$AB$37,2,FALSE) -> 840 | CC43: =CA43 -> Aluno 4 | CD43: =VLOOKUP(CC43,$AA$8:$AB$37,2,FALSE) -> 840 | CE43: =CC43 -> Aluno 4 | CF43: =VLOOKUP(CE43,$AA$8:$AB$37,2,FALSE) -> 840
AA44: =CG14 -> Aluno 6 | AB44: =CH14 -> 846 | AC44: =AA44 -> Aluno 6 | AD44: =VLOOKUP(AC44,$AA$8:$AB$37,2,FALSE) -> 846 | AE44: =AC44 -> Aluno 6 | AF44: =VLOOKUP(AE44,$AA$8:$AB$37,2,FALSE) -> 846 | AG44: =AE44 -> Aluno 6 | AH44: =VLOOKUP(AG44,$AA$8:$AB$37,2,FALSE) -> 846 | AI44: =AG44 -> Aluno 6 | AJ44: =VLOOKUP(AI44,$AA$8:$AB$37,2,FALSE) -> 846 | AK44: =IF(AJ44<=AJ39,AI44,AI39) -> Aluno 5 | AL44: =VLOOKUP(AK44,$AA$8:$AB$37,2,FALSE) -> 843 | AM44: =AK44 -> Aluno 5 | AN44: =VLOOKUP(AM44,$AA$8:$AB$37,2,FALSE) -> 843 | AO44: =AM44 -> Aluno 5 | AP44: =VLOOKUP(AO44,$AA$8:$AB$37,2,FALSE) -> 843 | AQ44: =AO44 -> Aluno 5 | AR44: =VLOOKUP(AQ44,$AA$8:$AB$37,2,FALSE) -> 843 | AS44: =AQ44 -> Aluno 5 | AT44: =VLOOKUP(AS44,$AA$8:$AB$37,2,FALSE) -> 843 | AU44: =AS44 -> Aluno 5 | AV44: =VLOOKUP(AU44,$AA$8:$AB$37,2,FALSE) -> 843 | AW44: =AU44 -> Aluno 5 | AX44: =VLOOKUP(AW44,$AA$8:$AB$37,2,FALSE) -> 843 | AY44: =AW44 -> Aluno 5 | AZ44: =VLOOKUP(AY44,$AA$8:$AB$37,2,FALSE) -> 843 | BA44: =AY44 -> Aluno 5 | BB44: =VLOOKUP(BA44,$AA$8:$AB$37,2,FALSE) -> 843 | BC44: =BA44 -> Aluno 5 | BD44: =VLOOKUP(BC44,$AA$8:$AB$37,2,FALSE) -> 843 | BE44: =BC44 -> Aluno 5 | BF44: =VLOOKUP(BE44,$AA$8:$AB$37,2,FALSE) -> 843 | BG44: =BE44 -> Aluno 5 | BH44: =VLOOKUP(BG44,$AA$8:$AB$37,2,FALSE) -> 843 | BI44: =BG44 -> Aluno 5 | BJ44: =VLOOKUP(BI44,$AA$8:$AB$37,2,FALSE) -> 843 | BK44: =BI44 -> Aluno 5 | BL44: =VLOOKUP(BK44,$AA$8:$AB$37,2,FALSE) -> 843 | BM44: =BK44 -> Aluno 5 | BN44: =VLOOKUP(BM44,$AA$8:$AB$37,2,FALSE) -> 843 | BO44: =BM44 -> Aluno 5 | BP44: =VLOOKUP(BO44,$AA$8:$AB$37,2,FALSE) -> 843 | BQ44: =BO44 -> Aluno 5 | BR44: =VLOOKUP(BQ44,$AA$8:$AB$37,2,FALSE) -> 843 | BS44: =BQ44 -> Aluno 5 | BT44: =VLOOKUP(BS44,$AA$8:$AB$37,2,FALSE) -> 843 | BU44: =BS44 -> Aluno 5 | BV44: =VLOOKUP(BU44,$AA$8:$AB$37,2,FALSE) -> 843 | BW44: =BU44 -> Aluno 5 | BX44: =VLOOKUP(BW44,$AA$8:$AB$37,2,FALSE) -> 843 | BY44: =BW44 -> Aluno 5 | BZ44: =VLOOKUP(BY44,$AA$8:$AB$37,2,FALSE) -> 843 | CA44: =BY44 -> Aluno 5 | CB44: =VLOOKUP(CA44,$AA$8:$AB$37,2,FALSE) -> 843 | CC44: =CA44 -> Aluno 5 | CD44: =VLOOKUP(CC44,$AA$8:$AB$37,2,FALSE) -> 843 | CE44: =CC44 -> Aluno 5 | CF44: =VLOOKUP(CE44,$AA$8:$AB$37,2,FALSE) -> 843
AA45: =CG15 -> Aluno 7 | AB45: =CH15 -> 849 | AC45: =AA45 -> Aluno 7 | AD45: =VLOOKUP(AC45,$AA$8:$AB$37,2,FALSE) -> 849 | AE45: =AC45 -> Aluno 7 | AF45: =VLOOKUP(AE45,$AA$8:$AB$37,2,FALSE) -> 849 | AG45: =AE45 -> Aluno 7 | AH45: =VLOOKUP(AG45,$AA$8:$AB$37,2,FALSE) -> 849 | AI45: =AG45 -> Aluno 7 | AJ45: =VLOOKUP(AI45,$AA$8:$AB$37,2,FALSE) -> 849 | AK45: =AI45 -> Aluno 7 | AL45: =VLOOKUP(AK45,$AA$8:$AB$37,2,FALSE) -> 849 | AM45: =IF(AL45<=AL39,AK45,AK39) -> Aluno 6 | AN45: =VLOOKUP(AM45,$AA$8:$AB$37,2,FALSE) -> 846 | AO45: =AM45 -> Aluno 6 | AP45: =VLOOKUP(AO45,$AA$8:$AB$37,2,FALSE) -> 846 | AQ45: =AO45 -> Aluno 6 | AR45: =VLOOKUP(AQ45,$AA$8:$AB$37,2,FALSE) -> 846 | AS45: =AQ45 -> Aluno 6 | AT45: =VLOOKUP(AS45,$AA$8:$AB$37,2,FALSE) -> 846 | AU45: =AS45 -> Aluno 6 | AV45: =VLOOKUP(AU45,$AA$8:$AB$37,2,FALSE) -> 846 | AW45: =AU45 -> Aluno 6 | AX45: =VLOOKUP(AW45,$AA$8:$AB$37,2,FALSE) -> 846 | AY45: =AW45 -> Aluno 6 | AZ45: =VLOOKUP(AY45,$AA$8:$AB$37,2,FALSE) -> 846 | BA45: =AY45 -> Aluno 6 | BB45: =VLOOKUP(BA45,$AA$8:$AB$37,2,FALSE) -> 846 | BC45: =BA45 -> Aluno 6 | BD45: =VLOOKUP(BC45,$AA$8:$AB$37,2,FALSE) -> 846 | BE45: =BC45 -> Aluno 6 | BF45: =VLOOKUP(BE45,$AA$8:$AB$37,2,FALSE) -> 846 | BG45: =BE45 -> Aluno 6 | BH45: =VLOOKUP(BG45,$AA$8:$AB$37,2,FALSE) -> 846 | BI45: =BG45 -> Aluno 6 | BJ45: =VLOOKUP(BI45,$AA$8:$AB$37,2,FALSE) -> 846 | BK45: =BI45 -> Aluno 6 | BL45: =VLOOKUP(BK45,$AA$8:$AB$37,2,FALSE) -> 846 | BM45: =BK45 -> Aluno 6 | BN45: =VLOOKUP(BM45,$AA$8:$AB$37,2,FALSE) -> 846 | BO45: =BM45 -> Aluno 6 | BP45: =VLOOKUP(BO45,$AA$8:$AB$37,2,FALSE) -> 846 | BQ45: =BO45 -> Aluno 6 | BR45: =VLOOKUP(BQ45,$AA$8:$AB$37,2,FALSE) -> 846 | BS45: =BQ45 -> Aluno 6 | BT45: =VLOOKUP(BS45,$AA$8:$AB$37,2,FALSE) -> 846 | BU45: =BS45 -> Aluno 6 | BV45: =VLOOKUP(BU45,$AA$8:$AB$37,2,FALSE) -> 846 | BW45: =BU45 -> Aluno 6 | BX45: =VLOOKUP(BW45,$AA$8:$AB$37,2,FALSE) -> 846 | BY45: =BW45 -> Aluno 6 | BZ45: =VLOOKUP(BY45,$AA$8:$AB$37,2,FALSE) -> 846 | CA45: =BY45 -> Aluno 6 | CB45: =VLOOKUP(CA45,$AA$8:$AB$37,2,FALSE) -> 846 | CC45: =CA45 -> Aluno 6 | CD45: =VLOOKUP(CC45,$AA$8:$AB$37,2,FALSE) -> 846 | CE45: =CC45 -> Aluno 6 | CF45: =VLOOKUP(CE45,$AA$8:$AB$37,2,FALSE) -> 846
AA46: =CG16 -> Aluno 8 | AB46: =CH16 -> 852 | AC46: =AA46 -> Aluno 8 | AD46: =VLOOKUP(AC46,$AA$8:$AB$37,2,FALSE) -> 852 | AE46: =AC46 -> Aluno 8 | AF46: =VLOOKUP(AE46,$AA$8:$AB$37,2,FALSE) -> 852 | AG46: =AE46 -> Aluno 8 | AH46: =VLOOKUP(AG46,$AA$8:$AB$37,2,FALSE) -> 852 | AI46: =AG46 -> Aluno 8 | AJ46: =VLOOKUP(AI46,$AA$8:$AB$37,2,FALSE) -> 852 | AK46: =AI46 -> Aluno 8 | AL46: =VLOOKUP(AK46,$AA$8:$AB$37,2,FALSE) -> 852 | AM46: =AK46 -> Aluno 8 | AN46: =VLOOKUP(AM46,$AA$8:$AB$37,2,FALSE) -> 852 | AO46: =IF(AN46<=AN39,AM46,AM39) -> Aluno 7 | AP46: =VLOOKUP(AO46,$AA$8:$AB$37,2,FALSE) -> 849 | AQ46: =AO46 -> Aluno 7 | AR46: =VLOOKUP(AQ46,$AA$8:$AB$37,2,FALSE) -> 849 | AS46: =AQ46 -> Aluno 7 | AT46: =VLOOKUP(AS46,$AA$8:$AB$37,2,FALSE) -> 849 | AU46: =AS46 -> Aluno 7 | AV46: =VLOOKUP(AU46,$AA$8:$AB$37,2,FALSE) -> 849 | AW46: =AU46 -> Aluno 7 | AX46: =VLOOKUP(AW46,$AA$8:$AB$37,2,FALSE) -> 849 | AY46: =AW46 -> Aluno 7 | AZ46: =VLOOKUP(AY46,$AA$8:$AB$37,2,FALSE) -> 849 | BA46: =AY46 -> Aluno 7 | BB46: =VLOOKUP(BA46,$AA$8:$AB$37,2,FALSE) -> 849 | BC46: =BA46 -> Aluno 7 | BD46: =VLOOKUP(BC46,$AA$8:$AB$37,2,FALSE) -> 849 | BE46: =BC46 -> Aluno 7 | BF46: =VLOOKUP(BE46,$AA$8:$AB$37,2,FALSE) -> 849 | BG46: =BE46 -> Aluno 7 | BH46: =VLOOKUP(BG46,$AA$8:$AB$37,2,FALSE) -> 849 | BI46: =BG46 -> Aluno 7 | BJ46: =VLOOKUP(BI46,$AA$8:$AB$37,2,FALSE) -> 849 | BK46: =BI46 -> Aluno 7 | BL46: =VLOOKUP(BK46,$AA$8:$AB$37,2,FALSE) -> 849 | BM46: =BK46 -> Aluno 7 | BN46: =VLOOKUP(BM46,$AA$8:$AB$37,2,FALSE) -> 849 | BO46: =BM46 -> Aluno 7 | BP46: =VLOOKUP(BO46,$AA$8:$AB$37,2,FALSE) -> 849 | BQ46: =BO46 -> Aluno 7 | BR46: =VLOOKUP(BQ46,$AA$8:$AB$37,2,FALSE) -> 849 | BS46: =BQ46 -> Aluno 7 | BT46: =VLOOKUP(BS46,$AA$8:$AB$37,2,FALSE) -> 849 | BU46: =BS46 -> Aluno 7 | BV46: =VLOOKUP(BU46,$AA$8:$AB$37,2,FALSE) -> 849 | BW46: =BU46 -> Aluno 7 | BX46: =VLOOKUP(BW46,$AA$8:$AB$37,2,FALSE) -> 849 | BY46: =BW46 -> Aluno 7 | BZ46: =VLOOKUP(BY46,$AA$8:$AB$37,2,FALSE) -> 849 | CA46: =BY46 -> Aluno 7 | CB46: =VLOOKUP(CA46,$AA$8:$AB$37,2,FALSE) -> 849 | CC46: =CA46 -> Aluno 7 | CD46: =VLOOKUP(CC46,$AA$8:$AB$37,2,FALSE) -> 849 | CE46: =CC46 -> Aluno 7 | CF46: =VLOOKUP(CE46,$AA$8:$AB$37,2,FALSE) -> 849
AA47: =CG17 -> Aluno 9 | AB47: =CH17 -> 855 | AC47: =AA47 -> Aluno 9 | AD47: =VLOOKUP(AC47,$AA$8:$AB$37,2,FALSE) -> 855 | AE47: =AC47 -> Aluno 9 | AF47: =VLOOKUP(AE47,$AA$8:$AB$37,2,FALSE) -> 855 | AG47: =AE47 -> Aluno 9 | AH47: =VLOOKUP(AG47,$AA$8:$AB$37,2,FALSE) -> 855 | AI47: =AG47 -> Aluno 9 | AJ47: =VLOOKUP(AI47,$AA$8:$AB$37,2,FALSE) -> 855 | AK47: =AI47 -> Aluno 9 | AL47: =VLOOKUP(AK47,$AA$8:$AB$37,2,FALSE) -> 855 | AM47: =AK47 -> Aluno 9 | AN47: =VLOOKUP(AM47,$AA$8:$AB$37,2,FALSE) -> 855 | AO47: =AM47 -> Aluno 9 | AP47: =VLOOKUP(AO47,$AA$8:$AB$37,2,FALSE) -> 855 | AQ47: =IF(AP47<=AP39,AO47,AO39) -> Aluno 8 | AR47: =VLOOKUP(AQ47,$AA$8:$AB$37,2,FALSE) -> 852 | AS47: =AQ47 -> Aluno 8 | AT47: =VLOOKUP(AS47,$AA$8:$AB$37,2,FALSE) -> 852 | AU47: =AS47 -> Aluno 8 | AV47: =VLOOKUP(AU47,$AA$8:$AB$37,2,FALSE) -> 852 | AW47: =AU47 -> Aluno 8 | AX47: =VLOOKUP(AW47,$AA$8:$AB$37,2,FALSE) -> 852 | AY47: =AW47 -> Aluno 8 | AZ47: =VLOOKUP(AY47,$AA$8:$AB$37,2,FALSE) -> 852 | BA47: =AY47 -> Aluno 8 | BB47: =VLOOKUP(BA47,$AA$8:$AB$37,2,FALSE) -> 852 | BC47: =BA47 -> Aluno 8 | BD47: =VLOOKUP(BC47,$AA$8:$AB$37,2,FALSE) -> 852 | BE47: =BC47 -> Aluno 8 | BF47: =VLOOKUP(BE47,$AA$8:$AB$37,2,FALSE) -> 852 | BG47: =BE47 -> Aluno 8 | BH47: =VLOOKUP(BG47,$AA$8:$AB$37,2,FALSE) -> 852 | BI47: =BG47 -> Aluno 8 | BJ47: =VLOOKUP(BI47,$AA$8:$AB$37,2,FALSE) -> 852 | BK47: =BI47 -> Aluno 8 | BL47: =VLOOKUP(BK47,$AA$8:$AB$37,2,FALSE) -> 852 | BM47: =BK47 -> Aluno 8 | BN47: =VLOOKUP(BM47,$AA$8:$AB$37,2,FALSE) -> 852 | BO47: =BM47 -> Aluno 8 | BP47: =VLOOKUP(BO47,$AA$8:$AB$37,2,FALSE) -> 852 | BQ47: =BO47 -> Aluno 8 | BR47: =VLOOKUP(BQ47,$AA$8:$AB$37,2,FALSE) -> 852 | BS47: =BQ47 -> Aluno 8 | BT47: =VLOOKUP(BS47,$AA$8:$AB$37,2,FALSE) -> 852 | BU47: =BS47 -> Aluno 8 | BV47: =VLOOKUP(BU47,$AA$8:$AB$37,2,FALSE) -> 852 | BW47: =BU47 -> Aluno 8 | BX47: =VLOOKUP(BW47,$AA$8:$AB$37,2,FALSE) -> 852 | BY47: =BW47 -> Aluno 8 | BZ47: =VLOOKUP(BY47,$AA$8:$AB$37,2,FALSE) -> 852 | CA47: =BY47 -> Aluno 8 | CB47: =VLOOKUP(CA47,$AA$8:$AB$37,2,FALSE) -> 852 | CC47: =CA47 -> Aluno 8 | CD47: =VLOOKUP(CC47,$AA$8:$AB$37,2,FALSE) -> 852 | CE47: =CC47 -> Aluno 8 | CF47: =VLOOKUP(CE47,$AA$8:$AB$37,2,FALSE) -> 852
AA48: =CG18 -> Aluno 10 | AB48: =CH18 -> 858 | AC48: =AA48 -> Aluno 10 | AD48: =VLOOKUP(AC48,$AA$8:$AB$37,2,FALSE) -> 858 | AE48: =AC48 -> Aluno 10 | AF48: =VLOOKUP(AE48,$AA$8:$AB$37,2,FALSE) -> 858 | AG48: =AE48 -> Aluno 10 | AH48: =VLOOKUP(AG48,$AA$8:$AB$37,2,FALSE) -> 858 | AI48: =AG48 -> Aluno 10 | AJ48: =VLOOKUP(AI48,$AA$8:$AB$37,2,FALSE) -> 858 | AK48: =AI48 -> Aluno 10 | AL48: =VLOOKUP(AK48,$AA$8:$AB$37,2,FALSE) -> 858 | AM48: =AK48 -> Aluno 10 | AN48: =VLOOKUP(AM48,$AA$8:$AB$37,2,FALSE) -> 858 | AO48: =AM48 -> Aluno 10 | AP48: =VLOOKUP(AO48,$AA$8:$AB$37,2,FALSE) -> 858 | AQ48: =AO48 -> Aluno 10 | AR48: =VLOOKUP(AQ48,$AA$8:$AB$37,2,FALSE) -> 858 | AS48: =IF(AR48<=AR39,AQ48,AQ39) -> Aluno 9 | AT48: =VLOOKUP(AS48,$AA$8:$AB$37,2,FALSE) -> 855 | AU48: =AS48 -> Aluno 9 | AV48: =VLOOKUP(AU48,$AA$8:$AB$37,2,FALSE) -> 855 | AW48: =AU48 -> Aluno 9 | AX48: =VLOOKUP(AW48,$AA$8:$AB$37,2,FALSE) -> 855 | AY48: =AW48 -> Aluno 9 | AZ48: =VLOOKUP(AY48,$AA$8:$AB$37,2,FALSE) -> 855 | BA48: =AY48 -> Aluno 9 | BB48: =VLOOKUP(BA48,$AA$8:$AB$37,2,FALSE) -> 855 | BC48: =BA48 -> Aluno 9 | BD48: =VLOOKUP(BC48,$AA$8:$AB$37,2,FALSE) -> 855 | BE48: =BC48 -> Aluno 9 | BF48: =VLOOKUP(BE48,$AA$8:$AB$37,2,FALSE) -> 855 | BG48: =BE48 -> Aluno 9 | BH48: =VLOOKUP(BG48,$AA$8:$AB$37,2,FALSE) -> 855 | BI48: =BG48 -> Aluno 9 | BJ48: =VLOOKUP(BI48,$AA$8:$AB$37,2,FALSE) -> 855 | BK48: =BI48 -> Aluno 9 | BL48: =VLOOKUP(BK48,$AA$8:$AB$37,2,FALSE) -> 855 | BM48: =BK48 -> Aluno 9 | BN48: =VLOOKUP(BM48,$AA$8:$AB$37,2,FALSE) -> 855 | BO48: =BM48 -> Aluno 9 | BP48: =VLOOKUP(BO48,$AA$8:$AB$37,2,FALSE) -> 855 | BQ48: =BO48 -> Aluno 9 | BR48: =VLOOKUP(BQ48,$AA$8:$AB$37,2,FALSE) -> 855 | BS48: =BQ48 -> Aluno 9 | BT48: =VLOOKUP(BS48,$AA$8:$AB$37,2,FALSE) -> 855 | BU48: =BS48 -> Aluno 9 | BV48: =VLOOKUP(BU48,$AA$8:$AB$37,2,FALSE) -> 855 | BW48: =BU48 -> Aluno 9 | BX48: =VLOOKUP(BW48,$AA$8:$AB$37,2,FALSE) -> 855 | BY48: =BW48 -> Aluno 9 | BZ48: =VLOOKUP(BY48,$AA$8:$AB$37,2,FALSE) -> 855 | CA48: =BY48 -> Aluno 9 | CB48: =VLOOKUP(CA48,$AA$8:$AB$37,2,FALSE) -> 855 | CC48: =CA48 -> Aluno 9 | CD48: =VLOOKUP(CC48,$AA$8:$AB$37,2,FALSE) -> 855 | CE48: =CC48 -> Aluno 9 | CF48: =VLOOKUP(CE48,$AA$8:$AB$37,2,FALSE) -> 855
AA49: =CG19 -> Aluno 11 | AB49: =CH19 -> 861 | AC49: =AA49 -> Aluno 11 | AD49: =VLOOKUP(AC49,$AA$8:$AB$37,2,FALSE) -> 861 | AE49: =AC49 -> Aluno 11 | AF49: =VLOOKUP(AE49,$AA$8:$AB$37,2,FALSE) -> 861 | AG49: =AE49 -> Aluno 11 | AH49: =VLOOKUP(AG49,$AA$8:$AB$37,2,FALSE) -> 861 | AI49: =AG49 -> Aluno 11 | AJ49: =VLOOKUP(AI49,$AA$8:$AB$37,2,FALSE) -> 861 | AK49: =AI49 -> Aluno 11 | AL49: =VLOOKUP(AK49,$AA$8:$AB$37,2,FALSE) -> 861 | AM49: =AK49 -> Aluno 11 | AN49: =VLOOKUP(AM49,$AA$8:$AB$37,2,FALSE) -> 861 | AO49: =AM49 -> Aluno 11 | AP49: =VLOOKUP(AO49,$AA$8:$AB$37,2,FALSE) -> 861 | AQ49: =AO49 -> Aluno 11 | AR49: =VLOOKUP(AQ49,$AA$8:$AB$37,2,FALSE) -> 861 | AS49: =AQ49 -> Aluno 11 | AT49: =VLOOKUP(AS49,$AA$8:$AB$37,2,FALSE) -> 861 | AU49: =IF(AT49<=AT39,AS49,AS39) -> Aluno 10 | AV49: =VLOOKUP(AU49,$AA$8:$AB$37,2,FALSE) -> 858 | AW49: =AU49 -> Aluno 10 | AX49: =VLOOKUP(AW49,$AA$8:$AB$37,2,FALSE) -> 858 | AY49: =AW49 -> Aluno 10 | AZ49: =VLOOKUP(AY49,$AA$8:$AB$37,2,FALSE) -> 858 | BA49: =AY49 -> Aluno 10 | BB49: =VLOOKUP(BA49,$AA$8:$AB$37,2,FALSE) -> 858 | BC49: =BA49 -> Aluno 10 | BD49: =VLOOKUP(BC49,$AA$8:$AB$37,2,FALSE) -> 858 | BE49: =BC49 -> Aluno 10 | BF49: =VLOOKUP(BE49,$AA$8:$AB$37,2,FALSE) -> 858 | BG49: =BE49 -> Aluno 10 | BH49: =VLOOKUP(BG49,$AA$8:$AB$37,2,FALSE) -> 858 | BI49: =BG49 -> Aluno 10 | BJ49: =VLOOKUP(BI49,$AA$8:$AB$37,2,FALSE) -> 858 | BK49: =BI49 -> Aluno 10 | BL49: =VLOOKUP(BK49,$AA$8:$AB$37,2,FALSE) -> 858 | BM49: =BK49 -> Aluno 10 | BN49: =VLOOKUP(BM49,$AA$8:$AB$37,2,FALSE) -> 858 | BO49: =BM49 -> Aluno 10 | BP49: =VLOOKUP(BO49,$AA$8:$AB$37,2,FALSE) -> 858 | BQ49: =BO49 -> Aluno 10 | BR49: =VLOOKUP(BQ49,$AA$8:$AB$37,2,FALSE) -> 858 | BS49: =BQ49 -> Aluno 10 | BT49: =VLOOKUP(BS49,$AA$8:$AB$37,2,FALSE) -> 858 | BU49: =BS49 -> Aluno 10 | BV49: =VLOOKUP(BU49,$AA$8:$AB$37,2,FALSE) -> 858 | BW49: =BU49 -> Aluno 10 | BX49: =VLOOKUP(BW49,$AA$8:$AB$37,2,FALSE) -> 858 | BY49: =BW49 -> Aluno 10 | BZ49: =VLOOKUP(BY49,$AA$8:$AB$37,2,FALSE) -> 858 | CA49: =BY49 -> Aluno 10 | CB49: =VLOOKUP(CA49,$AA$8:$AB$37,2,FALSE) -> 858 | CC49: =CA49 -> Aluno 10 | CD49: =VLOOKUP(CC49,$AA$8:$AB$37,2,FALSE) -> 858 | CE49: =CC49 -> Aluno 10 | CF49: =VLOOKUP(CE49,$AA$8:$AB$37,2,FALSE) -> 858
AA50: =CG20 -> Aluno 12 | AB50: =CH20 -> 864 | AC50: =AA50 -> Aluno 12 | AD50: =VLOOKUP(AC50,$AA$8:$AB$37,2,FALSE) -> 864 | AE50: =AC50 -> Aluno 12 | AF50: =VLOOKUP(AE50,$AA$8:$AB$37,2,FALSE) -> 864 | AG50: =AE50 -> Aluno 12 | AH50: =VLOOKUP(AG50,$AA$8:$AB$37,2,FALSE) -> 864 | AI50: =AG50 -> Aluno 12 | AJ50: =VLOOKUP(AI50,$AA$8:$AB$37,2,FALSE) -> 864 | AK50: =AI50 -> Aluno 12 | AL50: =VLOOKUP(AK50,$AA$8:$AB$37,2,FALSE) -> 864 | AM50: =AK50 -> Aluno 12 | AN50: =VLOOKUP(AM50,$AA$8:$AB$37,2,FALSE) -> 864 | AO50: =AM50 -> Aluno 12 | AP50: =VLOOKUP(AO50,$AA$8:$AB$37,2,FALSE) -> 864 | AQ50: =AO50 -> Aluno 12 | AR50: =VLOOKUP(AQ50,$AA$8:$AB$37,2,FALSE) -> 864 | AS50: =AQ50 -> Aluno 12 | AT50: =VLOOKUP(AS50,$AA$8:$AB$37,2,FALSE) -> 864 | AU50: =AS50 -> Aluno 12 | AV50: =VLOOKUP(AU50,$AA$8:$AB$37,2,FALSE) -> 864 | AW50: =IF(AV50<=AV39,AU50,AU39) -> Aluno 11 | AX50: =VLOOKUP(AW50,$AA$8:$AB$37,2,FALSE) -> 861 | AY50: =AW50 -> Aluno 11 | AZ50: =VLOOKUP(AY50,$AA$8:$AB$37,2,FALSE) -> 861 | BA50: =AY50 -> Aluno 11 | BB50: =VLOOKUP(BA50,$AA$8:$AB$37,2,FALSE) -> 861 | BC50: =BA50 -> Aluno 11 | BD50: =VLOOKUP(BC50,$AA$8:$AB$37,2,FALSE) -> 861 | BE50: =BC50 -> Aluno 11 | BF50: =VLOOKUP(BE50,$AA$8:$AB$37,2,FALSE) -> 861 | BG50: =BE50 -> Aluno 11 | BH50: =VLOOKUP(BG50,$AA$8:$AB$37,2,FALSE) -> 861 | BI50: =BG50 -> Aluno 11 | BJ50: =VLOOKUP(BI50,$AA$8:$AB$37,2,FALSE) -> 861 | BK50: =BI50 -> Aluno 11 | BL50: =VLOOKUP(BK50,$AA$8:$AB$37,2,FALSE) -> 861 | BM50: =BK50 -> Aluno 11 | BN50: =VLOOKUP(BM50,$AA$8:$AB$37,2,FALSE) -> 861 | BO50: =BM50 -> Aluno 11 | BP50: =VLOOKUP(BO50,$AA$8:$AB$37,2,FALSE) -> 861 | BQ50: =BO50 -> Aluno 11 | BR50: =VLOOKUP(BQ50,$AA$8:$AB$37,2,FALSE) -> 861 | BS50: =BQ50 -> Aluno 11 | BT50: =VLOOKUP(BS50,$AA$8:$AB$37,2,FALSE) -> 861 | BU50: =BS50 -> Aluno 11 | BV50: =VLOOKUP(BU50,$AA$8:$AB$37,2,FALSE) -> 861 | BW50: =BU50 -> Aluno 11 | BX50: =VLOOKUP(BW50,$AA$8:$AB$37,2,FALSE) -> 861 | BY50: =BW50 -> Aluno 11 | BZ50: =VLOOKUP(BY50,$AA$8:$AB$37,2,FALSE) -> 861 | CA50: =BY50 -> Aluno 11 | CB50: =VLOOKUP(CA50,$AA$8:$AB$37,2,FALSE) -> 861 | CC50: =CA50 -> Aluno 11 | CD50: =VLOOKUP(CC50,$AA$8:$AB$37,2,FALSE) -> 861 | CE50: =CC50 -> Aluno 11 | CF50: =VLOOKUP(CE50,$AA$8:$AB$37,2,FALSE) -> 861
AA51: =CG21 -> Aluno 13 | AB51: =CH21 -> 867 | AC51: =AA51 -> Aluno 13 | AD51: =VLOOKUP(AC51,$AA$8:$AB$37,2,FALSE) -> 867 | AE51: =AC51 -> Aluno 13 | AF51: =VLOOKUP(AE51,$AA$8:$AB$37,2,FALSE) -> 867 | AG51: =AE51 -> Aluno 13 | AH51: =VLOOKUP(AG51,$AA$8:$AB$37,2,FALSE) -> 867 | AI51: =AG51 -> Aluno 13 | AJ51: =VLOOKUP(AI51,$AA$8:$AB$37,2,FALSE) -> 867 | AK51: =AI51 -> Aluno 13 | AL51: =VLOOKUP(AK51,$AA$8:$AB$37,2,FALSE) -> 867 | AM51: =AK51 -> Aluno 13 | AN51: =VLOOKUP(AM51,$AA$8:$AB$37,2,FALSE) -> 867 | AO51: =AM51 -> Aluno 13 | AP51: =VLOOKUP(AO51,$AA$8:$AB$37,2,FALSE) -> 867 | AQ51: =AO51 -> Aluno 13 | AR51: =VLOOKUP(AQ51,$AA$8:$AB$37,2,FALSE) -> 867 | AS51: =AQ51 -> Aluno 13 | AT51: =VLOOKUP(AS51,$AA$8:$AB$37,2,FALSE) -> 867 | AU51: =AS51 -> Aluno 13 | AV51: =VLOOKUP(AU51,$AA$8:$AB$37,2,FALSE) -> 867 | AW51: =AU51 -> Aluno 13 | AX51: =VLOOKUP(AW51,$AA$8:$AB$37,2,FALSE) -> 867 | AY51: =IF(AX51<=AX39,AW51,AW39) -> Aluno 12 | AZ51: =VLOOKUP(AY51,$AA$8:$AB$37,2,FALSE) -> 864 | BA51: =AY51 -> Aluno 12 | BB51: =VLOOKUP(BA51,$AA$8:$AB$37,2,FALSE) -> 864 | BC51: =BA51 -> Aluno 12 | BD51: =VLOOKUP(BC51,$AA$8:$AB$37,2,FALSE) -> 864 | BE51: =BC51 -> Aluno 12 | BF51: =VLOOKUP(BE51,$AA$8:$AB$37,2,FALSE) -> 864 | BG51: =BE51 -> Aluno 12 | BH51: =VLOOKUP(BG51,$AA$8:$AB$37,2,FALSE) -> 864 | BI51: =BG51 -> Aluno 12 | BJ51: =VLOOKUP(BI51,$AA$8:$AB$37,2,FALSE) -> 864 | BK51: =BI51 -> Aluno 12 | BL51: =VLOOKUP(BK51,$AA$8:$AB$37,2,FALSE) -> 864 | BM51: =BK51 -> Aluno 12 | BN51: =VLOOKUP(BM51,$AA$8:$AB$37,2,FALSE) -> 864 | BO51: =BM51 -> Aluno 12 | BP51: =VLOOKUP(BO51,$AA$8:$AB$37,2,FALSE) -> 864 | BQ51: =BO51 -> Aluno 12 | BR51: =VLOOKUP(BQ51,$AA$8:$AB$37,2,FALSE) -> 864 | BS51: =BQ51 -> Aluno 12 | BT51: =VLOOKUP(BS51,$AA$8:$AB$37,2,FALSE) -> 864 | BU51: =BS51 -> Aluno 12 | BV51: =VLOOKUP(BU51,$AA$8:$AB$37,2,FALSE) -> 864 | BW51: =BU51 -> Aluno 12 | BX51: =VLOOKUP(BW51,$AA$8:$AB$37,2,FALSE) -> 864 | BY51: =BW51 -> Aluno 12 | BZ51: =VLOOKUP(BY51,$AA$8:$AB$37,2,FALSE) -> 864 | CA51: =BY51 -> Aluno 12 | CB51: =VLOOKUP(CA51,$AA$8:$AB$37,2,FALSE) -> 864 | CC51: =CA51 -> Aluno 12 | CD51: =VLOOKUP(CC51,$AA$8:$AB$37,2,FALSE) -> 864 | CE51: =CC51 -> Aluno 12 | CF51: =VLOOKUP(CE51,$AA$8:$AB$37,2,FALSE) -> 864
AA52: =CG22 -> Aluno 14 | AB52: =CH22 -> 870 | AC52: =AA52 -> Aluno 14 | AD52: =VLOOKUP(AC52,$AA$8:$AB$37,2,FALSE) -> 870 | AE52: =AC52 -> Aluno 14 | AF52: =VLOOKUP(AE52,$AA$8:$AB$37,2,FALSE) -> 870 | AG52: =AE52 -> Aluno 14 | AH52: =VLOOKUP(AG52,$AA$8:$AB$37,2,FALSE) -> 870 | AI52: =AG52 -> Aluno 14 | AJ52: =VLOOKUP(AI52,$AA$8:$AB$37,2,FALSE) -> 870 | AK52: =AI52 -> Aluno 14 | AL52: =VLOOKUP(AK52,$AA$8:$AB$37,2,FALSE) -> 870 | AM52: =AK52 -> Aluno 14 | AN52: =VLOOKUP(AM52,$AA$8:$AB$37,2,FALSE) -> 870 | AO52: =AM52 -> Aluno 14 | AP52: =VLOOKUP(AO52,$AA$8:$AB$37,2,FALSE) -> 870 | AQ52: =AO52 -> Aluno 14 | AR52: =VLOOKUP(AQ52,$AA$8:$AB$37,2,FALSE) -> 870 | AS52: =AQ52 -> Aluno 14 | AT52: =VLOOKUP(AS52,$AA$8:$AB$37,2,FALSE) -> 870 | AU52: =AS52 -> Aluno 14 | AV52: =VLOOKUP(AU52,$AA$8:$AB$37,2,FALSE) -> 870 | AW52: =AU52 -> Aluno 14 | AX52: =VLOOKUP(AW52,$AA$8:$AB$37,2,FALSE) -> 870 | AY52: =AW52 -> Aluno 14 | AZ52: =VLOOKUP(AY52,$AA$8:$AB$37,2,FALSE) -> 870 | BA52: =IF(AZ52<=AZ39,AY52,AY39) -> Aluno 13 | BB52: =VLOOKUP(BA52,$AA$8:$AB$37,2,FALSE) -> 867 | BC52: =BA52 -> Aluno 13 | BD52: =VLOOKUP(BC52,$AA$8:$AB$37,2,FALSE) -> 867 | BE52: =BC52 -> Aluno 13 | BF52: =VLOOKUP(BE52,$AA$8:$AB$37,2,FALSE) -> 867 | BG52: =BE52 -> Aluno 13 | BH52: =VLOOKUP(BG52,$AA$8:$AB$37,2,FALSE) -> 867 | BI52: =BG52 -> Aluno 13 | BJ52: =VLOOKUP(BI52,$AA$8:$AB$37,2,FALSE) -> 867 | BK52: =BI52 -> Aluno 13 | BL52: =VLOOKUP(BK52,$AA$8:$AB$37,2,FALSE) -> 867 | BM52: =BK52 -> Aluno 13 | BN52: =VLOOKUP(BM52,$AA$8:$AB$37,2,FALSE) -> 867 | BO52: =BM52 -> Aluno 13 | BP52: =VLOOKUP(BO52,$AA$8:$AB$37,2,FALSE) -> 867 | BQ52: =BO52 -> Aluno 13 | BR52: =VLOOKUP(BQ52,$AA$8:$AB$37,2,FALSE) -> 867 | BS52: =BQ52 -> Aluno 13 | BT52: =VLOOKUP(BS52,$AA$8:$AB$37,2,FALSE) -> 867 | BU52: =BS52 -> Aluno 13 | BV52: =VLOOKUP(BU52,$AA$8:$AB$37,2,FALSE) -> 867 | BW52: =BU52 -> Aluno 13 | BX52: =VLOOKUP(BW52,$AA$8:$AB$37,2,FALSE) -> 867 | BY52: =BW52 -> Aluno 13 | BZ52: =VLOOKUP(BY52,$AA$8:$AB$37,2,FALSE) -> 867 | CA52: =BY52 -> Aluno 13 | CB52: =VLOOKUP(CA52,$AA$8:$AB$37,2,FALSE) -> 867 | CC52: =CA52 -> Aluno 13 | CD52: =VLOOKUP(CC52,$AA$8:$AB$37,2,FALSE) -> 867 | CE52: =CC52 -> Aluno 13 | CF52: =VLOOKUP(CE52,$AA$8:$AB$37,2,FALSE) -> 867
AA53: =CG23 -> Aluno 15 | AB53: =CH23 -> 873 | AC53: =AA53 -> Aluno 15 | AD53: =VLOOKUP(AC53,$AA$8:$AB$37,2,FALSE) -> 873 | AE53: =AC53 -> Aluno 15 | AF53: =VLOOKUP(AE53,$AA$8:$AB$37,2,FALSE) -> 873 | AG53: =AE53 -> Aluno 15 | AH53: =VLOOKUP(AG53,$AA$8:$AB$37,2,FALSE) -> 873 | AI53: =AG53 -> Aluno 15 | AJ53: =VLOOKUP(AI53,$AA$8:$AB$37,2,FALSE) -> 873 | AK53: =AI53 -> Aluno 15 | AL53: =VLOOKUP(AK53,$AA$8:$AB$37,2,FALSE) -> 873 | AM53: =AK53 -> Aluno 15 | AN53: =VLOOKUP(AM53,$AA$8:$AB$37,2,FALSE) -> 873 | AO53: =AM53 -> Aluno 15 | AP53: =VLOOKUP(AO53,$AA$8:$AB$37,2,FALSE) -> 873 | AQ53: =AO53 -> Aluno 15 | AR53: =VLOOKUP(AQ53,$AA$8:$AB$37,2,FALSE) -> 873 | AS53: =AQ53 -> Aluno 15 | AT53: =VLOOKUP(AS53,$AA$8:$AB$37,2,FALSE) -> 873 | AU53: =AS53 -> Aluno 15 | AV53: =VLOOKUP(AU53,$AA$8:$AB$37,2,FALSE) -> 873 | AW53: =AU53 -> Aluno 15 | AX53: =VLOOKUP(AW53,$AA$8:$AB$37,2,FALSE) -> 873 | AY53: =AW53 -> Aluno 15 | AZ53: =VLOOKUP(AY53,$AA$8:$AB$37,2,FALSE) -> 873 | BA53: =AY53 -> Aluno 15 | BB53: =VLOOKUP(BA53,$AA$8:$AB$37,2,FALSE) -> 873 | BC53: =IF(BB53<=BB39,BA53,BA39) -> Aluno 14 | BD53: =VLOOKUP(BC53,$AA$8:$AB$37,2,FALSE) -> 870 | BE53: =BC53 -> Aluno 14 | BF53: =VLOOKUP(BE53,$AA$8:$AB$37,2,FALSE) -> 870 | BG53: =BE53 -> Aluno 14 | BH53: =VLOOKUP(BG53,$AA$8:$AB$37,2,FALSE) -> 870 | BI53: =BG53 -> Aluno 14 | BJ53: =VLOOKUP(BI53,$AA$8:$AB$37,2,FALSE) -> 870 | BK53: =BI53 -> Aluno 14 | BL53: =VLOOKUP(BK53,$AA$8:$AB$37,2,FALSE) -> 870 | BM53: =BK53 -> Aluno 14 | BN53: =VLOOKUP(BM53,$AA$8:$AB$37,2,FALSE) -> 870 | BO53: =BM53 -> Aluno 14 | BP53: =VLOOKUP(BO53,$AA$8:$AB$37,2,FALSE) -> 870 | BQ53: =BO53 -> Aluno 14 | BR53: =VLOOKUP(BQ53,$AA$8:$AB$37,2,FALSE) -> 870 | BS53: =BQ53 -> Aluno 14 | BT53: =VLOOKUP(BS53,$AA$8:$AB$37,2,FALSE) -> 870 | BU53: =BS53 -> Aluno 14 | BV53: =VLOOKUP(BU53,$AA$8:$AB$37,2,FALSE) -> 870 | BW53: =BU53 -> Aluno 14 | BX53: =VLOOKUP(BW53,$AA$8:$AB$37,2,FALSE) -> 870 | BY53: =BW53 -> Aluno 14 | BZ53: =VLOOKUP(BY53,$AA$8:$AB$37,2,FALSE) -> 870 | CA53: =BY53 -> Aluno 14 | CB53: =VLOOKUP(CA53,$AA$8:$AB$37,2,FALSE) -> 870 | CC53: =CA53 -> Aluno 14 | CD53: =VLOOKUP(CC53,$AA$8:$AB$37,2,FALSE) -> 870 | CE53: =CC53 -> Aluno 14 | CF53: =VLOOKUP(CE53,$AA$8:$AB$37,2,FALSE) -> 870
AA54: =CG24 -> Aluno 16 | AB54: =CH24 -> 876 | AC54: =AA54 -> Aluno 16 | AD54: =VLOOKUP(AC54,$AA$8:$AB$37,2,FALSE) -> 876 | AE54: =AC54 -> Aluno 16 | AF54: =VLOOKUP(AE54,$AA$8:$AB$37,2,FALSE) -> 876 | AG54: =AE54 -> Aluno 16 | AH54: =VLOOKUP(AG54,$AA$8:$AB$37,2,FALSE) -> 876 | AI54: =AG54 -> Aluno 16 | AJ54: =VLOOKUP(AI54,$AA$8:$AB$37,2,FALSE) -> 876 | AK54: =AI54 -> Aluno 16 | AL54: =VLOOKUP(AK54,$AA$8:$AB$37,2,FALSE) -> 876 | AM54: =AK54 -> Aluno 16 | AN54: =VLOOKUP(AM54,$AA$8:$AB$37,2,FALSE) -> 876 | AO54: =AM54 -> Aluno 16 | AP54: =VLOOKUP(AO54,$AA$8:$AB$37,2,FALSE) -> 876 | AQ54: =AO54 -> Aluno 16 | AR54: =VLOOKUP(AQ54,$AA$8:$AB$37,2,FALSE) -> 876 | AS54: =AQ54 -> Aluno 16 | AT54: =VLOOKUP(AS54,$AA$8:$AB$37,2,FALSE) -> 876 | AU54: =AS54 -> Aluno 16 | AV54: =VLOOKUP(AU54,$AA$8:$AB$37,2,FALSE) -> 876 | AW54: =AU54 -> Aluno 16 | AX54: =VLOOKUP(AW54,$AA$8:$AB$37,2,FALSE) -> 876 | AY54: =AW54 -> Aluno 16 | AZ54: =VLOOKUP(AY54,$AA$8:$AB$37,2,FALSE) -> 876 | BA54: =AY54 -> Aluno 16 | BB54: =VLOOKUP(BA54,$AA$8:$AB$37,2,FALSE) -> 876 | BC54: =BA54 -> Aluno 16 | BD54: =VLOOKUP(BC54,$AA$8:$AB$37,2,FALSE) -> 876 | BE54: =IF(BD54<=BD39,BC54,BC39) -> Aluno 15 | BF54: =VLOOKUP(BE54,$AA$8:$AB$37,2,FALSE) -> 873 | BG54: =BE54 -> Aluno 15 | BH54: =VLOOKUP(BG54,$AA$8:$AB$37,2,FALSE) -> 873 | BI54: =BG54 -> Aluno 15 | BJ54: =VLOOKUP(BI54,$AA$8:$AB$37,2,FALSE) -> 873 | BK54: =BI54 -> Aluno 15 | BL54: =VLOOKUP(BK54,$AA$8:$AB$37,2,FALSE) -> 873 | BM54: =BK54 -> Aluno 15 | BN54: =VLOOKUP(BM54,$AA$8:$AB$37,2,FALSE) -> 873 | BO54: =BM54 -> Aluno 15 | BP54: =VLOOKUP(BO54,$AA$8:$AB$37,2,FALSE) -> 873 | BQ54: =BO54 -> Aluno 15 | BR54: =VLOOKUP(BQ54,$AA$8:$AB$37,2,FALSE) -> 873 | BS54: =BQ54 -> Aluno 15 | BT54: =VLOOKUP(BS54,$AA$8:$AB$37,2,FALSE) -> 873 | BU54: =BS54 -> Aluno 15 | BV54: =VLOOKUP(BU54,$AA$8:$AB$37,2,FALSE) -> 873 | BW54: =BU54 -> Aluno 15 | BX54: =VLOOKUP(BW54,$AA$8:$AB$37,2,FALSE) -> 873 | BY54: =BW54 -> Aluno 15 | BZ54: =VLOOKUP(BY54,$AA$8:$AB$37,2,FALSE) -> 873 | CA54: =BY54 -> Aluno 15 | CB54: =VLOOKUP(CA54,$AA$8:$AB$37,2,FALSE) -> 873 | CC54: =CA54 -> Aluno 15 | CD54: =VLOOKUP(CC54,$AA$8:$AB$37,2,FALSE) -> 873 | CE54: =CC54 -> Aluno 15 | CF54: =VLOOKUP(CE54,$AA$8:$AB$37,2,FALSE) -> 873
AA55: =CG25 -> Aluno 17 | AB55: =CH25 -> 879 | AC55: =AA55 -> Aluno 17 | AD55: =VLOOKUP(AC55,$AA$8:$AB$37,2,FALSE) -> 879 | AE55: =AC55 -> Aluno 17 | AF55: =VLOOKUP(AE55,$AA$8:$AB$37,2,FALSE) -> 879 | AG55: =AE55 -> Aluno 17 | AH55: =VLOOKUP(AG55,$AA$8:$AB$37,2,FALSE) -> 879 | AI55: =AG55 -> Aluno 17 | AJ55: =VLOOKUP(AI55,$AA$8:$AB$37,2,FALSE) -> 879 | AK55: =AI55 -> Aluno 17 | AL55: =VLOOKUP(AK55,$AA$8:$AB$37,2,FALSE) -> 879 | AM55: =AK55 -> Aluno 17 | AN55: =VLOOKUP(AM55,$AA$8:$AB$37,2,FALSE) -> 879 | AO55: =AM55 -> Aluno 17 | AP55: =VLOOKUP(AO55,$AA$8:$AB$37,2,FALSE) -> 879 | AQ55: =AO55 -> Aluno 17 | AR55: =VLOOKUP(AQ55,$AA$8:$AB$37,2,FALSE) -> 879 | AS55: =AQ55 -> Aluno 17 | AT55: =VLOOKUP(AS55,$AA$8:$AB$37,2,FALSE) -> 879 | AU55: =AS55 -> Aluno 17 | AV55: =VLOOKUP(AU55,$AA$8:$AB$37,2,FALSE) -> 879 | AW55: =AU55 -> Aluno 17 | AX55: =VLOOKUP(AW55,$AA$8:$AB$37,2,FALSE) -> 879 | AY55: =AW55 -> Aluno 17 | AZ55: =VLOOKUP(AY55,$AA$8:$AB$37,2,FALSE) -> 879 | BA55: =AY55 -> Aluno 17 | BB55: =VLOOKUP(BA55,$AA$8:$AB$37,2,FALSE) -> 879 | BC55: =BA55 -> Aluno 17 | BD55: =VLOOKUP(BC55,$AA$8:$AB$37,2,FALSE) -> 879 | BE55: =BC55 -> Aluno 17 | BF55: =VLOOKUP(BE55,$AA$8:$AB$37,2,FALSE) -> 879 | BG55: =IF(BF55<=BF39,BE55,BE39) -> Aluno 16 | BH55: =VLOOKUP(BG55,$AA$8:$AB$37,2,FALSE) -> 876 | BI55: =BG55 -> Aluno 16 | BJ55: =VLOOKUP(BI55,$AA$8:$AB$37,2,FALSE) -> 876 | BK55: =BI55 -> Aluno 16 | BL55: =VLOOKUP(BK55,$AA$8:$AB$37,2,FALSE) -> 876 | BM55: =BK55 -> Aluno 16 | BN55: =VLOOKUP(BM55,$AA$8:$AB$37,2,FALSE) -> 876 | BO55: =BM55 -> Aluno 16 | BP55: =VLOOKUP(BO55,$AA$8:$AB$37,2,FALSE) -> 876 | BQ55: =BO55 -> Aluno 16 | BR55: =VLOOKUP(BQ55,$AA$8:$AB$37,2,FALSE) -> 876 | BS55: =BQ55 -> Aluno 16 | BT55: =VLOOKUP(BS55,$AA$8:$AB$37,2,FALSE) -> 876 | BU55: =BS55 -> Aluno 16 | BV55: =VLOOKUP(BU55,$AA$8:$AB$37,2,FALSE) -> 876 | BW55: =BU55 -> Aluno 16 | BX55: =VLOOKUP(BW55,$AA$8:$AB$37,2,FALSE) -> 876 | BY55: =BW55 -> Aluno 16 | BZ55: =VLOOKUP(BY55,$AA$8:$AB$37,2,FALSE) -> 876 | CA55: =BY55 -> Aluno 16 | CB55: =VLOOKUP(CA55,$AA$8:$AB$37,2,FALSE) -> 876 | CC55: =CA55 -> Aluno 16 | CD55: =VLOOKUP(CC55,$AA$8:$AB$37,2,FALSE) -> 876 | CE55: =CC55 -> Aluno 16 | CF55: =VLOOKUP(CE55,$AA$8:$AB$37,2,FALSE) -> 876
AA56: =CG26 -> Aluno 18 | AB56: =CH26 -> 882 | AC56: =AA56 -> Aluno 18 | AD56: =VLOOKUP(AC56,$AA$8:$AB$37,2,FALSE) -> 882 | AE56: =AC56 -> Aluno 18 | AF56: =VLOOKUP(AE56,$AA$8:$AB$37,2,FALSE) -> 882 | AG56: =AE56 -> Aluno 18 | AH56: =VLOOKUP(AG56,$AA$8:$AB$37,2,FALSE) -> 882 | AI56: =AG56 -> Aluno 18 | AJ56: =VLOOKUP(AI56,$AA$8:$AB$37,2,FALSE) -> 882 | AK56: =AI56 -> Aluno 18 | AL56: =VLOOKUP(AK56,$AA$8:$AB$37,2,FALSE) -> 882 | AM56: =AK56 -> Aluno 18 | AN56: =VLOOKUP(AM56,$AA$8:$AB$37,2,FALSE) -> 882 | AO56: =AM56 -> Aluno 18 | AP56: =VLOOKUP(AO56,$AA$8:$AB$37,2,FALSE) -> 882 | AQ56: =AO56 -> Aluno 18 | AR56: =VLOOKUP(AQ56,$AA$8:$AB$37,2,FALSE) -> 882 | AS56: =AQ56 -> Aluno 18 | AT56: =VLOOKUP(AS56,$AA$8:$AB$37,2,FALSE) -> 882 | AU56: =AS56 -> Aluno 18 | AV56: =VLOOKUP(AU56,$AA$8:$AB$37,2,FALSE) -> 882 | AW56: =AU56 -> Aluno 18 | AX56: =VLOOKUP(AW56,$AA$8:$AB$37,2,FALSE) -> 882 | AY56: =AW56 -> Aluno 18 | AZ56: =VLOOKUP(AY56,$AA$8:$AB$37,2,FALSE) -> 882 | BA56: =AY56 -> Aluno 18 | BB56: =VLOOKUP(BA56,$AA$8:$AB$37,2,FALSE) -> 882 | BC56: =BA56 -> Aluno 18 | BD56: =VLOOKUP(BC56,$AA$8:$AB$37,2,FALSE) -> 882 | BE56: =BC56 -> Aluno 18 | BF56: =VLOOKUP(BE56,$AA$8:$AB$37,2,FALSE) -> 882 | BG56: =BE56 -> Aluno 18 | BH56: =VLOOKUP(BG56,$AA$8:$AB$37,2,FALSE) -> 882 | BI56: =IF(BH56<=BH39,BG56,BG39) -> Aluno 17 | BJ56: =VLOOKUP(BI56,$AA$8:$AB$37,2,FALSE) -> 879 | BK56: =BI56 -> Aluno 17 | BL56: =VLOOKUP(BK56,$AA$8:$AB$37,2,FALSE) -> 879 | BM56: =BK56 -> Aluno 17 | BN56: =VLOOKUP(BM56,$AA$8:$AB$37,2,FALSE) -> 879 | BO56: =BM56 -> Aluno 17 | BP56: =VLOOKUP(BO56,$AA$8:$AB$37,2,FALSE) -> 879 | BQ56: =BO56 -> Aluno 17 | BR56: =VLOOKUP(BQ56,$AA$8:$AB$37,2,FALSE) -> 879 | BS56: =BQ56 -> Aluno 17 | BT56: =VLOOKUP(BS56,$AA$8:$AB$37,2,FALSE) -> 879 | BU56: =BS56 -> Aluno 17 | BV56: =VLOOKUP(BU56,$AA$8:$AB$37,2,FALSE) -> 879 | BW56: =BU56 -> Aluno 17 | BX56: =VLOOKUP(BW56,$AA$8:$AB$37,2,FALSE) -> 879 | BY56: =BW56 -> Aluno 17 | BZ56: =VLOOKUP(BY56,$AA$8:$AB$37,2,FALSE) -> 879 | CA56: =BY56 -> Aluno 17 | CB56: =VLOOKUP(CA56,$AA$8:$AB$37,2,FALSE) -> 879 | CC56: =CA56 -> Aluno 17 | CD56: =VLOOKUP(CC56,$AA$8:$AB$37,2,FALSE) -> 879 | CE56: =CC56 -> Aluno 17 | CF56: =VLOOKUP(CE56,$AA$8:$AB$37,2,FALSE) -> 879
AA57: =CG27 -> Aluno 19 | AB57: =CH27 -> 885 | AC57: =AA57 -> Aluno 19 | AD57: =VLOOKUP(AC57,$AA$8:$AB$37,2,FALSE) -> 885 | AE57: =AC57 -> Aluno 19 | AF57: =VLOOKUP(AE57,$AA$8:$AB$37,2,FALSE) -> 885 | AG57: =AE57 -> Aluno 19 | AH57: =VLOOKUP(AG57,$AA$8:$AB$37,2,FALSE) -> 885 | AI57: =AG57 -> Aluno 19 | AJ57: =VLOOKUP(AI57,$AA$8:$AB$37,2,FALSE) -> 885 | AK57: =AI57 -> Aluno 19 | AL57: =VLOOKUP(AK57,$AA$8:$AB$37,2,FALSE) -> 885 | AM57: =AK57 -> Aluno 19 | AN57: =VLOOKUP(AM57,$AA$8:$AB$37,2,FALSE) -> 885 | AO57: =AM57 -> Aluno 19 | AP57: =VLOOKUP(AO57,$AA$8:$AB$37,2,FALSE) -> 885 | AQ57: =AO57 -> Aluno 19 | AR57: =VLOOKUP(AQ57,$AA$8:$AB$37,2,FALSE) -> 885 | AS57: =AQ57 -> Aluno 19 | AT57: =VLOOKUP(AS57,$AA$8:$AB$37,2,FALSE) -> 885 | AU57: =AS57 -> Aluno 19 | AV57: =VLOOKUP(AU57,$AA$8:$AB$37,2,FALSE) -> 885 | AW57: =AU57 -> Aluno 19 | AX57: =VLOOKUP(AW57,$AA$8:$AB$37,2,FALSE) -> 885 | AY57: =AW57 -> Aluno 19 | AZ57: =VLOOKUP(AY57,$AA$8:$AB$37,2,FALSE) -> 885 | BA57: =AY57 -> Aluno 19 | BB57: =VLOOKUP(BA57,$AA$8:$AB$37,2,FALSE) -> 885 | BC57: =BA57 -> Aluno 19 | BD57: =VLOOKUP(BC57,$AA$8:$AB$37,2,FALSE) -> 885 | BE57: =BC57 -> Aluno 19 | BF57: =VLOOKUP(BE57,$AA$8:$AB$37,2,FALSE) -> 885 | BG57: =BE57 -> Aluno 19 | BH57: =VLOOKUP(BG57,$AA$8:$AB$37,2,FALSE) -> 885 | BI57: =BG57 -> Aluno 19 | BJ57: =VLOOKUP(BI57,$AA$8:$AB$37,2,FALSE) -> 885 | BK57: =IF(BJ57<=BJ39,BI57,BI39) -> Aluno 18 | BL57: =VLOOKUP(BK57,$AA$8:$AB$37,2,FALSE) -> 882 | BM57: =BK57 -> Aluno 18 | BN57: =VLOOKUP(BM57,$AA$8:$AB$37,2,FALSE) -> 882 | BO57: =BM57 -> Aluno 18 | BP57: =VLOOKUP(BO57,$AA$8:$AB$37,2,FALSE) -> 882 | BQ57: =BO57 -> Aluno 18 | BR57: =VLOOKUP(BQ57,$AA$8:$AB$37,2,FALSE) -> 882 | BS57: =BQ57 -> Aluno 18 | BT57: =VLOOKUP(BS57,$AA$8:$AB$37,2,FALSE) -> 882 | BU57: =BS57 -> Aluno 18 | BV57: =VLOOKUP(BU57,$AA$8:$AB$37,2,FALSE) -> 882 | BW57: =BU57 -> Aluno 18 | BX57: =VLOOKUP(BW57,$AA$8:$AB$37,2,FALSE) -> 882 | BY57: =BW57 -> Aluno 18 | BZ57: =VLOOKUP(BY57,$AA$8:$AB$37,2,FALSE) -> 882 | CA57: =BY57 -> Aluno 18 | CB57: =VLOOKUP(CA57,$AA$8:$AB$37,2,FALSE) -> 882 | CC57: =CA57 -> Aluno 18 | CD57: =VLOOKUP(CC57,$AA$8:$AB$37,2,FALSE) -> 882 | CE57: =CC57 -> Aluno 18 | CF57: =VLOOKUP(CE57,$AA$8:$AB$37,2,FALSE) -> 882
AA58: =CG28 -> Aluno 20 | AB58: =CH28 -> 888 | AC58: =AA58 -> Aluno 20 | AD58: =VLOOKUP(AC58,$AA$8:$AB$37,2,FALSE) -> 888 | AE58: =AC58 -> Aluno 20 | AF58: =VLOOKUP(AE58,$AA$8:$AB$37,2,FALSE) -> 888 | AG58: =AE58 -> Aluno 20 | AH58: =VLOOKUP(AG58,$AA$8:$AB$37,2,FALSE) -> 888 | AI58: =AG58 -> Aluno 20 | AJ58: =VLOOKUP(AI58,$AA$8:$AB$37,2,FALSE) -> 888 | AK58: =AI58 -> Aluno 20 | AL58: =VLOOKUP(AK58,$AA$8:$AB$37,2,FALSE) -> 888 | AM58: =AK58 -> Aluno 20 | AN58: =VLOOKUP(AM58,$AA$8:$AB$37,2,FALSE) -> 888 | AO58: =AM58 -> Aluno 20 | AP58: =VLOOKUP(AO58,$AA$8:$AB$37,2,FALSE) -> 888 | AQ58: =AO58 -> Aluno 20 | AR58: =VLOOKUP(AQ58,$AA$8:$AB$37,2,FALSE) -> 888 | AS58: =AQ58 -> Aluno 20 | AT58: =VLOOKUP(AS58,$AA$8:$AB$37,2,FALSE) -> 888 | AU58: =AS58 -> Aluno 20 | AV58: =VLOOKUP(AU58,$AA$8:$AB$37,2,FALSE) -> 888 | AW58: =AU58 -> Aluno 20 | AX58: =VLOOKUP(AW58,$AA$8:$AB$37,2,FALSE) -> 888 | AY58: =AW58 -> Aluno 20 | AZ58: =VLOOKUP(AY58,$AA$8:$AB$37,2,FALSE) -> 888 | BA58: =AY58 -> Aluno 20 | BB58: =VLOOKUP(BA58,$AA$8:$AB$37,2,FALSE) -> 888 | BC58: =BA58 -> Aluno 20 | BD58: =VLOOKUP(BC58,$AA$8:$AB$37,2,FALSE) -> 888 | BE58: =BC58 -> Aluno 20 | BF58: =VLOOKUP(BE58,$AA$8:$AB$37,2,FALSE) -> 888 | BG58: =BE58 -> Aluno 20 | BH58: =VLOOKUP(BG58,$AA$8:$AB$37,2,FALSE) -> 888 | BI58: =BG58 -> Aluno 20 | BJ58: =VLOOKUP(BI58,$AA$8:$AB$37,2,FALSE) -> 888 | BK58: =BI58 -> Aluno 20 | BL58: =VLOOKUP(BK58,$AA$8:$AB$37,2,FALSE) -> 888 | BM58: =IF(BL58<=BL39,BK58,BK39) -> Aluno 19 | BN58: =VLOOKUP(BM58,$AA$8:$AB$37,2,FALSE) -> 885 | BO58: =BM58 -> Aluno 19 | BP58: =VLOOKUP(BO58,$AA$8:$AB$37,2,FALSE) -> 885 | BQ58: =BO58 -> Aluno 19 | BR58: =VLOOKUP(BQ58,$AA$8:$AB$37,2,FALSE) -> 885 | BS58: =BQ58 -> Aluno 19 | BT58: =VLOOKUP(BS58,$AA$8:$AB$37,2,FALSE) -> 885 | BU58: =BS58 -> Aluno 19 | BV58: =VLOOKUP(BU58,$AA$8:$AB$37,2,FALSE) -> 885 | BW58: =BU58 -> Aluno 19 | BX58: =VLOOKUP(BW58,$AA$8:$AB$37,2,FALSE) -> 885 | BY58: =BW58 -> Aluno 19 | BZ58: =VLOOKUP(BY58,$AA$8:$AB$37,2,FALSE) -> 885 | CA58: =BY58 -> Aluno 19 | CB58: =VLOOKUP(CA58,$AA$8:$AB$37,2,FALSE) -> 885 | CC58: =CA58 -> Aluno 19 | CD58: =VLOOKUP(CC58,$AA$8:$AB$37,2,FALSE) -> 885 | CE58: =CC58 -> Aluno 19 | CF58: =VLOOKUP(CE58,$AA$8:$AB$37,2,FALSE) -> 885
AA59: =CG29 -> Aluno 21 | AB59: =CH29 -> 891 | AC59: =AA59 -> Aluno 21 | AD59: =VLOOKUP(AC59,$AA$8:$AB$37,2,FALSE) -> 891 | AE59: =AC59 -> Aluno 21 | AF59: =VLOOKUP(AE59,$AA$8:$AB$37,2,FALSE) -> 891 | AG59: =AE59 -> Aluno 21 | AH59: =VLOOKUP(AG59,$AA$8:$AB$37,2,FALSE) -> 891 | AI59: =AG59 -> Aluno 21 | AJ59: =VLOOKUP(AI59,$AA$8:$AB$37,2,FALSE) -> 891 | AK59: =AI59 -> Aluno 21 | AL59: =VLOOKUP(AK59,$AA$8:$AB$37,2,FALSE) -> 891 | AM59: =AK59 -> Aluno 21 | AN59: =VLOOKUP(AM59,$AA$8:$AB$37,2,FALSE) -> 891 | AO59: =AM59 -> Aluno 21 | AP59: =VLOOKUP(AO59,$AA$8:$AB$37,2,FALSE) -> 891 | AQ59: =AO59 -> Aluno 21 | AR59: =VLOOKUP(AQ59,$AA$8:$AB$37,2,FALSE) -> 891 | AS59: =AQ59 -> Aluno 21 | AT59: =VLOOKUP(AS59,$AA$8:$AB$37,2,FALSE) -> 891 | AU59: =AS59 -> Aluno 21 | AV59: =VLOOKUP(AU59,$AA$8:$AB$37,2,FALSE) -> 891 | AW59: =AU59 -> Aluno 21 | AX59: =VLOOKUP(AW59,$AA$8:$AB$37,2,FALSE) -> 891 | AY59: =AW59 -> Aluno 21 | AZ59: =VLOOKUP(AY59,$AA$8:$AB$37,2,FALSE) -> 891 | BA59: =AY59 -> Aluno 21 | BB59: =VLOOKUP(BA59,$AA$8:$AB$37,2,FALSE) -> 891 | BC59: =BA59 -> Aluno 21 | BD59: =VLOOKUP(BC59,$AA$8:$AB$37,2,FALSE) -> 891 | BE59: =BC59 -> Aluno 21 | BF59: =VLOOKUP(BE59,$AA$8:$AB$37,2,FALSE) -> 891 | BG59: =BE59 -> Aluno 21 | BH59: =VLOOKUP(BG59,$AA$8:$AB$37,2,FALSE) -> 891 | BI59: =BG59 -> Aluno 21 | BJ59: =VLOOKUP(BI59,$AA$8:$AB$37,2,FALSE) -> 891 | BK59: =BI59 -> Aluno 21 | BL59: =VLOOKUP(BK59,$AA$8:$AB$37,2,FALSE) -> 891 | BM59: =BK59 -> Aluno 21 | BN59: =VLOOKUP(BM59,$AA$8:$AB$37,2,FALSE) -> 891 | BO59: =IF(BN59<=BN39,BM59,BM39) -> Aluno 20 | BP59: =VLOOKUP(BO59,$AA$8:$AB$37,2,FALSE) -> 888 | BQ59: =BO59 -> Aluno 20 | BR59: =VLOOKUP(BQ59,$AA$8:$AB$37,2,FALSE) -> 888 | BS59: =BQ59 -> Aluno 20 | BT59: =VLOOKUP(BS59,$AA$8:$AB$37,2,FALSE) -> 888 | BU59: =BS59 -> Aluno 20 | BV59: =VLOOKUP(BU59,$AA$8:$AB$37,2,FALSE) -> 888 | BW59: =BU59 -> Aluno 20 | BX59: =VLOOKUP(BW59,$AA$8:$AB$37,2,FALSE) -> 888 | BY59: =BW59 -> Aluno 20 | BZ59: =VLOOKUP(BY59,$AA$8:$AB$37,2,FALSE) -> 888 | CA59: =BY59 -> Aluno 20 | CB59: =VLOOKUP(CA59,$AA$8:$AB$37,2,FALSE) -> 888 | CC59: =CA59 -> Aluno 20 | CD59: =VLOOKUP(CC59,$AA$8:$AB$37,2,FALSE) -> 888 | CE59: =CC59 -> Aluno 20 | CF59: =VLOOKUP(CE59,$AA$8:$AB$37,2,FALSE) -> 888
AA60: =CG30 -> Aluno 22 | AB60: =CH30 -> 894 | AC60: =AA60 -> Aluno 22 | AD60: =VLOOKUP(AC60,$AA$8:$AB$37,2,FALSE) -> 894 | AE60: =AC60 -> Aluno 22 | AF60: =VLOOKUP(AE60,$AA$8:$AB$37,2,FALSE) -> 894 | AG60: =AE60 -> Aluno 22 | AH60: =VLOOKUP(AG60,$AA$8:$AB$37,2,FALSE) -> 894 | AI60: =AG60 -> Aluno 22 | AJ60: =VLOOKUP(AI60,$AA$8:$AB$37,2,FALSE) -> 894 | AK60: =AI60 -> Aluno 22 | AL60: =VLOOKUP(AK60,$AA$8:$AB$37,2,FALSE) -> 894 | AM60: =AK60 -> Aluno 22 | AN60: =VLOOKUP(AM60,$AA$8:$AB$37,2,FALSE) -> 894 | AO60: =AM60 -> Aluno 22 | AP60: =VLOOKUP(AO60,$AA$8:$AB$37,2,FALSE) -> 894 | AQ60: =AO60 -> Aluno 22 | AR60: =VLOOKUP(AQ60,$AA$8:$AB$37,2,FALSE) -> 894 | AS60: =AQ60 -> Aluno 22 | AT60: =VLOOKUP(AS60,$AA$8:$AB$37,2,FALSE) -> 894 | AU60: =AS60 -> Aluno 22 | AV60: =VLOOKUP(AU60,$AA$8:$AB$37,2,FALSE) -> 894 | AW60: =AU60 -> Aluno 22 | AX60: =VLOOKUP(AW60,$AA$8:$AB$37,2,FALSE) -> 894 | AY60: =AW60 -> Aluno 22 | AZ60: =VLOOKUP(AY60,$AA$8:$AB$37,2,FALSE) -> 894 | BA60: =AY60 -> Aluno 22 | BB60: =VLOOKUP(BA60,$AA$8:$AB$37,2,FALSE) -> 894 | BC60: =BA60 -> Aluno 22 | BD60: =VLOOKUP(BC60,$AA$8:$AB$37,2,FALSE) -> 894 | BE60: =BC60 -> Aluno 22 | BF60: =VLOOKUP(BE60,$AA$8:$AB$37,2,FALSE) -> 894 | BG60: =BE60 -> Aluno 22 | BH60: =VLOOKUP(BG60,$AA$8:$AB$37,2,FALSE) -> 894 | BI60: =BG60 -> Aluno 22 | BJ60: =VLOOKUP(BI60,$AA$8:$AB$37,2,FALSE) -> 894 | BK60: =BI60 -> Aluno 22 | BL60: =VLOOKUP(BK60,$AA$8:$AB$37,2,FALSE) -> 894 | BM60: =BK60 -> Aluno 22 | BN60: =VLOOKUP(BM60,$AA$8:$AB$37,2,FALSE) -> 894 | BO60: =BM60 -> Aluno 22 | BP60: =VLOOKUP(BO60,$AA$8:$AB$37,2,FALSE) -> 894 | BQ60: =IF(BP60<=BP39,BO60,BO39) -> Aluno 21 | BR60: =VLOOKUP(BQ60,$AA$8:$AB$37,2,FALSE) -> 891 | BS60: =BQ60 -> Aluno 21 | BT60: =VLOOKUP(BS60,$AA$8:$AB$37,2,FALSE) -> 891 | BU60: =BS60 -> Aluno 21 | BV60: =VLOOKUP(BU60,$AA$8:$AB$37,2,FALSE) -> 891 | BW60: =BU60 -> Aluno 21 | BX60: =VLOOKUP(BW60,$AA$8:$AB$37,2,FALSE) -> 891 | BY60: =BW60 -> Aluno 21 | BZ60: =VLOOKUP(BY60,$AA$8:$AB$37,2,FALSE) -> 891 | CA60: =BY60 -> Aluno 21 | CB60: =VLOOKUP(CA60,$AA$8:$AB$37,2,FALSE) -> 891 | CC60: =CA60 -> Aluno 21 | CD60: =VLOOKUP(CC60,$AA$8:$AB$37,2,FALSE) -> 891 | CE60: =CC60 -> Aluno 21 | CF60: =VLOOKUP(CE60,$AA$8:$AB$37,2,FALSE) -> 891
AA61: =CG31 -> Aluno 23 | AB61: =CH31 -> 897 | AC61: =AA61 -> Aluno 23 | AD61: =VLOOKUP(AC61,$AA$8:$AB$37,2,FALSE) -> 897 | AE61: =AC61 -> Aluno 23 | AF61: =VLOOKUP(AE61,$AA$8:$AB$37,2,FALSE) -> 897 | AG61: =AE61 -> Aluno 23 | AH61: =VLOOKUP(AG61,$AA$8:$AB$37,2,FALSE) -> 897 | AI61: =AG61 -> Aluno 23 | AJ61: =VLOOKUP(AI61,$AA$8:$AB$37,2,FALSE) -> 897 | AK61: =AI61 -> Aluno 23 | AL61: =VLOOKUP(AK61,$AA$8:$AB$37,2,FALSE) -> 897 | AM61: =AK61 -> Aluno 23 | AN61: =VLOOKUP(AM61,$AA$8:$AB$37,2,FALSE) -> 897 | AO61: =AM61 -> Aluno 23 | AP61: =VLOOKUP(AO61,$AA$8:$AB$37,2,FALSE) -> 897 | AQ61: =AO61 -> Aluno 23 | AR61: =VLOOKUP(AQ61,$AA$8:$AB$37,2,FALSE) -> 897 | AS61: =AQ61 -> Aluno 23 | AT61: =VLOOKUP(AS61,$AA$8:$AB$37,2,FALSE) -> 897 | AU61: =AS61 -> Aluno 23 | AV61: =VLOOKUP(AU61,$AA$8:$AB$37,2,FALSE) -> 897 | AW61: =AU61 -> Aluno 23 | AX61: =VLOOKUP(AW61,$AA$8:$AB$37,2,FALSE) -> 897 | AY61: =AW61 -> Aluno 23 | AZ61: =VLOOKUP(AY61,$AA$8:$AB$37,2,FALSE) -> 897 | BA61: =AY61 -> Aluno 23 | BB61: =VLOOKUP(BA61,$AA$8:$AB$37,2,FALSE) -> 897 | BC61: =BA61 -> Aluno 23 | BD61: =VLOOKUP(BC61,$AA$8:$AB$37,2,FALSE) -> 897 | BE61: =BC61 -> Aluno 23 | BF61: =VLOOKUP(BE61,$AA$8:$AB$37,2,FALSE) -> 897 | BG61: =BE61 -> Aluno 23 | BH61: =VLOOKUP(BG61,$AA$8:$AB$37,2,FALSE) -> 897 | BI61: =BG61 -> Aluno 23 | BJ61: =VLOOKUP(BI61,$AA$8:$AB$37,2,FALSE) -> 897 | BK61: =BI61 -> Aluno 23 | BL61: =VLOOKUP(BK61,$AA$8:$AB$37,2,FALSE) -> 897 | BM61: =BK61 -> Aluno 23 | BN61: =VLOOKUP(BM61,$AA$8:$AB$37,2,FALSE) -> 897 | BO61: =BM61 -> Aluno 23 | BP61: =VLOOKUP(BO61,$AA$8:$AB$37,2,FALSE) -> 897 | BQ61: =BO61 -> Aluno 23 | BR61: =VLOOKUP(BQ61,$AA$8:$AB$37,2,FALSE) -> 897 | BS61: =IF(BR61<=BR39,BQ61,BQ39) -> Aluno 22 | BT61: =VLOOKUP(BS61,$AA$8:$AB$37,2,FALSE) -> 894 | BU61: =BS61 -> Aluno 22 | BV61: =VLOOKUP(BU61,$AA$8:$AB$37,2,FALSE) -> 894 | BW61: =BU61 -> Aluno 22 | BX61: =VLOOKUP(BW61,$AA$8:$AB$37,2,FALSE) -> 894 | BY61: =BW61 -> Aluno 22 | BZ61: =VLOOKUP(BY61,$AA$8:$AB$37,2,FALSE) -> 894 | CA61: =BY61 -> Aluno 22 | CB61: =VLOOKUP(CA61,$AA$8:$AB$37,2,FALSE) -> 894 | CC61: =CA61 -> Aluno 22 | CD61: =VLOOKUP(CC61,$AA$8:$AB$37,2,FALSE) -> 894 | CE61: =CC61 -> Aluno 22 | CF61: =VLOOKUP(CE61,$AA$8:$AB$37,2,FALSE) -> 894
AA62: =CG32 -> Aluno 24 | AB62: =CH32 -> 900 | AC62: =AA62 -> Aluno 24 | AD62: =VLOOKUP(AC62,$AA$8:$AB$37,2,FALSE) -> 900 | AE62: =AC62 -> Aluno 24 | AF62: =VLOOKUP(AE62,$AA$8:$AB$37,2,FALSE) -> 900 | AG62: =AE62 -> Aluno 24 | AH62: =VLOOKUP(AG62,$AA$8:$AB$37,2,FALSE) -> 900 | AI62: =AG62 -> Aluno 24 | AJ62: =VLOOKUP(AI62,$AA$8:$AB$37,2,FALSE) -> 900 | AK62: =AI62 -> Aluno 24 | AL62: =VLOOKUP(AK62,$AA$8:$AB$37,2,FALSE) -> 900 | AM62: =AK62 -> Aluno 24 | AN62: =VLOOKUP(AM62,$AA$8:$AB$37,2,FALSE) -> 900 | AO62: =AM62 -> Aluno 24 | AP62: =VLOOKUP(AO62,$AA$8:$AB$37,2,FALSE) -> 900 | AQ62: =AO62 -> Aluno 24 | AR62: =VLOOKUP(AQ62,$AA$8:$AB$37,2,FALSE) -> 900 | AS62: =AQ62 -> Aluno 24 | AT62: =VLOOKUP(AS62,$AA$8:$AB$37,2,FALSE) -> 900 | AU62: =AS62 -> Aluno 24 | AV62: =VLOOKUP(AU62,$AA$8:$AB$37,2,FALSE) -> 900 | AW62: =AU62 -> Aluno 24 | AX62: =VLOOKUP(AW62,$AA$8:$AB$37,2,FALSE) -> 900 | AY62: =AW62 -> Aluno 24 | AZ62: =VLOOKUP(AY62,$AA$8:$AB$37,2,FALSE) -> 900 | BA62: =AY62 -> Aluno 24 | BB62: =VLOOKUP(BA62,$AA$8:$AB$37,2,FALSE) -> 900 | BC62: =BA62 -> Aluno 24 | BD62: =VLOOKUP(BC62,$AA$8:$AB$37,2,FALSE) -> 900 | BE62: =BC62 -> Aluno 24 | BF62: =VLOOKUP(BE62,$AA$8:$AB$37,2,FALSE) -> 900 | BG62: =BE62 -> Aluno 24 | BH62: =VLOOKUP(BG62,$AA$8:$AB$37,2,FALSE) -> 900 | BI62: =BG62 -> Aluno 24 | BJ62: =VLOOKUP(BI62,$AA$8:$AB$37,2,FALSE) -> 900 | BK62: =BI62 -> Aluno 24 | BL62: =VLOOKUP(BK62,$AA$8:$AB$37,2,FALSE) -> 900 | BM62: =BK62 -> Aluno 24 | BN62: =VLOOKUP(BM62,$AA$8:$AB$37,2,FALSE) -> 900 | BO62: =BM62 -> Aluno 24 | BP62: =VLOOKUP(BO62,$AA$8:$AB$37,2,FALSE) -> 900 | BQ62: =BO62 -> Aluno 24 | BR62: =VLOOKUP(BQ62,$AA$8:$AB$37,2,FALSE) -> 900 | BS62: =BQ62 -> Aluno 24 | BT62: =VLOOKUP(BS62,$AA$8:$AB$37,2,FALSE) -> 900 | BU62: =IF(BT62<=BT39,BS62,BS39) -> Aluno 23 | BV62: =VLOOKUP(BU62,$AA$8:$AB$37,2,FALSE) -> 897 | BW62: =BU62 -> Aluno 23 | BX62: =VLOOKUP(BW62,$AA$8:$AB$37,2,FALSE) -> 897 | BY62: =BW62 -> Aluno 23 | BZ62: =VLOOKUP(BY62,$AA$8:$AB$37,2,FALSE) -> 897 | CA62: =BY62 -> Aluno 23 | CB62: =VLOOKUP(CA62,$AA$8:$AB$37,2,FALSE) -> 897 | CC62: =CA62 -> Aluno 23 | CD62: =VLOOKUP(CC62,$AA$8:$AB$37,2,FALSE) -> 897 | CE62: =CC62 -> Aluno 23 | CF62: =VLOOKUP(CE62,$AA$8:$AB$37,2,FALSE) -> 897
AA63: =CG33 -> Aluno 25 | AB63: =CH33 -> 903 | AC63: =AA63 -> Aluno 25 | AD63: =VLOOKUP(AC63,$AA$8:$AB$37,2,FALSE) -> 903 | AE63: =AC63 -> Aluno 25 | AF63: =VLOOKUP(AE63,$AA$8:$AB$37,2,FALSE) -> 903 | AG63: =AE63 -> Aluno 25 | AH63: =VLOOKUP(AG63,$AA$8:$AB$37,2,FALSE) -> 903 | AI63: =AG63 -> Aluno 25 | AJ63: =VLOOKUP(AI63,$AA$8:$AB$37,2,FALSE) -> 903 | AK63: =AI63 -> Aluno 25 | AL63: =VLOOKUP(AK63,$AA$8:$AB$37,2,FALSE) -> 903 | AM63: =AK63 -> Aluno 25 | AN63: =VLOOKUP(AM63,$AA$8:$AB$37,2,FALSE) -> 903 | AO63: =AM63 -> Aluno 25 | AP63: =VLOOKUP(AO63,$AA$8:$AB$37,2,FALSE) -> 903 | AQ63: =AO63 -> Aluno 25 | AR63: =VLOOKUP(AQ63,$AA$8:$AB$37,2,FALSE) -> 903 | AS63: =AQ63 -> Aluno 25 | AT63: =VLOOKUP(AS63,$AA$8:$AB$37,2,FALSE) -> 903 | AU63: =AS63 -> Aluno 25 | AV63: =VLOOKUP(AU63,$AA$8:$AB$37,2,FALSE) -> 903 | AW63: =AU63 -> Aluno 25 | AX63: =VLOOKUP(AW63,$AA$8:$AB$37,2,FALSE) -> 903 | AY63: =AW63 -> Aluno 25 | AZ63: =VLOOKUP(AY63,$AA$8:$AB$37,2,FALSE) -> 903 | BA63: =AY63 -> Aluno 25 | BB63: =VLOOKUP(BA63,$AA$8:$AB$37,2,FALSE) -> 903 | BC63: =BA63 -> Aluno 25 | BD63: =VLOOKUP(BC63,$AA$8:$AB$37,2,FALSE) -> 903 | BE63: =BC63 -> Aluno 25 | BF63: =VLOOKUP(BE63,$AA$8:$AB$37,2,FALSE) -> 903 | BG63: =BE63 -> Aluno 25 | BH63: =VLOOKUP(BG63,$AA$8:$AB$37,2,FALSE) -> 903 | BI63: =BG63 -> Aluno 25 | BJ63: =VLOOKUP(BI63,$AA$8:$AB$37,2,FALSE) -> 903 | BK63: =BI63 -> Aluno 25 | BL63: =VLOOKUP(BK63,$AA$8:$AB$37,2,FALSE) -> 903 | BM63: =BK63 -> Aluno 25 | BN63: =VLOOKUP(BM63,$AA$8:$AB$37,2,FALSE) -> 903 | BO63: =BM63 -> Aluno 25 | BP63: =VLOOKUP(BO63,$AA$8:$AB$37,2,FALSE) -> 903 | BQ63: =BO63 -> Aluno 25 | BR63: =VLOOKUP(BQ63,$AA$8:$AB$37,2,FALSE) -> 903 | BS63: =BQ63 -> Aluno 25 | BT63: =VLOOKUP(BS63,$AA$8:$AB$37,2,FALSE) -> 903 | BU63: =BS63 -> Aluno 25 | BV63: =VLOOKUP(BU63,$AA$8:$AB$37,2,FALSE) -> 903 | BW63: =IF(BV63<=BV39,BU63,BU39) -> Aluno 24 | BX63: =VLOOKUP(BW63,$AA$8:$AB$37,2,FALSE) -> 900 | BY63: =BW63 -> Aluno 24 | BZ63: =VLOOKUP(BY63,$AA$8:$AB$37,2,FALSE) -> 900 | CA63: =BY63 -> Aluno 24 | CB63: =VLOOKUP(CA63,$AA$8:$AB$37,2,FALSE) -> 900 | CC63: =CA63 -> Aluno 24 | CD63: =VLOOKUP(CC63,$AA$8:$AB$37,2,FALSE) -> 900 | CE63: =CC63 -> Aluno 24 | CF63: =VLOOKUP(CE63,$AA$8:$AB$37,2,FALSE) -> 900
AA64: =CG34 -> Aluno 26 | AB64: =CH34 -> 906 | AC64: =AA64 -> Aluno 26 | AD64: =VLOOKUP(AC64,$AA$8:$AB$37,2,FALSE) -> 906 | AE64: =AC64 -> Aluno 26 | AF64: =VLOOKUP(AE64,$AA$8:$AB$37,2,FALSE) -> 906 | AG64: =AE64 -> Aluno 26 | AH64: =VLOOKUP(AG64,$AA$8:$AB$37,2,FALSE) -> 906 | AI64: =AG64 -> Aluno 26 | AJ64: =VLOOKUP(AI64,$AA$8:$AB$37,2,FALSE) -> 906 | AK64: =AI64 -> Aluno 26 | AL64: =VLOOKUP(AK64,$AA$8:$AB$37,2,FALSE) -> 906 | AM64: =AK64 -> Aluno 26 | AN64: =VLOOKUP(AM64,$AA$8:$AB$37,2,FALSE) -> 906 | AO64: =AM64 -> Aluno 26 | AP64: =VLOOKUP(AO64,$AA$8:$AB$37,2,FALSE) -> 906 | AQ64: =AO64 -> Aluno 26 | AR64: =VLOOKUP(AQ64,$AA$8:$AB$37,2,FALSE) -> 906 | AS64: =AQ64 -> Aluno 26 | AT64: =VLOOKUP(AS64,$AA$8:$AB$37,2,FALSE) -> 906 | AU64: =AS64 -> Aluno 26 | AV64: =VLOOKUP(AU64,$AA$8:$AB$37,2,FALSE) -> 906 | AW64: =AU64 -> Aluno 26 | AX64: =VLOOKUP(AW64,$AA$8:$AB$37,2,FALSE) -> 906 | AY64: =AW64 -> Aluno 26 | AZ64: =VLOOKUP(AY64,$AA$8:$AB$37,2,FALSE) -> 906 | BA64: =AY64 -> Aluno 26 | BB64: =VLOOKUP(BA64,$AA$8:$AB$37,2,FALSE) -> 906 | BC64: =BA64 -> Aluno 26 | BD64: =VLOOKUP(BC64,$AA$8:$AB$37,2,FALSE) -> 906 | BE64: =BC64 -> Aluno 26 | BF64: =VLOOKUP(BE64,$AA$8:$AB$37,2,FALSE) -> 906 | BG64: =BE64 -> Aluno 26 | BH64: =VLOOKUP(BG64,$AA$8:$AB$37,2,FALSE) -> 906 | BI64: =BG64 -> Aluno 26 | BJ64: =VLOOKUP(BI64,$AA$8:$AB$37,2,FALSE) -> 906 | BK64: =BI64 -> Aluno 26 | BL64: =VLOOKUP(BK64,$AA$8:$AB$37,2,FALSE) -> 906 | BM64: =BK64 -> Aluno 26 | BN64: =VLOOKUP(BM64,$AA$8:$AB$37,2,FALSE) -> 906 | BO64: =BM64 -> Aluno 26 | BP64: =VLOOKUP(BO64,$AA$8:$AB$37,2,FALSE) -> 906 | BQ64: =BO64 -> Aluno 26 | BR64: =VLOOKUP(BQ64,$AA$8:$AB$37,2,FALSE) -> 906 | BS64: =BQ64 -> Aluno 26 | BT64: =VLOOKUP(BS64,$AA$8:$AB$37,2,FALSE) -> 906 | BU64: =BS64 -> Aluno 26 | BV64: =VLOOKUP(BU64,$AA$8:$AB$37,2,FALSE) -> 906 | BW64: =BU64 -> Aluno 26 | BX64: =VLOOKUP(BW64,$AA$8:$AB$37,2,FALSE) -> 906 | BY64: =IF(BX64<=BX39,BW64,BW39) -> Aluno 25 | BZ64: =VLOOKUP(BY64,$AA$8:$AB$37,2,FALSE) -> 903 | CA64: =BY64 -> Aluno 25 | CB64: =VLOOKUP(CA64,$AA$8:$AB$37,2,FALSE) -> 903 | CC64: =CA64 -> Aluno 25 | CD64: =VLOOKUP(CC64,$AA$8:$AB$37,2,FALSE) -> 903 | CE64: =CC64 -> Aluno 25 | CF64: =VLOOKUP(CE64,$AA$8:$AB$37,2,FALSE) -> 903
AA65: =CG35 -> Aluno 27 | AB65: =CH35 -> 909 | AC65: =AA65 -> Aluno 27 | AD65: =VLOOKUP(AC65,$AA$8:$AB$37,2,FALSE) -> 909 | AE65: =AC65 -> Aluno 27 | AF65: =VLOOKUP(AE65,$AA$8:$AB$37,2,FALSE) -> 909 | AG65: =AE65 -> Aluno 27 | AH65: =VLOOKUP(AG65,$AA$8:$AB$37,2,FALSE) -> 909 | AI65: =AG65 -> Aluno 27 | AJ65: =VLOOKUP(AI65,$AA$8:$AB$37,2,FALSE) -> 909 | AK65: =AI65 -> Aluno 27 | AL65: =VLOOKUP(AK65,$AA$8:$AB$37,2,FALSE) -> 909 | AM65: =AK65 -> Aluno 27 | AN65: =VLOOKUP(AM65,$AA$8:$AB$37,2,FALSE) -> 909 | AO65: =AM65 -> Aluno 27 | AP65: =VLOOKUP(AO65,$AA$8:$AB$37,2,FALSE) -> 909 | AQ65: =AO65 -> Aluno 27 | AR65: =VLOOKUP(AQ65,$AA$8:$AB$37,2,FALSE) -> 909 | AS65: =AQ65 -> Aluno 27 | AT65: =VLOOKUP(AS65,$AA$8:$AB$37,2,FALSE) -> 909 | AU65: =AS65 -> Aluno 27 | AV65: =VLOOKUP(AU65,$AA$8:$AB$37,2,FALSE) -> 909 | AW65: =AU65 -> Aluno 27 | AX65: =VLOOKUP(AW65,$AA$8:$AB$37,2,FALSE) -> 909 | AY65: =AW65 -> Aluno 27 | AZ65: =VLOOKUP(AY65,$AA$8:$AB$37,2,FALSE) -> 909 | BA65: =AY65 -> Aluno 27 | BB65: =VLOOKUP(BA65,$AA$8:$AB$37,2,FALSE) -> 909 | BC65: =BA65 -> Aluno 27 | BD65: =VLOOKUP(BC65,$AA$8:$AB$37,2,FALSE) -> 909 | BE65: =BC65 -> Aluno 27 | BF65: =VLOOKUP(BE65,$AA$8:$AB$37,2,FALSE) -> 909 | BG65: =BE65 -> Aluno 27 | BH65: =VLOOKUP(BG65,$AA$8:$AB$37,2,FALSE) -> 909 | BI65: =BG65 -> Aluno 27 | BJ65: =VLOOKUP(BI65,$AA$8:$AB$37,2,FALSE) -> 909 | BK65: =BI65 -> Aluno 27 | BL65: =VLOOKUP(BK65,$AA$8:$AB$37,2,FALSE) -> 909 | BM65: =BK65 -> Aluno 27 | BN65: =VLOOKUP(BM65,$AA$8:$AB$37,2,FALSE) -> 909 | BO65: =BM65 -> Aluno 27 | BP65: =VLOOKUP(BO65,$AA$8:$AB$37,2,FALSE) -> 909 | BQ65: =BO65 -> Aluno 27 | BR65: =VLOOKUP(BQ65,$AA$8:$AB$37,2,FALSE) -> 909 | BS65: =BQ65 -> Aluno 27 | BT65: =VLOOKUP(BS65,$AA$8:$AB$37,2,FALSE) -> 909 | BU65: =BS65 -> Aluno 27 | BV65: =VLOOKUP(BU65,$AA$8:$AB$37,2,FALSE) -> 909 | BW65: =BU65 -> Aluno 27 | BX65: =VLOOKUP(BW65,$AA$8:$AB$37,2,FALSE) -> 909 | BY65: =BW65 -> Aluno 27 | BZ65: =VLOOKUP(BY65,$AA$8:$AB$37,2,FALSE) -> 909 | CA65: =IF(BZ65<=BZ39,BY65,BY39) -> Aluno 26 | CB65: =VLOOKUP(CA65,$AA$8:$AB$37,2,FALSE) -> 906 | CC65: =CA65 -> Aluno 26 | CD65: =VLOOKUP(CC65,$AA$8:$AB$37,2,FALSE) -> 906 | CE65: =CC65 -> Aluno 26 | CF65: =VLOOKUP(CE65,$AA$8:$AB$37,2,FALSE) -> 906
AA66: =CG36 -> Aluno 28 | AB66: =CH36 -> 912 | AC66: =AA66 -> Aluno 28 | AD66: =VLOOKUP(AC66,$AA$8:$AB$37,2,FALSE) -> 912 | AE66: =AC66 -> Aluno 28 | AF66: =VLOOKUP(AE66,$AA$8:$AB$37,2,FALSE) -> 912 | AG66: =AE66 -> Aluno 28 | AH66: =VLOOKUP(AG66,$AA$8:$AB$37,2,FALSE) -> 912 | AI66: =AG66 -> Aluno 28 | AJ66: =VLOOKUP(AI66,$AA$8:$AB$37,2,FALSE) -> 912 | AK66: =AI66 -> Aluno 28 | AL66: =VLOOKUP(AK66,$AA$8:$AB$37,2,FALSE) -> 912 | AM66: =AK66 -> Aluno 28 | AN66: =VLOOKUP(AM66,$AA$8:$AB$37,2,FALSE) -> 912 | AO66: =AM66 -> Aluno 28 | AP66: =VLOOKUP(AO66,$AA$8:$AB$37,2,FALSE) -> 912 | AQ66: =AO66 -> Aluno 28 | AR66: =VLOOKUP(AQ66,$AA$8:$AB$37,2,FALSE) -> 912 | AS66: =AQ66 -> Aluno 28 | AT66: =VLOOKUP(AS66,$AA$8:$AB$37,2,FALSE) -> 912 | AU66: =AS66 -> Aluno 28 | AV66: =VLOOKUP(AU66,$AA$8:$AB$37,2,FALSE) -> 912 | AW66: =AU66 -> Aluno 28 | AX66: =VLOOKUP(AW66,$AA$8:$AB$37,2,FALSE) -> 912 | AY66: =AW66 -> Aluno 28 | AZ66: =VLOOKUP(AY66,$AA$8:$AB$37,2,FALSE) -> 912 | BA66: =AY66 -> Aluno 28 | BB66: =VLOOKUP(BA66,$AA$8:$AB$37,2,FALSE) -> 912 | BC66: =BA66 -> Aluno 28 | BD66: =VLOOKUP(BC66,$AA$8:$AB$37,2,FALSE) -> 912 | BE66: =BC66 -> Aluno 28 | BF66: =VLOOKUP(BE66,$AA$8:$AB$37,2,FALSE) -> 912 | BG66: =BE66 -> Aluno 28 | BH66: =VLOOKUP(BG66,$AA$8:$AB$37,2,FALSE) -> 912 | BI66: =BG66 -> Aluno 28 | BJ66: =VLOOKUP(BI66,$AA$8:$AB$37,2,FALSE) -> 912 | BK66: =BI66 -> Aluno 28 | BL66: =VLOOKUP(BK66,$AA$8:$AB$37,2,FALSE) -> 912 | BM66: =BK66 -> Aluno 28 | BN66: =VLOOKUP(BM66,$AA$8:$AB$37,2,FALSE) -> 912 | BO66: =BM66 -> Aluno 28 | BP66: =VLOOKUP(BO66,$AA$8:$AB$37,2,FALSE) -> 912 | BQ66: =BO66 -> Aluno 28 | BR66: =VLOOKUP(BQ66,$AA$8:$AB$37,2,FALSE) -> 912 | BS66: =BQ66 -> Aluno 28 | BT66: =VLOOKUP(BS66,$AA$8:$AB$37,2,FALSE) -> 912 | BU66: =BS66 -> Aluno 28 | BV66: =VLOOKUP(BU66,$AA$8:$AB$37,2,FALSE) -> 912 | BW66: =BU66 -> Aluno 28 | BX66: =VLOOKUP(BW66,$AA$8:$AB$37,2,FALSE) -> 912 | BY66: =BW66 -> Aluno 28 | BZ66: =VLOOKUP(BY66,$AA$8:$AB$37,2,FALSE) -> 912 | CA66: =BY66 -> Aluno 28 | CB66: =VLOOKUP(CA66,$AA$8:$AB$37,2,FALSE) -> 912 | CC66: =IF(CB66<=CB39,CA66,CA39) -> Aluno 27 | CD66: =VLOOKUP(CC66,$AA$8:$AB$37,2,FALSE) -> 909 | CE66: =CC66 -> Aluno 27 | CF66: =VLOOKUP(CE66,$AA$8:$AB$37,2,FALSE) -> 909
AA67: =CG37 -> Aluno 29 | AB67: =CH37 -> 915 | AC67: =AA67 -> Aluno 29 | AD67: =VLOOKUP(AC67,$AA$8:$AB$37,2,FALSE) -> 915 | AE67: =AC67 -> Aluno 29 | AF67: =VLOOKUP(AE67,$AA$8:$AB$37,2,FALSE) -> 915 | AG67: =AE67 -> Aluno 29 | AH67: =VLOOKUP(AG67,$AA$8:$AB$37,2,FALSE) -> 915 | AI67: =AG67 -> Aluno 29 | AJ67: =VLOOKUP(AI67,$AA$8:$AB$37,2,FALSE) -> 915 | AK67: =AI67 -> Aluno 29 | AL67: =VLOOKUP(AK67,$AA$8:$AB$37,2,FALSE) -> 915 | AM67: =AK67 -> Aluno 29 | AN67: =VLOOKUP(AM67,$AA$8:$AB$37,2,FALSE) -> 915 | AO67: =AM67 -> Aluno 29 | AP67: =VLOOKUP(AO67,$AA$8:$AB$37,2,FALSE) -> 915 | AQ67: =AO67 -> Aluno 29 | AR67: =VLOOKUP(AQ67,$AA$8:$AB$37,2,FALSE) -> 915 | AS67: =AQ67 -> Aluno 29 | AT67: =VLOOKUP(AS67,$AA$8:$AB$37,2,FALSE) -> 915 | AU67: =AS67 -> Aluno 29 | AV67: =VLOOKUP(AU67,$AA$8:$AB$37,2,FALSE) -> 915 | AW67: =AU67 -> Aluno 29 | AX67: =VLOOKUP(AW67,$AA$8:$AB$37,2,FALSE) -> 915 | AY67: =AW67 -> Aluno 29 | AZ67: =VLOOKUP(AY67,$AA$8:$AB$37,2,FALSE) -> 915 | BA67: =AY67 -> Aluno 29 | BB67: =VLOOKUP(BA67,$AA$8:$AB$37,2,FALSE) -> 915 | BC67: =BA67 -> Aluno 29 | BD67: =VLOOKUP(BC67,$AA$8:$AB$37,2,FALSE) -> 915 | BE67: =BC67 -> Aluno 29 | BF67: =VLOOKUP(BE67,$AA$8:$AB$37,2,FALSE) -> 915 | BG67: =BE67 -> Aluno 29 | BH67: =VLOOKUP(BG67,$AA$8:$AB$37,2,FALSE) -> 915 | BI67: =BG67 -> Aluno 29 | BJ67: =VLOOKUP(BI67,$AA$8:$AB$37,2,FALSE) -> 915 | BK67: =BI67 -> Aluno 29 | BL67: =VLOOKUP(BK67,$AA$8:$AB$37,2,FALSE) -> 915 | BM67: =BK67 -> Aluno 29 | BN67: =VLOOKUP(BM67,$AA$8:$AB$37,2,FALSE) -> 915 | BO67: =BM67 -> Aluno 29 | BP67: =VLOOKUP(BO67,$AA$8:$AB$37,2,FALSE) -> 915 | BQ67: =BO67 -> Aluno 29 | BR67: =VLOOKUP(BQ67,$AA$8:$AB$37,2,FALSE) -> 915 | BS67: =BQ67 -> Aluno 29 | BT67: =VLOOKUP(BS67,$AA$8:$AB$37,2,FALSE) -> 915 | BU67: =BS67 -> Aluno 29 | BV67: =VLOOKUP(BU67,$AA$8:$AB$37,2,FALSE) -> 915 | BW67: =BU67 -> Aluno 29 | BX67: =VLOOKUP(BW67,$AA$8:$AB$37,2,FALSE) -> 915 | BY67: =BW67 -> Aluno 29 | BZ67: =VLOOKUP(BY67,$AA$8:$AB$37,2,FALSE) -> 915 | CA67: =BY67 -> Aluno 29 | CB67: =VLOOKUP(CA67,$AA$8:$AB$37,2,FALSE) -> 915 | CC67: =CA67 -> Aluno 29 | CD67: =VLOOKUP(CC67,$AA$8:$AB$37,2,FALSE) -> 915 | CE67: =IF(CD67<=CD39,CC67,CC39) -> Aluno 28 | CF67: =VLOOKUP(CE67,$AA$8:$AB$37,2,FALSE) -> 912
AA69: =CE40 -> Aluno 1 | AB69: =CF40 -> 831 | AC69: =IF(AB69>=AB70,AA69,AA70) -> Aluno 2 | AD69: =VLOOKUP(AC69,$AA$8:$AB$37,2,FALSE) -> 834 | AE69: =IF(AD69>=AD71,AC69,AC71) -> Aluno 3 | AF69: =VLOOKUP(AE69,$AA$8:$AB$37,2,FALSE) -> 837 | AG69: =IF(AF69>=AF72,AE69,AE72) -> Aluno 4 | AH69: =VLOOKUP(AG69,$AA$8:$AB$37,2,FALSE) -> 840 | AI69: =IF(AH69>=AH73,AG69,AG73) -> Aluno 5 | AJ69: =VLOOKUP(AI69,$AA$8:$AB$37,2,FALSE) -> 843 | AK69: =IF(AJ69>=AJ74,AI69,AI74) -> Aluno 6 | AL69: =VLOOKUP(AK69,$AA$8:$AB$37,2,FALSE) -> 846 | AM69: =IF(AL69>=AL75,AK69,AK75) -> Aluno 7 | AN69: =VLOOKUP(AM69,$AA$8:$AB$37,2,FALSE) -> 849 | AO69: =IF(AN69>=AN76,AM69,AM76) -> Aluno 8 | AP69: =VLOOKUP(AO69,$AA$8:$AB$37,2,FALSE) -> 852 | AQ69: =IF(AP69>=AP77,AO69,AO77) -> Aluno 9 | AR69: =VLOOKUP(AQ69,$AA$8:$AB$37,2,FALSE) -> 855 | AS69: =IF(AR69>=AR78,AQ69,AQ78) -> Aluno 10 | AT69: =VLOOKUP(AS69,$AA$8:$AB$37,2,FALSE) -> 858 | AU69: =IF(AT69>=AT79,AS69,AS79) -> Aluno 11 | AV69: =VLOOKUP(AU69,$AA$8:$AB$37,2,FALSE) -> 861 | AW69: =IF(AV69>=AV80,AU69,AU80) -> Aluno 12 | AX69: =VLOOKUP(AW69,$AA$8:$AB$37,2,FALSE) -> 864 | AY69: =IF(AX69>=AX81,AW69,AW81) -> Aluno 13 | AZ69: =VLOOKUP(AY69,$AA$8:$AB$37,2,FALSE) -> 867 | BA69: =IF(AZ69>=AZ82,AY69,AY82) -> Aluno 14 | BB69: =VLOOKUP(BA69,$AA$8:$AB$37,2,FALSE) -> 870 | BC69: =IF(BB69>=BB83,BA69,BA83) -> Aluno 15 | BD69: =VLOOKUP(BC69,$AA$8:$AB$37,2,FALSE) -> 873 | BE69: =IF(BD69>=BD84,BC69,BC84) -> Aluno 16 | BF69: =VLOOKUP(BE69,$AA$8:$AB$37,2,FALSE) -> 876 | BG69: =IF(BF69>=BF85,BE69,BE85) -> Aluno 17 | BH69: =VLOOKUP(BG69,$AA$8:$AB$37,2,FALSE) -> 879 | BI69: =IF(BH69>=BH86,BG69,BG86) -> Aluno 18 | BJ69: =VLOOKUP(BI69,$AA$8:$AB$37,2,FALSE) -> 882 | BK69: =IF(BJ69>=BJ87,BI69,BI87) -> Aluno 19 | BL69: =VLOOKUP(BK69,$AA$8:$AB$37,2,FALSE) -> 885 | BM69: =IF(BL69>=BL88,BK69,BK88) -> Aluno 20 | BN69: =VLOOKUP(BM69,$AA$8:$AB$37,2,FALSE) -> 888 | BO69: =IF(BN69>=BN89,BM69,BM89) -> Aluno 21 | BP69: =VLOOKUP(BO69,$AA$8:$AB$37,2,FALSE) -> 891 | BQ69: =IF(BP69>=BP90,BO69,BO90) -> Aluno 22 | BR69: =VLOOKUP(BQ69,$AA$8:$AB$37,2,FALSE) -> 894 | BS69: =IF(BR69>=BR91,BQ69,BQ91) -> Aluno 23 | BT69: =VLOOKUP(BS69,$AA$8:$AB$37,2,FALSE) -> 897 | BU69: =IF(BT69>=BT92,BS69,BS92) -> Aluno 24 | BV69: =VLOOKUP(BU69,$AA$8:$AB$37,2,FALSE) -> 900 | BW69: =IF(BV69>=BV93,BU69,BU93) -> Aluno 25 | BX69: =VLOOKUP(BW69,$AA$8:$AB$37,2,FALSE) -> 903 | BY69: =IF(BX69>=BX94,BW69,BW94) -> Aluno 26 | BZ69: =VLOOKUP(BY69,$AA$8:$AB$37,2,FALSE) -> 906 | CA69: =IF(BZ69>=BZ95,BY69,BY95) -> Aluno 27 | CB69: =VLOOKUP(CA69,$AA$8:$AB$37,2,FALSE) -> 909 | CC69: =IF(CB69>=CB96,CA69,CA96) -> Aluno 28 | CD69: =VLOOKUP(CC69,$AA$8:$AB$37,2,FALSE) -> 912
AA70: =CE41 -> Aluno 2 | AB70: =CF41 -> 834 | AC70: =IF(AB70<=AB69,AA70,AA69) -> Aluno 1 | AD70: =VLOOKUP(AC70,$AA$8:$AB$37,2,FALSE) -> 831 | AE70: =AC70 -> Aluno 1 | AF70: =VLOOKUP(AE70,$AA$8:$AB$37,2,FALSE) -> 831 | AG70: =AE70 -> Aluno 1 | AH70: =VLOOKUP(AG70,$AA$8:$AB$37,2,FALSE) -> 831 | AI70: =AG70 -> Aluno 1 | AJ70: =VLOOKUP(AI70,$AA$8:$AB$37,2,FALSE) -> 831 | AK70: =AI70 -> Aluno 1 | AL70: =VLOOKUP(AK70,$AA$8:$AB$37,2,FALSE) -> 831 | AM70: =AK70 -> Aluno 1 | AN70: =VLOOKUP(AM70,$AA$8:$AB$37,2,FALSE) -> 831 | AO70: =AM70 -> Aluno 1 | AP70: =VLOOKUP(AO70,$AA$8:$AB$37,2,FALSE) -> 831 | AQ70: =AO70 -> Aluno 1 | AR70: =VLOOKUP(AQ70,$AA$8:$AB$37,2,FALSE) -> 831 | AS70: =AQ70 -> Aluno 1 | AT70: =VLOOKUP(AS70,$AA$8:$AB$37,2,FALSE) -> 831 | AU70: =AS70 -> Aluno 1 | AV70: =VLOOKUP(AU70,$AA$8:$AB$37,2,FALSE) -> 831 | AW70: =AU70 -> Aluno 1 | AX70: =VLOOKUP(AW70,$AA$8:$AB$37,2,FALSE) -> 831 | AY70: =AW70 -> Aluno 1 | AZ70: =VLOOKUP(AY70,$AA$8:$AB$37,2,FALSE) -> 831 | BA70: =AY70 -> Aluno 1 | BB70: =VLOOKUP(BA70,$AA$8:$AB$37,2,FALSE) -> 831 | BC70: =BA70 -> Aluno 1 | BD70: =VLOOKUP(BC70,$AA$8:$AB$37,2,FALSE) -> 831 | BE70: =BC70 -> Aluno 1 | BF70: =VLOOKUP(BE70,$AA$8:$AB$37,2,FALSE) -> 831 | BG70: =BE70 -> Aluno 1 | BH70: =VLOOKUP(BG70,$AA$8:$AB$37,2,FALSE) -> 831 | BI70: =BG70 -> Aluno 1 | BJ70: =VLOOKUP(BI70,$AA$8:$AB$37,2,FALSE) -> 831 | BK70: =BI70 -> Aluno 1 | BL70: =VLOOKUP(BK70,$AA$8:$AB$37,2,FALSE) -> 831 | BM70: =BK70 -> Aluno 1 | BN70: =VLOOKUP(BM70,$AA$8:$AB$37,2,FALSE) -> 831 | BO70: =BM70 -> Aluno 1 | BP70: =VLOOKUP(BO70,$AA$8:$AB$37,2,FALSE) -> 831 | BQ70: =BO70 -> Aluno 1 | BR70: =VLOOKUP(BQ70,$AA$8:$AB$37,2,FALSE) -> 831 | BS70: =BQ70 -> Aluno 1 | BT70: =VLOOKUP(BS70,$AA$8:$AB$37,2,FALSE) -> 831 | BU70: =BS70 -> Aluno 1 | BV70: =VLOOKUP(BU70,$AA$8:$AB$37,2,FALSE) -> 831 | BW70: =BU70 -> Aluno 1 | BX70: =VLOOKUP(BW70,$AA$8:$AB$37,2,FALSE) -> 831 | BY70: =BW70 -> Aluno 1 | BZ70: =VLOOKUP(BY70,$AA$8:$AB$37,2,FALSE) -> 831 | CA70: =BY70 -> Aluno 1 | CB70: =VLOOKUP(CA70,$AA$8:$AB$37,2,FALSE) -> 831 | CC70: =CA70 -> Aluno 1 | CD70: =VLOOKUP(CC70,$AA$8:$AB$37,2,FALSE) -> 831
AA71: =CE42 -> Aluno 3 | AB71: =CF42 -> 837 | AC71: =AA71 -> Aluno 3 | AD71: =VLOOKUP(AC71,$AA$8:$AB$37,2,FALSE) -> 837 | AE71: =IF(AD71<=AD69,AC71,AC69) -> Aluno 2 | AF71: =VLOOKUP(AE71,$AA$8:$AB$37,2,FALSE) -> 834 | AG71: =AE71 -> Aluno 2 | AH71: =VLOOKUP(AG71,$AA$8:$AB$37,2,FALSE) -> 834 | AI71: =AG71 -> Aluno 2 | AJ71: =VLOOKUP(AI71,$AA$8:$AB$37,2,FALSE) -> 834 | AK71: =AI71 -> Aluno 2 | AL71: =VLOOKUP(AK71,$AA$8:$AB$37,2,FALSE) -> 834 | AM71: =AK71 -> Aluno 2 | AN71: =VLOOKUP(AM71,$AA$8:$AB$37,2,FALSE) -> 834 | AO71: =AM71 -> Aluno 2 | AP71: =VLOOKUP(AO71,$AA$8:$AB$37,2,FALSE) -> 834 | AQ71: =AO71 -> Aluno 2 | AR71: =VLOOKUP(AQ71,$AA$8:$AB$37,2,FALSE) -> 834 | AS71: =AQ71 -> Aluno 2 | AT71: =VLOOKUP(AS71,$AA$8:$AB$37,2,FALSE) -> 834 | AU71: =AS71 -> Aluno 2 | AV71: =VLOOKUP(AU71,$AA$8:$AB$37,2,FALSE) -> 834 | AW71: =AU71 -> Aluno 2 | AX71: =VLOOKUP(AW71,$AA$8:$AB$37,2,FALSE) -> 834 | AY71: =AW71 -> Aluno 2 | AZ71: =VLOOKUP(AY71,$AA$8:$AB$37,2,FALSE) -> 834 | BA71: =AY71 -> Aluno 2 | BB71: =VLOOKUP(BA71,$AA$8:$AB$37,2,FALSE) -> 834 | BC71: =BA71 -> Aluno 2 | BD71: =VLOOKUP(BC71,$AA$8:$AB$37,2,FALSE) -> 834 | BE71: =BC71 -> Aluno 2 | BF71: =VLOOKUP(BE71,$AA$8:$AB$37,2,FALSE) -> 834 | BG71: =BE71 -> Aluno 2 | BH71: =VLOOKUP(BG71,$AA$8:$AB$37,2,FALSE) -> 834 | BI71: =BG71 -> Aluno 2 | BJ71: =VLOOKUP(BI71,$AA$8:$AB$37,2,FALSE) -> 834 | BK71: =BI71 -> Aluno 2 | BL71: =VLOOKUP(BK71,$AA$8:$AB$37,2,FALSE) -> 834 | BM71: =BK71 -> Aluno 2 | BN71: =VLOOKUP(BM71,$AA$8:$AB$37,2,FALSE) -> 834 | BO71: =BM71 -> Aluno 2 | BP71: =VLOOKUP(BO71,$AA$8:$AB$37,2,FALSE) -> 834 | BQ71: =BO71 -> Aluno 2 | BR71: =VLOOKUP(BQ71,$AA$8:$AB$37,2,FALSE) -> 834 | BS71: =BQ71 -> Aluno 2 | BT71: =VLOOKUP(BS71,$AA$8:$AB$37,2,FALSE) -> 834 | BU71: =BS71 -> Aluno 2 | BV71: =VLOOKUP(BU71,$AA$8:$AB$37,2,FALSE) -> 834 | BW71: =BU71 -> Aluno 2 | BX71: =VLOOKUP(BW71,$AA$8:$AB$37,2,FALSE) -> 834 | BY71: =BW71 -> Aluno 2 | BZ71: =VLOOKUP(BY71,$AA$8:$AB$37,2,FALSE) -> 834 | CA71: =BY71 -> Aluno 2 | CB71: =VLOOKUP(CA71,$AA$8:$AB$37,2,FALSE) -> 834 | CC71: =CA71 -> Aluno 2 | CD71: =VLOOKUP(CC71,$AA$8:$AB$37,2,FALSE) -> 834
AA72: =CE43 -> Aluno 4 | AB72: =CF43 -> 840 | AC72: =AA72 -> Aluno 4 | AD72: =VLOOKUP(AC72,$AA$8:$AB$37,2,FALSE) -> 840 | AE72: =AC72 -> Aluno 4 | AF72: =VLOOKUP(AE72,$AA$8:$AB$37,2,FALSE) -> 840 | AG72: =IF(AF72<=AF69,AE72,AE69) -> Aluno 3 | AH72: =VLOOKUP(AG72,$AA$8:$AB$37,2,FALSE) -> 837 | AI72: =AG72 -> Aluno 3 | AJ72: =VLOOKUP(AI72,$AA$8:$AB$37,2,FALSE) -> 837 | AK72: =AI72 -> Aluno 3 | AL72: =VLOOKUP(AK72,$AA$8:$AB$37,2,FALSE) -> 837 | AM72: =AK72 -> Aluno 3 | AN72: =VLOOKUP(AM72,$AA$8:$AB$37,2,FALSE) -> 837 | AO72: =AM72 -> Aluno 3 | AP72: =VLOOKUP(AO72,$AA$8:$AB$37,2,FALSE) -> 837 | AQ72: =AO72 -> Aluno 3 | AR72: =VLOOKUP(AQ72,$AA$8:$AB$37,2,FALSE) -> 837 | AS72: =AQ72 -> Aluno 3 | AT72: =VLOOKUP(AS72,$AA$8:$AB$37,2,FALSE) -> 837 | AU72: =AS72 -> Aluno 3 | AV72: =VLOOKUP(AU72,$AA$8:$AB$37,2,FALSE) -> 837 | AW72: =AU72 -> Aluno 3 | AX72: =VLOOKUP(AW72,$AA$8:$AB$37,2,FALSE) -> 837 | AY72: =AW72 -> Aluno 3 | AZ72: =VLOOKUP(AY72,$AA$8:$AB$37,2,FALSE) -> 837 | BA72: =AY72 -> Aluno 3 | BB72: =VLOOKUP(BA72,$AA$8:$AB$37,2,FALSE) -> 837 | BC72: =BA72 -> Aluno 3 | BD72: =VLOOKUP(BC72,$AA$8:$AB$37,2,FALSE) -> 837 | BE72: =BC72 -> Aluno 3 | BF72: =VLOOKUP(BE72,$AA$8:$AB$37,2,FALSE) -> 837 | BG72: =BE72 -> Aluno 3 | BH72: =VLOOKUP(BG72,$AA$8:$AB$37,2,FALSE) -> 837 | BI72: =BG72 -> Aluno 3 | BJ72: =VLOOKUP(BI72,$AA$8:$AB$37,2,FALSE) -> 837 | BK72: =BI72 -> Aluno 3 | BL72: =VLOOKUP(BK72,$AA$8:$AB$37,2,FALSE) -> 837 | BM72: =BK72 -> Aluno 3 | BN72: =VLOOKUP(BM72,$AA$8:$AB$37,2,FALSE) -> 837 | BO72: =BM72 -> Aluno 3 | BP72: =VLOOKUP(BO72,$AA$8:$AB$37,2,FALSE) -> 837 | BQ72: =BO72 -> Aluno 3 | BR72: =VLOOKUP(BQ72,$AA$8:$AB$37,2,FALSE) -> 837 | BS72: =BQ72 -> Aluno 3 | BT72: =VLOOKUP(BS72,$AA$8:$AB$37,2,FALSE) -> 837 | BU72: =BS72 -> Aluno 3 | BV72: =VLOOKUP(BU72,$AA$8:$AB$37,2,FALSE) -> 837 | BW72: =BU72 -> Aluno 3 | BX72: =VLOOKUP(BW72,$AA$8:$AB$37,2,FALSE) -> 837 | BY72: =BW72 -> Aluno 3 | BZ72: =VLOOKUP(BY72,$AA$8:$AB$37,2,FALSE) -> 837 | CA72: =BY72 -> Aluno 3 | CB72: =VLOOKUP(CA72,$AA$8:$AB$37,2,FALSE) -> 837 | CC72: =CA72 -> Aluno 3 | CD72: =VLOOKUP(CC72,$AA$8:$AB$37,2,FALSE) -> 837
AA73: =CE44 -> Aluno 5 | AB73: =CF44 -> 843 | AC73: =AA73 -> Aluno 5 | AD73: =VLOOKUP(AC73,$AA$8:$AB$37,2,FALSE) -> 843 | AE73: =AC73 -> Aluno 5 | AF73: =VLOOKUP(AE73,$AA$8:$AB$37,2,FALSE) -> 843 | AG73: =AE73 -> Aluno 5 | AH73: =VLOOKUP(AG73,$AA$8:$AB$37,2,FALSE) -> 843 | AI73: =IF(AH73<=AH69,AG73,AG69) -> Aluno 4 | AJ73: =VLOOKUP(AI73,$AA$8:$AB$37,2,FALSE) -> 840 | AK73: =AI73 -> Aluno 4 | AL73: =VLOOKUP(AK73,$AA$8:$AB$37,2,FALSE) -> 840 | AM73: =AK73 -> Aluno 4 | AN73: =VLOOKUP(AM73,$AA$8:$AB$37,2,FALSE) -> 840 | AO73: =AM73 -> Aluno 4 | AP73: =VLOOKUP(AO73,$AA$8:$AB$37,2,FALSE) -> 840 | AQ73: =AO73 -> Aluno 4 | AR73: =VLOOKUP(AQ73,$AA$8:$AB$37,2,FALSE) -> 840 | AS73: =AQ73 -> Aluno 4 | AT73: =VLOOKUP(AS73,$AA$8:$AB$37,2,FALSE) -> 840 | AU73: =AS73 -> Aluno 4 | AV73: =VLOOKUP(AU73,$AA$8:$AB$37,2,FALSE) -> 840 | AW73: =AU73 -> Aluno 4 | AX73: =VLOOKUP(AW73,$AA$8:$AB$37,2,FALSE) -> 840 | AY73: =AW73 -> Aluno 4 | AZ73: =VLOOKUP(AY73,$AA$8:$AB$37,2,FALSE) -> 840 | BA73: =AY73 -> Aluno 4 | BB73: =VLOOKUP(BA73,$AA$8:$AB$37,2,FALSE) -> 840 | BC73: =BA73 -> Aluno 4 | BD73: =VLOOKUP(BC73,$AA$8:$AB$37,2,FALSE) -> 840 | BE73: =BC73 -> Aluno 4 | BF73: =VLOOKUP(BE73,$AA$8:$AB$37,2,FALSE) -> 840 | BG73: =BE73 -> Aluno 4 | BH73: =VLOOKUP(BG73,$AA$8:$AB$37,2,FALSE) -> 840 | BI73: =BG73 -> Aluno 4 | BJ73: =VLOOKUP(BI73,$AA$8:$AB$37,2,FALSE) -> 840 | BK73: =BI73 -> Aluno 4 | BL73: =VLOOKUP(BK73,$AA$8:$AB$37,2,FALSE) -> 840 | BM73: =BK73 -> Aluno 4 | BN73: =VLOOKUP(BM73,$AA$8:$AB$37,2,FALSE) -> 840 | BO73: =BM73 -> Aluno 4 | BP73: =VLOOKUP(BO73,$AA$8:$AB$37,2,FALSE) -> 840 | BQ73: =BO73 -> Aluno 4 | BR73: =VLOOKUP(BQ73,$AA$8:$AB$37,2,FALSE) -> 840 | BS73: =BQ73 -> Aluno 4 | BT73: =VLOOKUP(BS73,$AA$8:$AB$37,2,FALSE) -> 840 | BU73: =BS73 -> Aluno 4 | BV73: =VLOOKUP(BU73,$AA$8:$AB$37,2,FALSE) -> 840 | BW73: =BU73 -> Aluno 4 | BX73: =VLOOKUP(BW73,$AA$8:$AB$37,2,FALSE) -> 840 | BY73: =BW73 -> Aluno 4 | BZ73: =VLOOKUP(BY73,$AA$8:$AB$37,2,FALSE) -> 840 | CA73: =BY73 -> Aluno 4 | CB73: =VLOOKUP(CA73,$AA$8:$AB$37,2,FALSE) -> 840 | CC73: =CA73 -> Aluno 4 | CD73: =VLOOKUP(CC73,$AA$8:$AB$37,2,FALSE) -> 840
AA74: =CE45 -> Aluno 6 | AB74: =CF45 -> 846 | AC74: =AA74 -> Aluno 6 | AD74: =VLOOKUP(AC74,$AA$8:$AB$37,2,FALSE) -> 846 | AE74: =AC74 -> Aluno 6 | AF74: =VLOOKUP(AE74,$AA$8:$AB$37,2,FALSE) -> 846 | AG74: =AE74 -> Aluno 6 | AH74: =VLOOKUP(AG74,$AA$8:$AB$37,2,FALSE) -> 846 | AI74: =AG74 -> Aluno 6 | AJ74: =VLOOKUP(AI74,$AA$8:$AB$37,2,FALSE) -> 846 | AK74: =IF(AJ74<=AJ69,AI74,AI69) -> Aluno 5 | AL74: =VLOOKUP(AK74,$AA$8:$AB$37,2,FALSE) -> 843 | AM74: =AK74 -> Aluno 5 | AN74: =VLOOKUP(AM74,$AA$8:$AB$37,2,FALSE) -> 843 | AO74: =AM74 -> Aluno 5 | AP74: =VLOOKUP(AO74,$AA$8:$AB$37,2,FALSE) -> 843 | AQ74: =AO74 -> Aluno 5 | AR74: =VLOOKUP(AQ74,$AA$8:$AB$37,2,FALSE) -> 843 | AS74: =AQ74 -> Aluno 5 | AT74: =VLOOKUP(AS74,$AA$8:$AB$37,2,FALSE) -> 843 | AU74: =AS74 -> Aluno 5 | AV74: =VLOOKUP(AU74,$AA$8:$AB$37,2,FALSE) -> 843 | AW74: =AU74 -> Aluno 5 | AX74: =VLOOKUP(AW74,$AA$8:$AB$37,2,FALSE) -> 843 | AY74: =AW74 -> Aluno 5 | AZ74: =VLOOKUP(AY74,$AA$8:$AB$37,2,FALSE) -> 843 | BA74: =AY74 -> Aluno 5 | BB74: =VLOOKUP(BA74,$AA$8:$AB$37,2,FALSE) -> 843 | BC74: =BA74 -> Aluno 5 | BD74: =VLOOKUP(BC74,$AA$8:$AB$37,2,FALSE) -> 843 | BE74: =BC74 -> Aluno 5 | BF74: =VLOOKUP(BE74,$AA$8:$AB$37,2,FALSE) -> 843 | BG74: =BE74 -> Aluno 5 | BH74: =VLOOKUP(BG74,$AA$8:$AB$37,2,FALSE) -> 843 | BI74: =BG74 -> Aluno 5 | BJ74: =VLOOKUP(BI74,$AA$8:$AB$37,2,FALSE) -> 843 | BK74: =BI74 -> Aluno 5 | BL74: =VLOOKUP(BK74,$AA$8:$AB$37,2,FALSE) -> 843 | BM74: =BK74 -> Aluno 5 | BN74: =VLOOKUP(BM74,$AA$8:$AB$37,2,FALSE) -> 843 | BO74: =BM74 -> Aluno 5 | BP74: =VLOOKUP(BO74,$AA$8:$AB$37,2,FALSE) -> 843 | BQ74: =BO74 -> Aluno 5 | BR74: =VLOOKUP(BQ74,$AA$8:$AB$37,2,FALSE) -> 843 | BS74: =BQ74 -> Aluno 5 | BT74: =VLOOKUP(BS74,$AA$8:$AB$37,2,FALSE) -> 843 | BU74: =BS74 -> Aluno 5 | BV74: =VLOOKUP(BU74,$AA$8:$AB$37,2,FALSE) -> 843 | BW74: =BU74 -> Aluno 5 | BX74: =VLOOKUP(BW74,$AA$8:$AB$37,2,FALSE) -> 843 | BY74: =BW74 -> Aluno 5 | BZ74: =VLOOKUP(BY74,$AA$8:$AB$37,2,FALSE) -> 843 | CA74: =BY74 -> Aluno 5 | CB74: =VLOOKUP(CA74,$AA$8:$AB$37,2,FALSE) -> 843 | CC74: =CA74 -> Aluno 5 | CD74: =VLOOKUP(CC74,$AA$8:$AB$37,2,FALSE) -> 843
AA75: =CE46 -> Aluno 7 | AB75: =CF46 -> 849 | AC75: =AA75 -> Aluno 7 | AD75: =VLOOKUP(AC75,$AA$8:$AB$37,2,FALSE) -> 849 | AE75: =AC75 -> Aluno 7 | AF75: =VLOOKUP(AE75,$AA$8:$AB$37,2,FALSE) -> 849 | AG75: =AE75 -> Aluno 7 | AH75: =VLOOKUP(AG75,$AA$8:$AB$37,2,FALSE) -> 849 | AI75: =AG75 -> Aluno 7 | AJ75: =VLOOKUP(AI75,$AA$8:$AB$37,2,FALSE) -> 849 | AK75: =AI75 -> Aluno 7 | AL75: =VLOOKUP(AK75,$AA$8:$AB$37,2,FALSE) -> 849 | AM75: =IF(AL75<=AL69,AK75,AK69) -> Aluno 6 | AN75: =VLOOKUP(AM75,$AA$8:$AB$37,2,FALSE) -> 846 | AO75: =AM75 -> Aluno 6 | AP75: =VLOOKUP(AO75,$AA$8:$AB$37,2,FALSE) -> 846 | AQ75: =AO75 -> Aluno 6 | AR75: =VLOOKUP(AQ75,$AA$8:$AB$37,2,FALSE) -> 846 | AS75: =AQ75 -> Aluno 6 | AT75: =VLOOKUP(AS75,$AA$8:$AB$37,2,FALSE) -> 846 | AU75: =AS75 -> Aluno 6 | AV75: =VLOOKUP(AU75,$AA$8:$AB$37,2,FALSE) -> 846 | AW75: =AU75 -> Aluno 6 | AX75: =VLOOKUP(AW75,$AA$8:$AB$37,2,FALSE) -> 846 | AY75: =AW75 -> Aluno 6 | AZ75: =VLOOKUP(AY75,$AA$8:$AB$37,2,FALSE) -> 846 | BA75: =AY75 -> Aluno 6 | BB75: =VLOOKUP(BA75,$AA$8:$AB$37,2,FALSE) -> 846 | BC75: =BA75 -> Aluno 6 | BD75: =VLOOKUP(BC75,$AA$8:$AB$37,2,FALSE) -> 846 | BE75: =BC75 -> Aluno 6 | BF75: =VLOOKUP(BE75,$AA$8:$AB$37,2,FALSE) -> 846 | BG75: =BE75 -> Aluno 6 | BH75: =VLOOKUP(BG75,$AA$8:$AB$37,2,FALSE) -> 846 | BI75: =BG75 -> Aluno 6 | BJ75: =VLOOKUP(BI75,$AA$8:$AB$37,2,FALSE) -> 846 | BK75: =BI75 -> Aluno 6 | BL75: =VLOOKUP(BK75,$AA$8:$AB$37,2,FALSE) -> 846 | BM75: =BK75 -> Aluno 6 | BN75: =VLOOKUP(BM75,$AA$8:$AB$37,2,FALSE) -> 846 | BO75: =BM75 -> Aluno 6 | BP75: =VLOOKUP(BO75,$AA$8:$AB$37,2,FALSE) -> 846 | BQ75: =BO75 -> Aluno 6 | BR75: =VLOOKUP(BQ75,$AA$8:$AB$37,2,FALSE) -> 846 | BS75: =BQ75 -> Aluno 6 | BT75: =VLOOKUP(BS75,$AA$8:$AB$37,2,FALSE) -> 846 | BU75: =BS75 -> Aluno 6 | BV75: =VLOOKUP(BU75,$AA$8:$AB$37,2,FALSE) -> 846 | BW75: =BU75 -> Aluno 6 | BX75: =VLOOKUP(BW75,$AA$8:$AB$37,2,FALSE) -> 846 | BY75: =BW75 -> Aluno 6 | BZ75: =VLOOKUP(BY75,$AA$8:$AB$37,2,FALSE) -> 846 | CA75: =BY75 -> Aluno 6 | CB75: =VLOOKUP(CA75,$AA$8:$AB$37,2,FALSE) -> 846 | CC75: =CA75 -> Aluno 6 | CD75: =VLOOKUP(CC75,$AA$8:$AB$37,2,FALSE) -> 846
AA76: =CE47 -> Aluno 8 | AB76: =CF47 -> 852 | AC76: =AA76 -> Aluno 8 | AD76: =VLOOKUP(AC76,$AA$8:$AB$37,2,FALSE) -> 852 | AE76: =AC76 -> Aluno 8 | AF76: =VLOOKUP(AE76,$AA$8:$AB$37,2,FALSE) -> 852 | AG76: =AE76 -> Aluno 8 | AH76: =VLOOKUP(AG76,$AA$8:$AB$37,2,FALSE) -> 852 | AI76: =AG76 -> Aluno 8 | AJ76: =VLOOKUP(AI76,$AA$8:$AB$37,2,FALSE) -> 852 | AK76: =AI76 -> Aluno 8 | AL76: =VLOOKUP(AK76,$AA$8:$AB$37,2,FALSE) -> 852 | AM76: =AK76 -> Aluno 8 | AN76: =VLOOKUP(AM76,$AA$8:$AB$37,2,FALSE) -> 852 | AO76: =IF(AN76<=AN69,AM76,AM69) -> Aluno 7 | AP76: =VLOOKUP(AO76,$AA$8:$AB$37,2,FALSE) -> 849 | AQ76: =AO76 -> Aluno 7 | AR76: =VLOOKUP(AQ76,$AA$8:$AB$37,2,FALSE) -> 849 | AS76: =AQ76 -> Aluno 7 | AT76: =VLOOKUP(AS76,$AA$8:$AB$37,2,FALSE) -> 849 | AU76: =AS76 -> Aluno 7 | AV76: =VLOOKUP(AU76,$AA$8:$AB$37,2,FALSE) -> 849 | AW76: =AU76 -> Aluno 7 | AX76: =VLOOKUP(AW76,$AA$8:$AB$37,2,FALSE) -> 849 | AY76: =AW76 -> Aluno 7 | AZ76: =VLOOKUP(AY76,$AA$8:$AB$37,2,FALSE) -> 849 | BA76: =AY76 -> Aluno 7 | BB76: =VLOOKUP(BA76,$AA$8:$AB$37,2,FALSE) -> 849 | BC76: =BA76 -> Aluno 7 | BD76: =VLOOKUP(BC76,$AA$8:$AB$37,2,FALSE) -> 849 | BE76: =BC76 -> Aluno 7 | BF76: =VLOOKUP(BE76,$AA$8:$AB$37,2,FALSE) -> 849 | BG76: =BE76 -> Aluno 7 | BH76: =VLOOKUP(BG76,$AA$8:$AB$37,2,FALSE) -> 849 | BI76: =BG76 -> Aluno 7 | BJ76: =VLOOKUP(BI76,$AA$8:$AB$37,2,FALSE) -> 849 | BK76: =BI76 -> Aluno 7 | BL76: =VLOOKUP(BK76,$AA$8:$AB$37,2,FALSE) -> 849 | BM76: =BK76 -> Aluno 7 | BN76: =VLOOKUP(BM76,$AA$8:$AB$37,2,FALSE) -> 849 | BO76: =BM76 -> Aluno 7 | BP76: =VLOOKUP(BO76,$AA$8:$AB$37,2,FALSE) -> 849 | BQ76: =BO76 -> Aluno 7 | BR76: =VLOOKUP(BQ76,$AA$8:$AB$37,2,FALSE) -> 849 | BS76: =BQ76 -> Aluno 7 | BT76: =VLOOKUP(BS76,$AA$8:$AB$37,2,FALSE) -> 849 | BU76: =BS76 -> Aluno 7 | BV76: =VLOOKUP(BU76,$AA$8:$AB$37,2,FALSE) -> 849 | BW76: =BU76 -> Aluno 7 | BX76: =VLOOKUP(BW76,$AA$8:$AB$37,2,FALSE) -> 849 | BY76: =BW76 -> Aluno 7 | BZ76: =VLOOKUP(BY76,$AA$8:$AB$37,2,FALSE) -> 849 | CA76: =BY76 -> Aluno 7 | CB76: =VLOOKUP(CA76,$AA$8:$AB$37,2,FALSE) -> 849 | CC76: =CA76 -> Aluno 7 | CD76: =VLOOKUP(CC76,$AA$8:$AB$37,2,FALSE) -> 849
AA77: =CE48 -> Aluno 9 | AB77: =CF48 -> 855 | AC77: =AA77 -> Aluno 9 | AD77: =VLOOKUP(AC77,$AA$8:$AB$37,2,FALSE) -> 855 | AE77: =AC77 -> Aluno 9 | AF77: =VLOOKUP(AE77,$AA$8:$AB$37,2,FALSE) -> 855 | AG77: =AE77 -> Aluno 9 | AH77: =VLOOKUP(AG77,$AA$8:$AB$37,2,FALSE) -> 855 | AI77: =AG77 -> Aluno 9 | AJ77: =VLOOKUP(AI77,$AA$8:$AB$37,2,FALSE) -> 855 | AK77: =AI77 -> Aluno 9 | AL77: =VLOOKUP(AK77,$AA$8:$AB$37,2,FALSE) -> 855 | AM77: =AK77 -> Aluno 9 | AN77: =VLOOKUP(AM77,$AA$8:$AB$37,2,FALSE) -> 855 | AO77: =AM77 -> Aluno 9 | AP77: =VLOOKUP(AO77,$AA$8:$AB$37,2,FALSE) -> 855 | AQ77: =IF(AP77<=AP69,AO77,AO69) -> Aluno 8 | AR77: =VLOOKUP(AQ77,$AA$8:$AB$37,2,FALSE) -> 852 | AS77: =AQ77 -> Aluno 8 | AT77: =VLOOKUP(AS77,$AA$8:$AB$37,2,FALSE) -> 852 | AU77: =AS77 -> Aluno 8 | AV77: =VLOOKUP(AU77,$AA$8:$AB$37,2,FALSE) -> 852 | AW77: =AU77 -> Aluno 8 | AX77: =VLOOKUP(AW77,$AA$8:$AB$37,2,FALSE) -> 852 | AY77: =AW77 -> Aluno 8 | AZ77: =VLOOKUP(AY77,$AA$8:$AB$37,2,FALSE) -> 852 | BA77: =AY77 -> Aluno 8 | BB77: =VLOOKUP(BA77,$AA$8:$AB$37,2,FALSE) -> 852 | BC77: =BA77 -> Aluno 8 | BD77: =VLOOKUP(BC77,$AA$8:$AB$37,2,FALSE) -> 852 | BE77: =BC77 -> Aluno 8 | BF77: =VLOOKUP(BE77,$AA$8:$AB$37,2,FALSE) -> 852 | BG77: =BE77 -> Aluno 8 | BH77: =VLOOKUP(BG77,$AA$8:$AB$37,2,FALSE) -> 852 | BI77: =BG77 -> Aluno 8 | BJ77: =VLOOKUP(BI77,$AA$8:$AB$37,2,FALSE) -> 852 | BK77: =BI77 -> Aluno 8 | BL77: =VLOOKUP(BK77,$AA$8:$AB$37,2,FALSE) -> 852 | BM77: =BK77 -> Aluno 8 | BN77: =VLOOKUP(BM77,$AA$8:$AB$37,2,FALSE) -> 852 | BO77: =BM77 -> Aluno 8 | BP77: =VLOOKUP(BO77,$AA$8:$AB$37,2,FALSE) -> 852 | BQ77: =BO77 -> Aluno 8 | BR77: =VLOOKUP(BQ77,$AA$8:$AB$37,2,FALSE) -> 852 | BS77: =BQ77 -> Aluno 8 | BT77: =VLOOKUP(BS77,$AA$8:$AB$37,2,FALSE) -> 852 | BU77: =BS77 -> Aluno 8 | BV77: =VLOOKUP(BU77,$AA$8:$AB$37,2,FALSE) -> 852 | BW77: =BU77 -> Aluno 8 | BX77: =VLOOKUP(BW77,$AA$8:$AB$37,2,FALSE) -> 852 | BY77: =BW77 -> Aluno 8 | BZ77: =VLOOKUP(BY77,$AA$8:$AB$37,2,FALSE) -> 852 | CA77: =BY77 -> Aluno 8 | CB77: =VLOOKUP(CA77,$AA$8:$AB$37,2,FALSE) -> 852 | CC77: =CA77 -> Aluno 8 | CD77: =VLOOKUP(CC77,$AA$8:$AB$37,2,FALSE) -> 852
AA78: =CE49 -> Aluno 10 | AB78: =CF49 -> 858 | AC78: =AA78 -> Aluno 10 | AD78: =VLOOKUP(AC78,$AA$8:$AB$37,2,FALSE) -> 858 | AE78: =AC78 -> Aluno 10 | AF78: =VLOOKUP(AE78,$AA$8:$AB$37,2,FALSE) -> 858 | AG78: =AE78 -> Aluno 10 | AH78: =VLOOKUP(AG78,$AA$8:$AB$37,2,FALSE) -> 858 | AI78: =AG78 -> Aluno 10 | AJ78: =VLOOKUP(AI78,$AA$8:$AB$37,2,FALSE) -> 858 | AK78: =AI78 -> Aluno 10 | AL78: =VLOOKUP(AK78,$AA$8:$AB$37,2,FALSE) -> 858 | AM78: =AK78 -> Aluno 10 | AN78: =VLOOKUP(AM78,$AA$8:$AB$37,2,FALSE) -> 858 | AO78: =AM78 -> Aluno 10 | AP78: =VLOOKUP(AO78,$AA$8:$AB$37,2,FALSE) -> 858 | AQ78: =AO78 -> Aluno 10 | AR78: =VLOOKUP(AQ78,$AA$8:$AB$37,2,FALSE) -> 858 | AS78: =IF(AR78<=AR69,AQ78,AQ69) -> Aluno 9 | AT78: =VLOOKUP(AS78,$AA$8:$AB$37,2,FALSE) -> 855 | AU78: =AS78 -> Aluno 9 | AV78: =VLOOKUP(AU78,$AA$8:$AB$37,2,FALSE) -> 855 | AW78: =AU78 -> Aluno 9 | AX78: =VLOOKUP(AW78,$AA$8:$AB$37,2,FALSE) -> 855 | AY78: =AW78 -> Aluno 9 | AZ78: =VLOOKUP(AY78,$AA$8:$AB$37,2,FALSE) -> 855 | BA78: =AY78 -> Aluno 9 | BB78: =VLOOKUP(BA78,$AA$8:$AB$37,2,FALSE) -> 855 | BC78: =BA78 -> Aluno 9 | BD78: =VLOOKUP(BC78,$AA$8:$AB$37,2,FALSE) -> 855 | BE78: =BC78 -> Aluno 9 | BF78: =VLOOKUP(BE78,$AA$8:$AB$37,2,FALSE) -> 855 | BG78: =BE78 -> Aluno 9 | BH78: =VLOOKUP(BG78,$AA$8:$AB$37,2,FALSE) -> 855 | BI78: =BG78 -> Aluno 9 | BJ78: =VLOOKUP(BI78,$AA$8:$AB$37,2,FALSE) -> 855 | BK78: =BI78 -> Aluno 9 | BL78: =VLOOKUP(BK78,$AA$8:$AB$37,2,FALSE) -> 855 | BM78: =BK78 -> Aluno 9 | BN78: =VLOOKUP(BM78,$AA$8:$AB$37,2,FALSE) -> 855 | BO78: =BM78 -> Aluno 9 | BP78: =VLOOKUP(BO78,$AA$8:$AB$37,2,FALSE) -> 855 | BQ78: =BO78 -> Aluno 9 | BR78: =VLOOKUP(BQ78,$AA$8:$AB$37,2,FALSE) -> 855 | BS78: =BQ78 -> Aluno 9 | BT78: =VLOOKUP(BS78,$AA$8:$AB$37,2,FALSE) -> 855 | BU78: =BS78 -> Aluno 9 | BV78: =VLOOKUP(BU78,$AA$8:$AB$37,2,FALSE) -> 855 | BW78: =BU78 -> Aluno 9 | BX78: =VLOOKUP(BW78,$AA$8:$AB$37,2,FALSE) -> 855 | BY78: =BW78 -> Aluno 9 | BZ78: =VLOOKUP(BY78,$AA$8:$AB$37,2,FALSE) -> 855 | CA78: =BY78 -> Aluno 9 | CB78: =VLOOKUP(CA78,$AA$8:$AB$37,2,FALSE) -> 855 | CC78: =CA78 -> Aluno 9 | CD78: =VLOOKUP(CC78,$AA$8:$AB$37,2,FALSE) -> 855
AA79: =CE50 -> Aluno 11 | AB79: =CF50 -> 861 | AC79: =AA79 -> Aluno 11 | AD79: =VLOOKUP(AC79,$AA$8:$AB$37,2,FALSE) -> 861 | AE79: =AC79 -> Aluno 11 | AF79: =VLOOKUP(AE79,$AA$8:$AB$37,2,FALSE) -> 861 | AG79: =AE79 -> Aluno 11 | AH79: =VLOOKUP(AG79,$AA$8:$AB$37,2,FALSE) -> 861 | AI79: =AG79 -> Aluno 11 | AJ79: =VLOOKUP(AI79,$AA$8:$AB$37,2,FALSE) -> 861 | AK79: =AI79 -> Aluno 11 | AL79: =VLOOKUP(AK79,$AA$8:$AB$37,2,FALSE) -> 861 | AM79: =AK79 -> Aluno 11 | AN79: =VLOOKUP(AM79,$AA$8:$AB$37,2,FALSE) -> 861 | AO79: =AM79 -> Aluno 11 | AP79: =VLOOKUP(AO79,$AA$8:$AB$37,2,FALSE) -> 861 | AQ79: =AO79 -> Aluno 11 | AR79: =VLOOKUP(AQ79,$AA$8:$AB$37,2,FALSE) -> 861 | AS79: =AQ79 -> Aluno 11 | AT79: =VLOOKUP(AS79,$AA$8:$AB$37,2,FALSE) -> 861 | AU79: =IF(AT79<=AT69,AS79,AS69) -> Aluno 10 | AV79: =VLOOKUP(AU79,$AA$8:$AB$37,2,FALSE) -> 858 | AW79: =AU79 -> Aluno 10 | AX79: =VLOOKUP(AW79,$AA$8:$AB$37,2,FALSE) -> 858 | AY79: =AW79 -> Aluno 10 | AZ79: =VLOOKUP(AY79,$AA$8:$AB$37,2,FALSE) -> 858 | BA79: =AY79 -> Aluno 10 | BB79: =VLOOKUP(BA79,$AA$8:$AB$37,2,FALSE) -> 858 | BC79: =BA79 -> Aluno 10 | BD79: =VLOOKUP(BC79,$AA$8:$AB$37,2,FALSE) -> 858 | BE79: =BC79 -> Aluno 10 | BF79: =VLOOKUP(BE79,$AA$8:$AB$37,2,FALSE) -> 858 | BG79: =BE79 -> Aluno 10 | BH79: =VLOOKUP(BG79,$AA$8:$AB$37,2,FALSE) -> 858 | BI79: =BG79 -> Aluno 10 | BJ79: =VLOOKUP(BI79,$AA$8:$AB$37,2,FALSE) -> 858 | BK79: =BI79 -> Aluno 10 | BL79: =VLOOKUP(BK79,$AA$8:$AB$37,2,FALSE) -> 858 | BM79: =BK79 -> Aluno 10 | BN79: =VLOOKUP(BM79,$AA$8:$AB$37,2,FALSE) -> 858 | BO79: =BM79 -> Aluno 10 | BP79: =VLOOKUP(BO79,$AA$8:$AB$37,2,FALSE) -> 858 | BQ79: =BO79 -> Aluno 10 | BR79: =VLOOKUP(BQ79,$AA$8:$AB$37,2,FALSE) -> 858 | BS79: =BQ79 -> Aluno 10 | BT79: =VLOOKUP(BS79,$AA$8:$AB$37,2,FALSE) -> 858 | BU79: =BS79 -> Aluno 10 | BV79: =VLOOKUP(BU79,$AA$8:$AB$37,2,FALSE) -> 858 | BW79: =BU79 -> Aluno 10 | BX79: =VLOOKUP(BW79,$AA$8:$AB$37,2,FALSE) -> 858 | BY79: =BW79 -> Aluno 10 | BZ79: =VLOOKUP(BY79,$AA$8:$AB$37,2,FALSE) -> 858 | CA79: =BY79 -> Aluno 10 | CB79: =VLOOKUP(CA79,$AA$8:$AB$37,2,FALSE) -> 858 | CC79: =CA79 -> Aluno 10 | CD79: =VLOOKUP(CC79,$AA$8:$AB$37,2,FALSE) -> 858
AA80: =CE51 -> Aluno 12 | AB80: =CF51 -> 864 | AC80: =AA80 -> Aluno 12 | AD80: =VLOOKUP(AC80,$AA$8:$AB$37,2,FALSE) -> 864 | AE80: =AC80 -> Aluno 12 | AF80: =VLOOKUP(AE80,$AA$8:$AB$37,2,FALSE) -> 864 | AG80: =AE80 -> Aluno 12 | AH80: =VLOOKUP(AG80,$AA$8:$AB$37,2,FALSE) -> 864 | AI80: =AG80 -> Aluno 12 | AJ80: =VLOOKUP(AI80,$AA$8:$AB$37,2,FALSE) -> 864 | AK80: =AI80 -> Aluno 12 | AL80: =VLOOKUP(AK80,$AA$8:$AB$37,2,FALSE) -> 864 | AM80: =AK80 -> Aluno 12 | AN80: =VLOOKUP(AM80,$AA$8:$AB$37,2,FALSE) -> 864 | AO80: =AM80 -> Aluno 12 | AP80: =VLOOKUP(AO80,$AA$8:$AB$37,2,FALSE) -> 864 | AQ80: =AO80 -> Aluno 12 | AR80: =VLOOKUP(AQ80,$AA$8:$AB$37,2,FALSE) -> 864 | AS80: =AQ80 -> Aluno 12 | AT80: =VLOOKUP(AS80,$AA$8:$AB$37,2,FALSE) -> 864 | AU80: =AS80 -> Aluno 12 | AV80: =VLOOKUP(AU80,$AA$8:$AB$37,2,FALSE) -> 864 | AW80: =IF(AV80<=AV69,AU80,AU69) -> Aluno 11 | AX80: =VLOOKUP(AW80,$AA$8:$AB$37,2,FALSE) -> 861 | AY80: =AW80 -> Aluno 11 | AZ80: =VLOOKUP(AY80,$AA$8:$AB$37,2,FALSE) -> 861 | BA80: =AY80 -> Aluno 11 | BB80: =VLOOKUP(BA80,$AA$8:$AB$37,2,FALSE) -> 861 | BC80: =BA80 -> Aluno 11 | BD80: =VLOOKUP(BC80,$AA$8:$AB$37,2,FALSE) -> 861 | BE80: =BC80 -> Aluno 11 | BF80: =VLOOKUP(BE80,$AA$8:$AB$37,2,FALSE) -> 861 | BG80: =BE80 -> Aluno 11 | BH80: =VLOOKUP(BG80,$AA$8:$AB$37,2,FALSE) -> 861 | BI80: =BG80 -> Aluno 11 | BJ80: =VLOOKUP(BI80,$AA$8:$AB$37,2,FALSE) -> 861 | BK80: =BI80 -> Aluno 11 | BL80: =VLOOKUP(BK80,$AA$8:$AB$37,2,FALSE) -> 861 | BM80: =BK80 -> Aluno 11 | BN80: =VLOOKUP(BM80,$AA$8:$AB$37,2,FALSE) -> 861 | BO80: =BM80 -> Aluno 11 | BP80: =VLOOKUP(BO80,$AA$8:$AB$37,2,FALSE) -> 861 | BQ80: =BO80 -> Aluno 11 | BR80: =VLOOKUP(BQ80,$AA$8:$AB$37,2,FALSE) -> 861 | BS80: =BQ80 -> Aluno 11 | BT80: =VLOOKUP(BS80,$AA$8:$AB$37,2,FALSE) -> 861 | BU80: =BS80 -> Aluno 11 | BV80: =VLOOKUP(BU80,$AA$8:$AB$37,2,FALSE) -> 861 | BW80: =BU80 -> Aluno 11 | BX80: =VLOOKUP(BW80,$AA$8:$AB$37,2,FALSE) -> 861 | BY80: =BW80 -> Aluno 11 | BZ80: =VLOOKUP(BY80,$AA$8:$AB$37,2,FALSE) -> 861 | CA80: =BY80 -> Aluno 11 | CB80: =VLOOKUP(CA80,$AA$8:$AB$37,2,FALSE) -> 861 | CC80: =CA80 -> Aluno 11 | CD80: =VLOOKUP(CC80,$AA$8:$AB$37,2,FALSE) -> 861
AA81: =CE52 -> Aluno 13 | AB81: =CF52 -> 867 | AC81: =AA81 -> Aluno 13 | AD81: =VLOOKUP(AC81,$AA$8:$AB$37,2,FALSE) -> 867 | AE81: =AC81 -> Aluno 13 | AF81: =VLOOKUP(AE81,$AA$8:$AB$37,2,FALSE) -> 867 | AG81: =AE81 -> Aluno 13 | AH81: =VLOOKUP(AG81,$AA$8:$AB$37,2,FALSE) -> 867 | AI81: =AG81 -> Aluno 13 | AJ81: =VLOOKUP(AI81,$AA$8:$AB$37,2,FALSE) -> 867 | AK81: =AI81 -> Aluno 13 | AL81: =VLOOKUP(AK81,$AA$8:$AB$37,2,FALSE) -> 867 | AM81: =AK81 -> Aluno 13 | AN81: =VLOOKUP(AM81,$AA$8:$AB$37,2,FALSE) -> 867 | AO81: =AM81 -> Aluno 13 | AP81: =VLOOKUP(AO81,$AA$8:$AB$37,2,FALSE) -> 867 | AQ81: =AO81 -> Aluno 13 | AR81: =VLOOKUP(AQ81,$AA$8:$AB$37,2,FALSE) -> 867 | AS81: =AQ81 -> Aluno 13 | AT81: =VLOOKUP(AS81,$AA$8:$AB$37,2,FALSE) -> 867 | AU81: =AS81 -> Aluno 13 | AV81: =VLOOKUP(AU81,$AA$8:$AB$37,2,FALSE) -> 867 | AW81: =AU81 -> Aluno 13 | AX81: =VLOOKUP(AW81,$AA$8:$AB$37,2,FALSE) -> 867 | AY81: =IF(AX81<=AX69,AW81,AW69) -> Aluno 12 | AZ81: =VLOOKUP(AY81,$AA$8:$AB$37,2,FALSE) -> 864 | BA81: =AY81 -> Aluno 12 | BB81: =VLOOKUP(BA81,$AA$8:$AB$37,2,FALSE) -> 864 | BC81: =BA81 -> Aluno 12 | BD81: =VLOOKUP(BC81,$AA$8:$AB$37,2,FALSE) -> 864 | BE81: =BC81 -> Aluno 12 | BF81: =VLOOKUP(BE81,$AA$8:$AB$37,2,FALSE) -> 864 | BG81: =BE81 -> Aluno 12 | BH81: =VLOOKUP(BG81,$AA$8:$AB$37,2,FALSE) -> 864 | BI81: =BG81 -> Aluno 12 | BJ81: =VLOOKUP(BI81,$AA$8:$AB$37,2,FALSE) -> 864 | BK81: =BI81 -> Aluno 12 | BL81: =VLOOKUP(BK81,$AA$8:$AB$37,2,FALSE) -> 864 | BM81: =BK81 -> Aluno 12 | BN81: =VLOOKUP(BM81,$AA$8:$AB$37,2,FALSE) -> 864 | BO81: =BM81 -> Aluno 12 | BP81: =VLOOKUP(BO81,$AA$8:$AB$37,2,FALSE) -> 864 | BQ81: =BO81 -> Aluno 12 | BR81: =VLOOKUP(BQ81,$AA$8:$AB$37,2,FALSE) -> 864 | BS81: =BQ81 -> Aluno 12 | BT81: =VLOOKUP(BS81,$AA$8:$AB$37,2,FALSE) -> 864 | BU81: =BS81 -> Aluno 12 | BV81: =VLOOKUP(BU81,$AA$8:$AB$37,2,FALSE) -> 864 | BW81: =BU81 -> Aluno 12 | BX81: =VLOOKUP(BW81,$AA$8:$AB$37,2,FALSE) -> 864 | BY81: =BW81 -> Aluno 12 | BZ81: =VLOOKUP(BY81,$AA$8:$AB$37,2,FALSE) -> 864 | CA81: =BY81 -> Aluno 12 | CB81: =VLOOKUP(CA81,$AA$8:$AB$37,2,FALSE) -> 864 | CC81: =CA81 -> Aluno 12 | CD81: =VLOOKUP(CC81,$AA$8:$AB$37,2,FALSE) -> 864
AA82: =CE53 -> Aluno 14 | AB82: =CF53 -> 870 | AC82: =AA82 -> Aluno 14 | AD82: =VLOOKUP(AC82,$AA$8:$AB$37,2,FALSE) -> 870 | AE82: =AC82 -> Aluno 14 | AF82: =VLOOKUP(AE82,$AA$8:$AB$37,2,FALSE) -> 870 | AG82: =AE82 -> Aluno 14 | AH82: =VLOOKUP(AG82,$AA$8:$AB$37,2,FALSE) -> 870 | AI82: =AG82 -> Aluno 14 | AJ82: =VLOOKUP(AI82,$AA$8:$AB$37,2,FALSE) -> 870 | AK82: =AI82 -> Aluno 14 | AL82: =VLOOKUP(AK82,$AA$8:$AB$37,2,FALSE) -> 870 | AM82: =AK82 -> Aluno 14 | AN82: =VLOOKUP(AM82,$AA$8:$AB$37,2,FALSE) -> 870 | AO82: =AM82 -> Aluno 14 | AP82: =VLOOKUP(AO82,$AA$8:$AB$37,2,FALSE) -> 870 | AQ82: =AO82 -> Aluno 14 | AR82: =VLOOKUP(AQ82,$AA$8:$AB$37,2,FALSE) -> 870 | AS82: =AQ82 -> Aluno 14 | AT82: =VLOOKUP(AS82,$AA$8:$AB$37,2,FALSE) -> 870 | AU82: =AS82 -> Aluno 14 | AV82: =VLOOKUP(AU82,$AA$8:$AB$37,2,FALSE) -> 870 | AW82: =AU82 -> Aluno 14 | AX82: =VLOOKUP(AW82,$AA$8:$AB$37,2,FALSE) -> 870 | AY82: =AW82 -> Aluno 14 | AZ82: =VLOOKUP(AY82,$AA$8:$AB$37,2,FALSE) -> 870 | BA82: =IF(AZ82<=AZ69,AY82,AY69) -> Aluno 13 | BB82: =VLOOKUP(BA82,$AA$8:$AB$37,2,FALSE) -> 867 | BC82: =BA82 -> Aluno 13 | BD82: =VLOOKUP(BC82,$AA$8:$AB$37,2,FALSE) -> 867 | BE82: =BC82 -> Aluno 13 | BF82: =VLOOKUP(BE82,$AA$8:$AB$37,2,FALSE) -> 867 | BG82: =BE82 -> Aluno 13 | BH82: =VLOOKUP(BG82,$AA$8:$AB$37,2,FALSE) -> 867 | BI82: =BG82 -> Aluno 13 | BJ82: =VLOOKUP(BI82,$AA$8:$AB$37,2,FALSE) -> 867 | BK82: =BI82 -> Aluno 13 | BL82: =VLOOKUP(BK82,$AA$8:$AB$37,2,FALSE) -> 867 | BM82: =BK82 -> Aluno 13 | BN82: =VLOOKUP(BM82,$AA$8:$AB$37,2,FALSE) -> 867 | BO82: =BM82 -> Aluno 13 | BP82: =VLOOKUP(BO82,$AA$8:$AB$37,2,FALSE) -> 867 | BQ82: =BO82 -> Aluno 13 | BR82: =VLOOKUP(BQ82,$AA$8:$AB$37,2,FALSE) -> 867 | BS82: =BQ82 -> Aluno 13 | BT82: =VLOOKUP(BS82,$AA$8:$AB$37,2,FALSE) -> 867 | BU82: =BS82 -> Aluno 13 | BV82: =VLOOKUP(BU82,$AA$8:$AB$37,2,FALSE) -> 867 | BW82: =BU82 -> Aluno 13 | BX82: =VLOOKUP(BW82,$AA$8:$AB$37,2,FALSE) -> 867 | BY82: =BW82 -> Aluno 13 | BZ82: =VLOOKUP(BY82,$AA$8:$AB$37,2,FALSE) -> 867 | CA82: =BY82 -> Aluno 13 | CB82: =VLOOKUP(CA82,$AA$8:$AB$37,2,FALSE) -> 867 | CC82: =CA82 -> Aluno 13 | CD82: =VLOOKUP(CC82,$AA$8:$AB$37,2,FALSE) -> 867
AA83: =CE54 -> Aluno 15 | AB83: =CF54 -> 873 | AC83: =AA83 -> Aluno 15 | AD83: =VLOOKUP(AC83,$AA$8:$AB$37,2,FALSE) -> 873 | AE83: =AC83 -> Aluno 15 | AF83: =VLOOKUP(AE83,$AA$8:$AB$37,2,FALSE) -> 873 | AG83: =AE83 -> Aluno 15 | AH83: =VLOOKUP(AG83,$AA$8:$AB$37,2,FALSE) -> 873 | AI83: =AG83 -> Aluno 15 | AJ83: =VLOOKUP(AI83,$AA$8:$AB$37,2,FALSE) -> 873 | AK83: =AI83 -> Aluno 15 | AL83: =VLOOKUP(AK83,$AA$8:$AB$37,2,FALSE) -> 873 | AM83: =AK83 -> Aluno 15 | AN83: =VLOOKUP(AM83,$AA$8:$AB$37,2,FALSE) -> 873 | AO83: =AM83 -> Aluno 15 | AP83: =VLOOKUP(AO83,$AA$8:$AB$37,2,FALSE) -> 873 | AQ83: =AO83 -> Aluno 15 | AR83: =VLOOKUP(AQ83,$AA$8:$AB$37,2,FALSE) -> 873 | AS83: =AQ83 -> Aluno 15 | AT83: =VLOOKUP(AS83,$AA$8:$AB$37,2,FALSE) -> 873 | AU83: =AS83 -> Aluno 15 | AV83: =VLOOKUP(AU83,$AA$8:$AB$37,2,FALSE) -> 873 | AW83: =AU83 -> Aluno 15 | AX83: =VLOOKUP(AW83,$AA$8:$AB$37,2,FALSE) -> 873 | AY83: =AW83 -> Aluno 15 | AZ83: =VLOOKUP(AY83,$AA$8:$AB$37,2,FALSE) -> 873 | BA83: =AY83 -> Aluno 15 | BB83: =VLOOKUP(BA83,$AA$8:$AB$37,2,FALSE) -> 873 | BC83: =IF(BB83<=BB69,BA83,BA69) -> Aluno 14 | BD83: =VLOOKUP(BC83,$AA$8:$AB$37,2,FALSE) -> 870 | BE83: =BC83 -> Aluno 14 | BF83: =VLOOKUP(BE83,$AA$8:$AB$37,2,FALSE) -> 870 | BG83: =BE83 -> Aluno 14 | BH83: =VLOOKUP(BG83,$AA$8:$AB$37,2,FALSE) -> 870 | BI83: =BG83 -> Aluno 14 | BJ83: =VLOOKUP(BI83,$AA$8:$AB$37,2,FALSE) -> 870 | BK83: =BI83 -> Aluno 14 | BL83: =VLOOKUP(BK83,$AA$8:$AB$37,2,FALSE) -> 870 | BM83: =BK83 -> Aluno 14 | BN83: =VLOOKUP(BM83,$AA$8:$AB$37,2,FALSE) -> 870 | BO83: =BM83 -> Aluno 14 | BP83: =VLOOKUP(BO83,$AA$8:$AB$37,2,FALSE) -> 870 | BQ83: =BO83 -> Aluno 14 | BR83: =VLOOKUP(BQ83,$AA$8:$AB$37,2,FALSE) -> 870 | BS83: =BQ83 -> Aluno 14 | BT83: =VLOOKUP(BS83,$AA$8:$AB$37,2,FALSE) -> 870 | BU83: =BS83 -> Aluno 14 | BV83: =VLOOKUP(BU83,$AA$8:$AB$37,2,FALSE) -> 870 | BW83: =BU83 -> Aluno 14 | BX83: =VLOOKUP(BW83,$AA$8:$AB$37,2,FALSE) -> 870 | BY83: =BW83 -> Aluno 14 | BZ83: =VLOOKUP(BY83,$AA$8:$AB$37,2,FALSE) -> 870 | CA83: =BY83 -> Aluno 14 | CB83: =VLOOKUP(CA83,$AA$8:$AB$37,2,FALSE) -> 870 | CC83: =CA83 -> Aluno 14 | CD83: =VLOOKUP(CC83,$AA$8:$AB$37,2,FALSE) -> 870
AA84: =CE55 -> Aluno 16 | AB84: =CF55 -> 876 | AC84: =AA84 -> Aluno 16 | AD84: =VLOOKUP(AC84,$AA$8:$AB$37,2,FALSE) -> 876 | AE84: =AC84 -> Aluno 16 | AF84: =VLOOKUP(AE84,$AA$8:$AB$37,2,FALSE) -> 876 | AG84: =AE84 -> Aluno 16 | AH84: =VLOOKUP(AG84,$AA$8:$AB$37,2,FALSE) -> 876 | AI84: =AG84 -> Aluno 16 | AJ84: =VLOOKUP(AI84,$AA$8:$AB$37,2,FALSE) -> 876 | AK84: =AI84 -> Aluno 16 | AL84: =VLOOKUP(AK84,$AA$8:$AB$37,2,FALSE) -> 876 | AM84: =AK84 -> Aluno 16 | AN84: =VLOOKUP(AM84,$AA$8:$AB$37,2,FALSE) -> 876 | AO84: =AM84 -> Aluno 16 | AP84: =VLOOKUP(AO84,$AA$8:$AB$37,2,FALSE) -> 876 | AQ84: =AO84 -> Aluno 16 | AR84: =VLOOKUP(AQ84,$AA$8:$AB$37,2,FALSE) -> 876 | AS84: =AQ84 -> Aluno 16 | AT84: =VLOOKUP(AS84,$AA$8:$AB$37,2,FALSE) -> 876 | AU84: =AS84 -> Aluno 16 | AV84: =VLOOKUP(AU84,$AA$8:$AB$37,2,FALSE) -> 876 | AW84: =AU84 -> Aluno 16 | AX84: =VLOOKUP(AW84,$AA$8:$AB$37,2,FALSE) -> 876 | AY84: =AW84 -> Aluno 16 | AZ84: =VLOOKUP(AY84,$AA$8:$AB$37,2,FALSE) -> 876 | BA84: =AY84 -> Aluno 16 | BB84: =VLOOKUP(BA84,$AA$8:$AB$37,2,FALSE) -> 876 | BC84: =BA84 -> Aluno 16 | BD84: =VLOOKUP(BC84,$AA$8:$AB$37,2,FALSE) -> 876 | BE84: =IF(BD84<=BD69,BC84,BC69) -> Aluno 15 | BF84: =VLOOKUP(BE84,$AA$8:$AB$37,2,FALSE) -> 873 | BG84: =BE84 -> Aluno 15 | BH84: =VLOOKUP(BG84,$AA$8:$AB$37,2,FALSE) -> 873 | BI84: =BG84 -> Aluno 15 | BJ84: =VLOOKUP(BI84,$AA$8:$AB$37,2,FALSE) -> 873 | BK84: =BI84 -> Aluno 15 | BL84: =VLOOKUP(BK84,$AA$8:$AB$37,2,FALSE) -> 873 | BM84: =BK84 -> Aluno 15 | BN84: =VLOOKUP(BM84,$AA$8:$AB$37,2,FALSE) -> 873 | BO84: =BM84 -> Aluno 15 | BP84: =VLOOKUP(BO84,$AA$8:$AB$37,2,FALSE) -> 873 | BQ84: =BO84 -> Aluno 15 | BR84: =VLOOKUP(BQ84,$AA$8:$AB$37,2,FALSE) -> 873 | BS84: =BQ84 -> Aluno 15 | BT84: =VLOOKUP(BS84,$AA$8:$AB$37,2,FALSE) -> 873 | BU84: =BS84 -> Aluno 15 | BV84: =VLOOKUP(BU84,$AA$8:$AB$37,2,FALSE) -> 873 | BW84: =BU84 -> Aluno 15 | BX84: =VLOOKUP(BW84,$AA$8:$AB$37,2,FALSE) -> 873 | BY84: =BW84 -> Aluno 15 | BZ84: =VLOOKUP(BY84,$AA$8:$AB$37,2,FALSE) -> 873 | CA84: =BY84 -> Aluno 15 | CB84: =VLOOKUP(CA84,$AA$8:$AB$37,2,FALSE) -> 873 | CC84: =CA84 -> Aluno 15 | CD84: =VLOOKUP(CC84,$AA$8:$AB$37,2,FALSE) -> 873
AA85: =CE56 -> Aluno 17 | AB85: =CF56 -> 879 | AC85: =AA85 -> Aluno 17 | AD85: =VLOOKUP(AC85,$AA$8:$AB$37,2,FALSE) -> 879 | AE85: =AC85 -> Aluno 17 | AF85: =VLOOKUP(AE85,$AA$8:$AB$37,2,FALSE) -> 879 | AG85: =AE85 -> Aluno 17 | AH85: =VLOOKUP(AG85,$AA$8:$AB$37,2,FALSE) -> 879 | AI85: =AG85 -> Aluno 17 | AJ85: =VLOOKUP(AI85,$AA$8:$AB$37,2,FALSE) -> 879 | AK85: =AI85 -> Aluno 17 | AL85: =VLOOKUP(AK85,$AA$8:$AB$37,2,FALSE) -> 879 | AM85: =AK85 -> Aluno 17 | AN85: =VLOOKUP(AM85,$AA$8:$AB$37,2,FALSE) -> 879 | AO85: =AM85 -> Aluno 17 | AP85: =VLOOKUP(AO85,$AA$8:$AB$37,2,FALSE) -> 879 | AQ85: =AO85 -> Aluno 17 | AR85: =VLOOKUP(AQ85,$AA$8:$AB$37,2,FALSE) -> 879 | AS85: =AQ85 -> Aluno 17 | AT85: =VLOOKUP(AS85,$AA$8:$AB$37,2,FALSE) -> 879 | AU85: =AS85 -> Aluno 17 | AV85: =VLOOKUP(AU85,$AA$8:$AB$37,2,FALSE) -> 879 | AW85: =AU85 -> Aluno 17 | AX85: =VLOOKUP(AW85,$AA$8:$AB$37,2,FALSE) -> 879 | AY85: =AW85 -> Aluno 17 | AZ85: =VLOOKUP(AY85,$AA$8:$AB$37,2,FALSE) -> 879 | BA85: =AY85 -> Aluno 17 | BB85: =VLOOKUP(BA85,$AA$8:$AB$37,2,FALSE) -> 879 | BC85: =BA85 -> Aluno 17 | BD85: =VLOOKUP(BC85,$AA$8:$AB$37,2,FALSE) -> 879 | BE85: =BC85 -> Aluno 17 | BF85: =VLOOKUP(BE85,$AA$8:$AB$37,2,FALSE) -> 879 | BG85: =IF(BF85<=BF69,BE85,BE69) -> Aluno 16 | BH85: =VLOOKUP(BG85,$AA$8:$AB$37,2,FALSE) -> 876 | BI85: =BG85 -> Aluno 16 | BJ85: =VLOOKUP(BI85,$AA$8:$AB$37,2,FALSE) -> 876 | BK85: =BI85 -> Aluno 16 | BL85: =VLOOKUP(BK85,$AA$8:$AB$37,2,FALSE) -> 876 | BM85: =BK85 -> Aluno 16 | BN85: =VLOOKUP(BM85,$AA$8:$AB$37,2,FALSE) -> 876 | BO85: =BM85 -> Aluno 16 | BP85: =VLOOKUP(BO85,$AA$8:$AB$37,2,FALSE) -> 876 | BQ85: =BO85 -> Aluno 16 | BR85: =VLOOKUP(BQ85,$AA$8:$AB$37,2,FALSE) -> 876 | BS85: =BQ85 -> Aluno 16 | BT85: =VLOOKUP(BS85,$AA$8:$AB$37,2,FALSE) -> 876 | BU85: =BS85 -> Aluno 16 | BV85: =VLOOKUP(BU85,$AA$8:$AB$37,2,FALSE) -> 876 | BW85: =BU85 -> Aluno 16 | BX85: =VLOOKUP(BW85,$AA$8:$AB$37,2,FALSE) -> 876 | BY85: =BW85 -> Aluno 16 | BZ85: =VLOOKUP(BY85,$AA$8:$AB$37,2,FALSE) -> 876 | CA85: =BY85 -> Aluno 16 | CB85: =VLOOKUP(CA85,$AA$8:$AB$37,2,FALSE) -> 876 | CC85: =CA85 -> Aluno 16 | CD85: =VLOOKUP(CC85,$AA$8:$AB$37,2,FALSE) -> 876
AA86: =CE57 -> Aluno 18 | AB86: =CF57 -> 882 | AC86: =AA86 -> Aluno 18 | AD86: =VLOOKUP(AC86,$AA$8:$AB$37,2,FALSE) -> 882 | AE86: =AC86 -> Aluno 18 | AF86: =VLOOKUP(AE86,$AA$8:$AB$37,2,FALSE) -> 882 | AG86: =AE86 -> Aluno 18 | AH86: =VLOOKUP(AG86,$AA$8:$AB$37,2,FALSE) -> 882 | AI86: =AG86 -> Aluno 18 | AJ86: =VLOOKUP(AI86,$AA$8:$AB$37,2,FALSE) -> 882 | AK86: =AI86 -> Aluno 18 | AL86: =VLOOKUP(AK86,$AA$8:$AB$37,2,FALSE) -> 882 | AM86: =AK86 -> Aluno 18 | AN86: =VLOOKUP(AM86,$AA$8:$AB$37,2,FALSE) -> 882 | AO86: =AM86 -> Aluno 18 | AP86: =VLOOKUP(AO86,$AA$8:$AB$37,2,FALSE) -> 882 | AQ86: =AO86 -> Aluno 18 | AR86: =VLOOKUP(AQ86,$AA$8:$AB$37,2,FALSE) -> 882 | AS86: =AQ86 -> Aluno 18 | AT86: =VLOOKUP(AS86,$AA$8:$AB$37,2,FALSE) -> 882 | AU86: =AS86 -> Aluno 18 | AV86: =VLOOKUP(AU86,$AA$8:$AB$37,2,FALSE) -> 882 | AW86: =AU86 -> Aluno 18 | AX86: =VLOOKUP(AW86,$AA$8:$AB$37,2,FALSE) -> 882 | AY86: =AW86 -> Aluno 18 | AZ86: =VLOOKUP(AY86,$AA$8:$AB$37,2,FALSE) -> 882 | BA86: =AY86 -> Aluno 18 | BB86: =VLOOKUP(BA86,$AA$8:$AB$37,2,FALSE) -> 882 | BC86: =BA86 -> Aluno 18 | BD86: =VLOOKUP(BC86,$AA$8:$AB$37,2,FALSE) -> 882 | BE86: =BC86 -> Aluno 18 | BF86: =VLOOKUP(BE86,$AA$8:$AB$37,2,FALSE) -> 882 | BG86: =BE86 -> Aluno 18 | BH86: =VLOOKUP(BG86,$AA$8:$AB$37,2,FALSE) -> 882 | BI86: =IF(BH86<=BH69,BG86,BG69) -> Aluno 17 | BJ86: =VLOOKUP(BI86,$AA$8:$AB$37,2,FALSE) -> 879 | BK86: =BI86 -> Aluno 17 | BL86: =VLOOKUP(BK86,$AA$8:$AB$37,2,FALSE) -> 879 | BM86: =BK86 -> Aluno 17 | BN86: =VLOOKUP(BM86,$AA$8:$AB$37,2,FALSE) -> 879 | BO86: =BM86 -> Aluno 17 | BP86: =VLOOKUP(BO86,$AA$8:$AB$37,2,FALSE) -> 879 | BQ86: =BO86 -> Aluno 17 | BR86: =VLOOKUP(BQ86,$AA$8:$AB$37,2,FALSE) -> 879 | BS86: =BQ86 -> Aluno 17 | BT86: =VLOOKUP(BS86,$AA$8:$AB$37,2,FALSE) -> 879 | BU86: =BS86 -> Aluno 17 | BV86: =VLOOKUP(BU86,$AA$8:$AB$37,2,FALSE) -> 879 | BW86: =BU86 -> Aluno 17 | BX86: =VLOOKUP(BW86,$AA$8:$AB$37,2,FALSE) -> 879 | BY86: =BW86 -> Aluno 17 | BZ86: =VLOOKUP(BY86,$AA$8:$AB$37,2,FALSE) -> 879 | CA86: =BY86 -> Aluno 17 | CB86: =VLOOKUP(CA86,$AA$8:$AB$37,2,FALSE) -> 879 | CC86: =CA86 -> Aluno 17 | CD86: =VLOOKUP(CC86,$AA$8:$AB$37,2,FALSE) -> 879
AA87: =CE58 -> Aluno 19 | AB87: =CF58 -> 885 | AC87: =AA87 -> Aluno 19 | AD87: =VLOOKUP(AC87,$AA$8:$AB$37,2,FALSE) -> 885 | AE87: =AC87 -> Aluno 19 | AF87: =VLOOKUP(AE87,$AA$8:$AB$37,2,FALSE) -> 885 | AG87: =AE87 -> Aluno 19 | AH87: =VLOOKUP(AG87,$AA$8:$AB$37,2,FALSE) -> 885 | AI87: =AG87 -> Aluno 19 | AJ87: =VLOOKUP(AI87,$AA$8:$AB$37,2,FALSE) -> 885 | AK87: =AI87 -> Aluno 19 | AL87: =VLOOKUP(AK87,$AA$8:$AB$37,2,FALSE) -> 885 | AM87: =AK87 -> Aluno 19 | AN87: =VLOOKUP(AM87,$AA$8:$AB$37,2,FALSE) -> 885 | AO87: =AM87 -> Aluno 19 | AP87: =VLOOKUP(AO87,$AA$8:$AB$37,2,FALSE) -> 885 | AQ87: =AO87 -> Aluno 19 | AR87: =VLOOKUP(AQ87,$AA$8:$AB$37,2,FALSE) -> 885 | AS87: =AQ87 -> Aluno 19 | AT87: =VLOOKUP(AS87,$AA$8:$AB$37,2,FALSE) -> 885 | AU87: =AS87 -> Aluno 19 | AV87: =VLOOKUP(AU87,$AA$8:$AB$37,2,FALSE) -> 885 | AW87: =AU87 -> Aluno 19 | AX87: =VLOOKUP(AW87,$AA$8:$AB$37,2,FALSE) -> 885 | AY87: =AW87 -> Aluno 19 | AZ87: =VLOOKUP(AY87,$AA$8:$AB$37,2,FALSE) -> 885 | BA87: =AY87 -> Aluno 19 | BB87: =VLOOKUP(BA87,$AA$8:$AB$37,2,FALSE) -> 885 | BC87: =BA87 -> Aluno 19 | BD87: =VLOOKUP(BC87,$AA$8:$AB$37,2,FALSE) -> 885 | BE87: =BC87 -> Aluno 19 | BF87: =VLOOKUP(BE87,$AA$8:$AB$37,2,FALSE) -> 885 | BG87: =BE87 -> Aluno 19 | BH87: =VLOOKUP(BG87,$AA$8:$AB$37,2,FALSE) -> 885 | BI87: =BG87 -> Aluno 19 | BJ87: =VLOOKUP(BI87,$AA$8:$AB$37,2,FALSE) -> 885 | BK87: =IF(BJ87<=BJ69,BI87,BI69) -> Aluno 18 | BL87: =VLOOKUP(BK87,$AA$8:$AB$37,2,FALSE) -> 882 | BM87: =BK87 -> Aluno 18 | BN87: =VLOOKUP(BM87,$AA$8:$AB$37,2,FALSE) -> 882 | BO87: =BM87 -> Aluno 18 | BP87: =VLOOKUP(BO87,$AA$8:$AB$37,2,FALSE) -> 882 | BQ87: =BO87 -> Aluno 18 | BR87: =VLOOKUP(BQ87,$AA$8:$AB$37,2,FALSE) -> 882 | BS87: =BQ87 -> Aluno 18 | BT87: =VLOOKUP(BS87,$AA$8:$AB$37,2,FALSE) -> 882 | BU87: =BS87 -> Aluno 18 | BV87: =VLOOKUP(BU87,$AA$8:$AB$37,2,FALSE) -> 882 | BW87: =BU87 -> Aluno 18 | BX87: =VLOOKUP(BW87,$AA$8:$AB$37,2,FALSE) -> 882 | BY87: =BW87 -> Aluno 18 | BZ87: =VLOOKUP(BY87,$AA$8:$AB$37,2,FALSE) -> 882 | CA87: =BY87 -> Aluno 18 | CB87: =VLOOKUP(CA87,$AA$8:$AB$37,2,FALSE) -> 882 | CC87: =CA87 -> Aluno 18 | CD87: =VLOOKUP(CC87,$AA$8:$AB$37,2,FALSE) -> 882
AA88: =CE59 -> Aluno 20 | AB88: =CF59 -> 888 | AC88: =AA88 -> Aluno 20 | AD88: =VLOOKUP(AC88,$AA$8:$AB$37,2,FALSE) -> 888 | AE88: =AC88 -> Aluno 20 | AF88: =VLOOKUP(AE88,$AA$8:$AB$37,2,FALSE) -> 888 | AG88: =AE88 -> Aluno 20 | AH88: =VLOOKUP(AG88,$AA$8:$AB$37,2,FALSE) -> 888 | AI88: =AG88 -> Aluno 20 | AJ88: =VLOOKUP(AI88,$AA$8:$AB$37,2,FALSE) -> 888 | AK88: =AI88 -> Aluno 20 | AL88: =VLOOKUP(AK88,$AA$8:$AB$37,2,FALSE) -> 888 | AM88: =AK88 -> Aluno 20 | AN88: =VLOOKUP(AM88,$AA$8:$AB$37,2,FALSE) -> 888 | AO88: =AM88 -> Aluno 20 | AP88: =VLOOKUP(AO88,$AA$8:$AB$37,2,FALSE) -> 888 | AQ88: =AO88 -> Aluno 20 | AR88: =VLOOKUP(AQ88,$AA$8:$AB$37,2,FALSE) -> 888 | AS88: =AQ88 -> Aluno 20 | AT88: =VLOOKUP(AS88,$AA$8:$AB$37,2,FALSE) -> 888 | AU88: =AS88 -> Aluno 20 | AV88: =VLOOKUP(AU88,$AA$8:$AB$37,2,FALSE) -> 888 | AW88: =AU88 -> Aluno 20 | AX88: =VLOOKUP(AW88,$AA$8:$AB$37,2,FALSE) -> 888 | AY88: =AW88 -> Aluno 20 | AZ88: =VLOOKUP(AY88,$AA$8:$AB$37,2,FALSE) -> 888 | BA88: =AY88 -> Aluno 20 | BB88: =VLOOKUP(BA88,$AA$8:$AB$37,2,FALSE) -> 888 | BC88: =BA88 -> Aluno 20 | BD88: =VLOOKUP(BC88,$AA$8:$AB$37,2,FALSE) -> 888 | BE88: =BC88 -> Aluno 20 | BF88: =VLOOKUP(BE88,$AA$8:$AB$37,2,FALSE) -> 888 | BG88: =BE88 -> Aluno 20 | BH88: =VLOOKUP(BG88,$AA$8:$AB$37,2,FALSE) -> 888 | BI88: =BG88 -> Aluno 20 | BJ88: =VLOOKUP(BI88,$AA$8:$AB$37,2,FALSE) -> 888 | BK88: =BI88 -> Aluno 20 | BL88: =VLOOKUP(BK88,$AA$8:$AB$37,2,FALSE) -> 888 | BM88: =IF(BL88<=BL69,BK88,BK69) -> Aluno 19 | BN88: =VLOOKUP(BM88,$AA$8:$AB$37,2,FALSE) -> 885 | BO88: =BM88 -> Aluno 19 | BP88: =VLOOKUP(BO88,$AA$8:$AB$37,2,FALSE) -> 885 | BQ88: =BO88 -> Aluno 19 | BR88: =VLOOKUP(BQ88,$AA$8:$AB$37,2,FALSE) -> 885 | BS88: =BQ88 -> Aluno 19 | BT88: =VLOOKUP(BS88,$AA$8:$AB$37,2,FALSE) -> 885 | BU88: =BS88 -> Aluno 19 | BV88: =VLOOKUP(BU88,$AA$8:$AB$37,2,FALSE) -> 885 | BW88: =BU88 -> Aluno 19 | BX88: =VLOOKUP(BW88,$AA$8:$AB$37,2,FALSE) -> 885 | BY88: =BW88 -> Aluno 19 | BZ88: =VLOOKUP(BY88,$AA$8:$AB$37,2,FALSE) -> 885 | CA88: =BY88 -> Aluno 19 | CB88: =VLOOKUP(CA88,$AA$8:$AB$37,2,FALSE) -> 885 | CC88: =CA88 -> Aluno 19 | CD88: =VLOOKUP(CC88,$AA$8:$AB$37,2,FALSE) -> 885
AA89: =CE60 -> Aluno 21 | AB89: =CF60 -> 891 | AC89: =AA89 -> Aluno 21 | AD89: =VLOOKUP(AC89,$AA$8:$AB$37,2,FALSE) -> 891 | AE89: =AC89 -> Aluno 21 | AF89: =VLOOKUP(AE89,$AA$8:$AB$37,2,FALSE) -> 891 | AG89: =AE89 -> Aluno 21 | AH89: =VLOOKUP(AG89,$AA$8:$AB$37,2,FALSE) -> 891 | AI89: =AG89 -> Aluno 21 | AJ89: =VLOOKUP(AI89,$AA$8:$AB$37,2,FALSE) -> 891 | AK89: =AI89 -> Aluno 21 | AL89: =VLOOKUP(AK89,$AA$8:$AB$37,2,FALSE) -> 891 | AM89: =AK89 -> Aluno 21 | AN89: =VLOOKUP(AM89,$AA$8:$AB$37,2,FALSE) -> 891 | AO89: =AM89 -> Aluno 21 | AP89: =VLOOKUP(AO89,$AA$8:$AB$37,2,FALSE) -> 891 | AQ89: =AO89 -> Aluno 21 | AR89: =VLOOKUP(AQ89,$AA$8:$AB$37,2,FALSE) -> 891 | AS89: =AQ89 -> Aluno 21 | AT89: =VLOOKUP(AS89,$AA$8:$AB$37,2,FALSE) -> 891 | AU89: =AS89 -> Aluno 21 | AV89: =VLOOKUP(AU89,$AA$8:$AB$37,2,FALSE) -> 891 | AW89: =AU89 -> Aluno 21 | AX89: =VLOOKUP(AW89,$AA$8:$AB$37,2,FALSE) -> 891 | AY89: =AW89 -> Aluno 21 | AZ89: =VLOOKUP(AY89,$AA$8:$AB$37,2,FALSE) -> 891 | BA89: =AY89 -> Aluno 21 | BB89: =VLOOKUP(BA89,$AA$8:$AB$37,2,FALSE) -> 891 | BC89: =BA89 -> Aluno 21 | BD89: =VLOOKUP(BC89,$AA$8:$AB$37,2,FALSE) -> 891 | BE89: =BC89 -> Aluno 21 | BF89: =VLOOKUP(BE89,$AA$8:$AB$37,2,FALSE) -> 891 | BG89: =BE89 -> Aluno 21 | BH89: =VLOOKUP(BG89,$AA$8:$AB$37,2,FALSE) -> 891 | BI89: =BG89 -> Aluno 21 | BJ89: =VLOOKUP(BI89,$AA$8:$AB$37,2,FALSE) -> 891 | BK89: =BI89 -> Aluno 21 | BL89: =VLOOKUP(BK89,$AA$8:$AB$37,2,FALSE) -> 891 | BM89: =BK89 -> Aluno 21 | BN89: =VLOOKUP(BM89,$AA$8:$AB$37,2,FALSE) -> 891 | BO89: =IF(BN89<=BN69,BM89,BM69) -> Aluno 20 | BP89: =VLOOKUP(BO89,$AA$8:$AB$37,2,FALSE) -> 888 | BQ89: =BO89 -> Aluno 20 | BR89: =VLOOKUP(BQ89,$AA$8:$AB$37,2,FALSE) -> 888 | BS89: =BQ89 -> Aluno 20 | BT89: =VLOOKUP(BS89,$AA$8:$AB$37,2,FALSE) -> 888 | BU89: =BS89 -> Aluno 20 | BV89: =VLOOKUP(BU89,$AA$8:$AB$37,2,FALSE) -> 888 | BW89: =BU89 -> Aluno 20 | BX89: =VLOOKUP(BW89,$AA$8:$AB$37,2,FALSE) -> 888 | BY89: =BW89 -> Aluno 20 | BZ89: =VLOOKUP(BY89,$AA$8:$AB$37,2,FALSE) -> 888 | CA89: =BY89 -> Aluno 20 | CB89: =VLOOKUP(CA89,$AA$8:$AB$37,2,FALSE) -> 888 | CC89: =CA89 -> Aluno 20 | CD89: =VLOOKUP(CC89,$AA$8:$AB$37,2,FALSE) -> 888
AA90: =CE61 -> Aluno 22 | AB90: =CF61 -> 894 | AC90: =AA90 -> Aluno 22 | AD90: =VLOOKUP(AC90,$AA$8:$AB$37,2,FALSE) -> 894 | AE90: =AC90 -> Aluno 22 | AF90: =VLOOKUP(AE90,$AA$8:$AB$37,2,FALSE) -> 894 | AG90: =AE90 -> Aluno 22 | AH90: =VLOOKUP(AG90,$AA$8:$AB$37,2,FALSE) -> 894 | AI90: =AG90 -> Aluno 22 | AJ90: =VLOOKUP(AI90,$AA$8:$AB$37,2,FALSE) -> 894 | AK90: =AI90 -> Aluno 22 | AL90: =VLOOKUP(AK90,$AA$8:$AB$37,2,FALSE) -> 894 | AM90: =AK90 -> Aluno 22 | AN90: =VLOOKUP(AM90,$AA$8:$AB$37,2,FALSE) -> 894 | AO90: =AM90 -> Aluno 22 | AP90: =VLOOKUP(AO90,$AA$8:$AB$37,2,FALSE) -> 894 | AQ90: =AO90 -> Aluno 22 | AR90: =VLOOKUP(AQ90,$AA$8:$AB$37,2,FALSE) -> 894 | AS90: =AQ90 -> Aluno 22 | AT90: =VLOOKUP(AS90,$AA$8:$AB$37,2,FALSE) -> 894 | AU90: =AS90 -> Aluno 22 | AV90: =VLOOKUP(AU90,$AA$8:$AB$37,2,FALSE) -> 894 | AW90: =AU90 -> Aluno 22 | AX90: =VLOOKUP(AW90,$AA$8:$AB$37,2,FALSE) -> 894 | AY90: =AW90 -> Aluno 22 | AZ90: =VLOOKUP(AY90,$AA$8:$AB$37,2,FALSE) -> 894 | BA90: =AY90 -> Aluno 22 | BB90: =VLOOKUP(BA90,$AA$8:$AB$37,2,FALSE) -> 894 | BC90: =BA90 -> Aluno 22 | BD90: =VLOOKUP(BC90,$AA$8:$AB$37,2,FALSE) -> 894 | BE90: =BC90 -> Aluno 22 | BF90: =VLOOKUP(BE90,$AA$8:$AB$37,2,FALSE) -> 894 | BG90: =BE90 -> Aluno 22 | BH90: =VLOOKUP(BG90,$AA$8:$AB$37,2,FALSE) -> 894 | BI90: =BG90 -> Aluno 22 | BJ90: =VLOOKUP(BI90,$AA$8:$AB$37,2,FALSE) -> 894 | BK90: =BI90 -> Aluno 22 | BL90: =VLOOKUP(BK90,$AA$8:$AB$37,2,FALSE) -> 894 | BM90: =BK90 -> Aluno 22 | BN90: =VLOOKUP(BM90,$AA$8:$AB$37,2,FALSE) -> 894 | BO90: =BM90 -> Aluno 22 | BP90: =VLOOKUP(BO90,$AA$8:$AB$37,2,FALSE) -> 894 | BQ90: =IF(BP90<=BP69,BO90,BO69) -> Aluno 21 | BR90: =VLOOKUP(BQ90,$AA$8:$AB$37,2,FALSE) -> 891 | BS90: =BQ90 -> Aluno 21 | BT90: =VLOOKUP(BS90,$AA$8:$AB$37,2,FALSE) -> 891 | BU90: =BS90 -> Aluno 21 | BV90: =VLOOKUP(BU90,$AA$8:$AB$37,2,FALSE) -> 891 | BW90: =BU90 -> Aluno 21 | BX90: =VLOOKUP(BW90,$AA$8:$AB$37,2,FALSE) -> 891 | BY90: =BW90 -> Aluno 21 | BZ90: =VLOOKUP(BY90,$AA$8:$AB$37,2,FALSE) -> 891 | CA90: =BY90 -> Aluno 21 | CB90: =VLOOKUP(CA90,$AA$8:$AB$37,2,FALSE) -> 891 | CC90: =CA90 -> Aluno 21 | CD90: =VLOOKUP(CC90,$AA$8:$AB$37,2,FALSE) -> 891
AA91: =CE62 -> Aluno 23 | AB91: =CF62 -> 897 | AC91: =AA91 -> Aluno 23 | AD91: =VLOOKUP(AC91,$AA$8:$AB$37,2,FALSE) -> 897 | AE91: =AC91 -> Aluno 23 | AF91: =VLOOKUP(AE91,$AA$8:$AB$37,2,FALSE) -> 897 | AG91: =AE91 -> Aluno 23 | AH91: =VLOOKUP(AG91,$AA$8:$AB$37,2,FALSE) -> 897 | AI91: =AG91 -> Aluno 23 | AJ91: =VLOOKUP(AI91,$AA$8:$AB$37,2,FALSE) -> 897 | AK91: =AI91 -> Aluno 23 | AL91: =VLOOKUP(AK91,$AA$8:$AB$37,2,FALSE) -> 897 | AM91: =AK91 -> Aluno 23 | AN91: =VLOOKUP(AM91,$AA$8:$AB$37,2,FALSE) -> 897 | AO91: =AM91 -> Aluno 23 | AP91: =VLOOKUP(AO91,$AA$8:$AB$37,2,FALSE) -> 897 | AQ91: =AO91 -> Aluno 23 | AR91: =VLOOKUP(AQ91,$AA$8:$AB$37,2,FALSE) -> 897 | AS91: =AQ91 -> Aluno 23 | AT91: =VLOOKUP(AS91,$AA$8:$AB$37,2,FALSE) -> 897 | AU91: =AS91 -> Aluno 23 | AV91: =VLOOKUP(AU91,$AA$8:$AB$37,2,FALSE) -> 897 | AW91: =AU91 -> Aluno 23 | AX91: =VLOOKUP(AW91,$AA$8:$AB$37,2,FALSE) -> 897 | AY91: =AW91 -> Aluno 23 | AZ91: =VLOOKUP(AY91,$AA$8:$AB$37,2,FALSE) -> 897 | BA91: =AY91 -> Aluno 23 | BB91: =VLOOKUP(BA91,$AA$8:$AB$37,2,FALSE) -> 897 | BC91: =BA91 -> Aluno 23 | BD91: =VLOOKUP(BC91,$AA$8:$AB$37,2,FALSE) -> 897 | BE91: =BC91 -> Aluno 23 | BF91: =VLOOKUP(BE91,$AA$8:$AB$37,2,FALSE) -> 897 | BG91: =BE91 -> Aluno 23 | BH91: =VLOOKUP(BG91,$AA$8:$AB$37,2,FALSE) -> 897 | BI91: =BG91 -> Aluno 23 | BJ91: =VLOOKUP(BI91,$AA$8:$AB$37,2,FALSE) -> 897 | BK91: =BI91 -> Aluno 23 | BL91: =VLOOKUP(BK91,$AA$8:$AB$37,2,FALSE) -> 897 | BM91: =BK91 -> Aluno 23 | BN91: =VLOOKUP(BM91,$AA$8:$AB$37,2,FALSE) -> 897 | BO91: =BM91 -> Aluno 23 | BP91: =VLOOKUP(BO91,$AA$8:$AB$37,2,FALSE) -> 897 | BQ91: =BO91 -> Aluno 23 | BR91: =VLOOKUP(BQ91,$AA$8:$AB$37,2,FALSE) -> 897 | BS91: =IF(BR91<=BR69,BQ91,BQ69) -> Aluno 22 | BT91: =VLOOKUP(BS91,$AA$8:$AB$37,2,FALSE) -> 894 | BU91: =BS91 -> Aluno 22 | BV91: =VLOOKUP(BU91,$AA$8:$AB$37,2,FALSE) -> 894 | BW91: =BU91 -> Aluno 22 | BX91: =VLOOKUP(BW91,$AA$8:$AB$37,2,FALSE) -> 894 | BY91: =BW91 -> Aluno 22 | BZ91: =VLOOKUP(BY91,$AA$8:$AB$37,2,FALSE) -> 894 | CA91: =BY91 -> Aluno 22 | CB91: =VLOOKUP(CA91,$AA$8:$AB$37,2,FALSE) -> 894 | CC91: =CA91 -> Aluno 22 | CD91: =VLOOKUP(CC91,$AA$8:$AB$37,2,FALSE) -> 894
AA92: =CE63 -> Aluno 24 | AB92: =CF63 -> 900 | AC92: =AA92 -> Aluno 24 | AD92: =VLOOKUP(AC92,$AA$8:$AB$37,2,FALSE) -> 900 | AE92: =AC92 -> Aluno 24 | AF92: =VLOOKUP(AE92,$AA$8:$AB$37,2,FALSE) -> 900 | AG92: =AE92 -> Aluno 24 | AH92: =VLOOKUP(AG92,$AA$8:$AB$37,2,FALSE) -> 900 | AI92: =AG92 -> Aluno 24 | AJ92: =VLOOKUP(AI92,$AA$8:$AB$37,2,FALSE) -> 900 | AK92: =AI92 -> Aluno 24 | AL92: =VLOOKUP(AK92,$AA$8:$AB$37,2,FALSE) -> 900 | AM92: =AK92 -> Aluno 24 | AN92: =VLOOKUP(AM92,$AA$8:$AB$37,2,FALSE) -> 900 | AO92: =AM92 -> Aluno 24 | AP92: =VLOOKUP(AO92,$AA$8:$AB$37,2,FALSE) -> 900 | AQ92: =AO92 -> Aluno 24 | AR92: =VLOOKUP(AQ92,$AA$8:$AB$37,2,FALSE) -> 900 | AS92: =AQ92 -> Aluno 24 | AT92: =VLOOKUP(AS92,$AA$8:$AB$37,2,FALSE) -> 900 | AU92: =AS92 -> Aluno 24 | AV92: =VLOOKUP(AU92,$AA$8:$AB$37,2,FALSE) -> 900 | AW92: =AU92 -> Aluno 24 | AX92: =VLOOKUP(AW92,$AA$8:$AB$37,2,FALSE) -> 900 | AY92: =AW92 -> Aluno 24 | AZ92: =VLOOKUP(AY92,$AA$8:$AB$37,2,FALSE) -> 900 | BA92: =AY92 -> Aluno 24 | BB92: =VLOOKUP(BA92,$AA$8:$AB$37,2,FALSE) -> 900 | BC92: =BA92 -> Aluno 24 | BD92: =VLOOKUP(BC92,$AA$8:$AB$37,2,FALSE) -> 900 | BE92: =BC92 -> Aluno 24 | BF92: =VLOOKUP(BE92,$AA$8:$AB$37,2,FALSE) -> 900 | BG92: =BE92 -> Aluno 24 | BH92: =VLOOKUP(BG92,$AA$8:$AB$37,2,FALSE) -> 900 | BI92: =BG92 -> Aluno 24 | BJ92: =VLOOKUP(BI92,$AA$8:$AB$37,2,FALSE) -> 900 | BK92: =BI92 -> Aluno 24 | BL92: =VLOOKUP(BK92,$AA$8:$AB$37,2,FALSE) -> 900 | BM92: =BK92 -> Aluno 24 | BN92: =VLOOKUP(BM92,$AA$8:$AB$37,2,FALSE) -> 900 | BO92: =BM92 -> Aluno 24 | BP92: =VLOOKUP(BO92,$AA$8:$AB$37,2,FALSE) -> 900 | BQ92: =BO92 -> Aluno 24 | BR92: =VLOOKUP(BQ92,$AA$8:$AB$37,2,FALSE) -> 900 | BS92: =BQ92 -> Aluno 24 | BT92: =VLOOKUP(BS92,$AA$8:$AB$37,2,FALSE) -> 900 | BU92: =IF(BT92<=BT69,BS92,BS69) -> Aluno 23 | BV92: =VLOOKUP(BU92,$AA$8:$AB$37,2,FALSE) -> 897 | BW92: =BU92 -> Aluno 23 | BX92: =VLOOKUP(BW92,$AA$8:$AB$37,2,FALSE) -> 897 | BY92: =BW92 -> Aluno 23 | BZ92: =VLOOKUP(BY92,$AA$8:$AB$37,2,FALSE) -> 897 | CA92: =BY92 -> Aluno 23 | CB92: =VLOOKUP(CA92,$AA$8:$AB$37,2,FALSE) -> 897 | CC92: =CA92 -> Aluno 23 | CD92: =VLOOKUP(CC92,$AA$8:$AB$37,2,FALSE) -> 897
AA93: =CE64 -> Aluno 25 | AB93: =CF64 -> 903 | AC93: =AA93 -> Aluno 25 | AD93: =VLOOKUP(AC93,$AA$8:$AB$37,2,FALSE) -> 903 | AE93: =AC93 -> Aluno 25 | AF93: =VLOOKUP(AE93,$AA$8:$AB$37,2,FALSE) -> 903 | AG93: =AE93 -> Aluno 25 | AH93: =VLOOKUP(AG93,$AA$8:$AB$37,2,FALSE) -> 903 | AI93: =AG93 -> Aluno 25 | AJ93: =VLOOKUP(AI93,$AA$8:$AB$37,2,FALSE) -> 903 | AK93: =AI93 -> Aluno 25 | AL93: =VLOOKUP(AK93,$AA$8:$AB$37,2,FALSE) -> 903 | AM93: =AK93 -> Aluno 25 | AN93: =VLOOKUP(AM93,$AA$8:$AB$37,2,FALSE) -> 903 | AO93: =AM93 -> Aluno 25 | AP93: =VLOOKUP(AO93,$AA$8:$AB$37,2,FALSE) -> 903 | AQ93: =AO93 -> Aluno 25 | AR93: =VLOOKUP(AQ93,$AA$8:$AB$37,2,FALSE) -> 903 | AS93: =AQ93 -> Aluno 25 | AT93: =VLOOKUP(AS93,$AA$8:$AB$37,2,FALSE) -> 903 | AU93: =AS93 -> Aluno 25 | AV93: =VLOOKUP(AU93,$AA$8:$AB$37,2,FALSE) -> 903 | AW93: =AU93 -> Aluno 25 | AX93: =VLOOKUP(AW93,$AA$8:$AB$37,2,FALSE) -> 903 | AY93: =AW93 -> Aluno 25 | AZ93: =VLOOKUP(AY93,$AA$8:$AB$37,2,FALSE) -> 903 | BA93: =AY93 -> Aluno 25 | BB93: =VLOOKUP(BA93,$AA$8:$AB$37,2,FALSE) -> 903 | BC93: =BA93 -> Aluno 25 | BD93: =VLOOKUP(BC93,$AA$8:$AB$37,2,FALSE) -> 903 | BE93: =BC93 -> Aluno 25 | BF93: =VLOOKUP(BE93,$AA$8:$AB$37,2,FALSE) -> 903 | BG93: =BE93 -> Aluno 25 | BH93: =VLOOKUP(BG93,$AA$8:$AB$37,2,FALSE) -> 903 | BI93: =BG93 -> Aluno 25 | BJ93: =VLOOKUP(BI93,$AA$8:$AB$37,2,FALSE) -> 903 | BK93: =BI93 -> Aluno 25 | BL93: =VLOOKUP(BK93,$AA$8:$AB$37,2,FALSE) -> 903 | BM93: =BK93 -> Aluno 25 | BN93: =VLOOKUP(BM93,$AA$8:$AB$37,2,FALSE) -> 903 | BO93: =BM93 -> Aluno 25 | BP93: =VLOOKUP(BO93,$AA$8:$AB$37,2,FALSE) -> 903 | BQ93: =BO93 -> Aluno 25 | BR93: =VLOOKUP(BQ93,$AA$8:$AB$37,2,FALSE) -> 903 | BS93: =BQ93 -> Aluno 25 | BT93: =VLOOKUP(BS93,$AA$8:$AB$37,2,FALSE) -> 903 | BU93: =BS93 -> Aluno 25 | BV93: =VLOOKUP(BU93,$AA$8:$AB$37,2,FALSE) -> 903 | BW93: =IF(BV93<=BV69,BU93,BU69) -> Aluno 24 | BX93: =VLOOKUP(BW93,$AA$8:$AB$37,2,FALSE) -> 900 | BY93: =BW93 -> Aluno 24 | BZ93: =VLOOKUP(BY93,$AA$8:$AB$37,2,FALSE) -> 900 | CA93: =BY93 -> Aluno 24 | CB93: =VLOOKUP(CA93,$AA$8:$AB$37,2,FALSE) -> 900 | CC93: =CA93 -> Aluno 24 | CD93: =VLOOKUP(CC93,$AA$8:$AB$37,2,FALSE) -> 900
